BEGIN:VCALENDAR
VERSION:2.0
PRODID:-//Gemeinde Wuerflach - ECPv6.15.19//NONSGML v1.0//EN
CALSCALE:GREGORIAN
METHOD:PUBLISH
X-ORIGINAL-URL:https://www.wuerflach.at
X-WR-CALDESC:Veranstaltungen für Gemeinde Wuerflach
REFRESH-INTERVAL;VALUE=DURATION:PT1H
X-Robots-Tag:noindex
X-PUBLISHED-TTL:PT1H
BEGIN:VTIMEZONE
TZID:Europe/Vienna
BEGIN:DAYLIGHT
TZOFFSETFROM:+0100
TZOFFSETTO:+0200
TZNAME:CEST
DTSTART:20250330T010000
END:DAYLIGHT
BEGIN:STANDARD
TZOFFSETFROM:+0200
TZOFFSETTO:+0100
TZNAME:CET
DTSTART:20251026T010000
END:STANDARD
BEGIN:DAYLIGHT
TZOFFSETFROM:+0100
TZOFFSETTO:+0200
TZNAME:CEST
DTSTART:20260329T010000
END:DAYLIGHT
BEGIN:STANDARD
TZOFFSETFROM:+0200
TZOFFSETTO:+0100
TZNAME:CET
DTSTART:20261025T010000
END:STANDARD
BEGIN:DAYLIGHT
TZOFFSETFROM:+0100
TZOFFSETTO:+0200
TZNAME:CEST
DTSTART:20270328T010000
END:DAYLIGHT
BEGIN:STANDARD
TZOFFSETFROM:+0200
TZOFFSETTO:+0100
TZNAME:CET
DTSTART:20271031T010000
END:STANDARD
END:VTIMEZONE
BEGIN:VEVENT
DTSTART;TZID=Europe/Vienna:20261102T180000
DTEND;TZID=Europe/Vienna:20261102T180000
DTSTAMP:20260422T114549
CREATED:20260120T201345Z
LAST-MODIFIED:20260120T201345Z
UID:22998318-1793642400-1793642400@www.wuerflach.at
SUMMARY:Allerseelen
DESCRIPTION:18:00 Uhr Allerseelenrequiem mit gregorianischem Choral \n 
URL:https://www.wuerflach.at/event/allerseelen-3/
LOCATION:Pfarrkirche Würflach
CATEGORIES:Pfarre / religiöse Termine
ORGANIZER;CN="Pfarre W%C3%BCrflach":MAILTO:pfarre.wuerflach@katholischekirche.at
END:VEVENT
BEGIN:VEVENT
DTSTART;TZID=Europe/Vienna:20261103T140000
DTEND;TZID=Europe/Vienna:20261103T140000
DTSTAMP:20260422T114549
CREATED:20260208T063830Z
LAST-MODIFIED:20260208T063830Z
UID:22998731-1793714400-1793714400@www.wuerflach.at
SUMMARY:Wanderung - Senioren Würflach
DESCRIPTION:Wanderung\, 14:00 Uhr\nSenioren Würflach
URL:https://www.wuerflach.at/event/wanderung-senioren-wuerflach-2/
CATEGORIES:Sport / Bewegung
ORGANIZER;CN="Senioren W%C3%BCrflach - Obmann Hans Schauer":MAILTO:schauerh@aon.at
END:VEVENT
BEGIN:VEVENT
DTSTART;TZID=Europe/Vienna:20261107T133000
DTEND;TZID=Europe/Vienna:20261107T133000
DTSTAMP:20260422T114549
CREATED:20260120T201500Z
LAST-MODIFIED:20260120T201500Z
UID:22998320-1794058200-1794058200@www.wuerflach.at
SUMMARY:Hubertusandacht beim Jägermarterl in Hettmannsdorf
DESCRIPTION:Hubertusandacht beim Jägermarterl in Hettmannsdorf – 13:30 Uhr\nJagdgesellschaft Hettmannsdorf \n 
URL:https://www.wuerflach.at/event/hubertusandacht-beim-jaegermarterl-in-hettmannsdorf-3/
CATEGORIES:Sonstige
END:VEVENT
BEGIN:VEVENT
DTSTART;VALUE=DATE:20261109
DTEND;VALUE=DATE:20261110
DTSTAMP:20260422T114549
CREATED:20251103T204055Z
LAST-MODIFIED:20251103T204055Z
UID:22997875-1794182400-1794268799@www.wuerflach.at
SUMMARY:Biotonnen
DESCRIPTION:Alle Tonnen bitte bis 6:30 Uhr vor Ihrer Liegenschaft bereitstellen!
URL:https://www.wuerflach.at/event/biotonnen-41/
CATEGORIES:Biotonne
END:VEVENT
BEGIN:VEVENT
DTSTART;TZID=Europe/Vienna:20261112T110000
DTEND;TZID=Europe/Vienna:20261112T110000
DTSTAMP:20260422T114549
CREATED:20260208T064100Z
LAST-MODIFIED:20260208T064100Z
UID:22998733-1794481200-1794481200@www.wuerflach.at
SUMMARY:Ganslessen in Bad Waltersdorf - Pensionistenverband Würflach
DESCRIPTION:Ganslessen und Besuch der Bürstenmanufaktur Mattersburg – 11:00 Uhr –\nPensionistenverband Würflach \n 
URL:https://www.wuerflach.at/event/ganslessen-in-bad-waltersdorf-pensionistenverband-wuerflach-2/
CATEGORIES:Ausflug / Ausfahrt / Reise
END:VEVENT
BEGIN:VEVENT
DTSTART;TZID=Europe/Vienna:20261113T180000
DTEND;TZID=Europe/Vienna:20261113T180000
DTSTAMP:20260422T114549
CREATED:20260208T064359Z
LAST-MODIFIED:20260208T064359Z
UID:22998735-1794592800-1794592800@www.wuerflach.at
SUMMARY:Pflege "leicht" - Gesunde Gemeinde
DESCRIPTION:Vortrag – Pflege „leicht“ – Vorbeugen und Lebensqualität erhalten\,\n18:00 Uhr im Sitzungssaal;   Gesunde Gemeinde\nNähere Angaben folgen!
URL:https://www.wuerflach.at/event/pflege-leicht-gesunde-gemeinde/
LOCATION:Sitzungssaal der Gemeinde (Eingang im Hinterhof)\, Willendorfer Straße 150\, Würflach\, NÖ\, 2732
CATEGORIES:Heuriger / Kulinarik
END:VEVENT
BEGIN:VEVENT
DTSTART;TZID=Europe/Vienna:20261119T150000
DTEND;TZID=Europe/Vienna:20261119T150000
DTSTAMP:20260422T114549
CREATED:20260208T064521Z
LAST-MODIFIED:20260208T064521Z
UID:22998737-1795100400-1795100400@www.wuerflach.at
SUMMARY:Seniorenplauscherl
DESCRIPTION:Seniorenplauscherl 15:00 Uhr –\nWürflacher Senioren\n(Ort wird noch bekannt gegeben!)
URL:https://www.wuerflach.at/event/seniorenplauscherl-2/
CATEGORIES:Sonstige
ORGANIZER;CN="Senioren W%C3%BCrflach - Obmann Hans Schauer":MAILTO:schauerh@aon.at
END:VEVENT
BEGIN:VEVENT
DTSTART;TZID=Europe/Vienna:20261120T090000
DTEND;TZID=Europe/Vienna:20261120T180000
DTSTAMP:20260422T114549
CREATED:20260120T204100Z
LAST-MODIFIED:20260120T204100Z
UID:22998338-1795165200-1795197600@www.wuerflach.at
SUMMARY:Weihnachtsmarkt – Fa. Schauer\, tägl. 9:00 – 18:00 im GH Seewald
DESCRIPTION:Weihnachtsmarkt der Fa. Schauer im Gasthaus Seewald.
URL:https://www.wuerflach.at/event/weihnachtsmarkt-fa-schauer-taegl-900-1800-im-gh-seewald-7/
LOCATION:Gasthaus Seewald\, Hettmannsdorfer Str. 30\, Würflach\, NÖ\, 2732\, Österreich
CATEGORIES:Sonstige
ORGANIZER;CN="Fa. Schauer":MAILTO:hansschauer@malerei-schauer.at
END:VEVENT
BEGIN:VEVENT
DTSTART;TZID=Europe/Vienna:20261121T090000
DTEND;TZID=Europe/Vienna:20261121T180000
DTSTAMP:20260422T114549
CREATED:20260120T204149Z
LAST-MODIFIED:20260120T204149Z
UID:22998340-1795251600-1795284000@www.wuerflach.at
SUMMARY:Weihnachtsmarkt – Fa. Schauer\, tägl. 9:00 – 18:00 im GH Seewald
DESCRIPTION:Weihnachtsmarkt der Fa. Schauer im Gasthaus Seewald.
URL:https://www.wuerflach.at/event/weihnachtsmarkt-fa-schauer-taegl-900-1800-im-gh-seewald-8/
LOCATION:Gasthaus Seewald\, Hettmannsdorfer Str. 30\, Würflach\, NÖ\, 2732\, Österreich
CATEGORIES:Sonstige
ORGANIZER;CN="Fa. Schauer":MAILTO:hansschauer@malerei-schauer.at
END:VEVENT
BEGIN:VEVENT
DTSTART;TZID=Europe/Vienna:20261122T090000
DTEND;TZID=Europe/Vienna:20261122T180000
DTSTAMP:20260422T114549
CREATED:20260120T204229Z
LAST-MODIFIED:20260120T204229Z
UID:22998342-1795338000-1795370400@www.wuerflach.at
SUMMARY:Weihnachtsmarkt – Fa. Schauer\, tägl. 9:00 – 18:00 im GH Seewald
DESCRIPTION:Weihnachtsmarkt der Fa. Schauer im Gasthaus Seewald.
URL:https://www.wuerflach.at/event/weihnachtsmarkt-fa-schauer-taegl-900-1800-im-gh-seewald-9/
LOCATION:Gasthaus Seewald\, Hettmannsdorfer Str. 30\, Würflach\, NÖ\, 2732\, Österreich
CATEGORIES:Sonstige
ORGANIZER;CN="Fa. Schauer":MAILTO:hansschauer@malerei-schauer.at
END:VEVENT
BEGIN:VEVENT
DTSTART;VALUE=DATE:20261123
DTEND;VALUE=DATE:20261124
DTSTAMP:20260422T114549
CREATED:20251103T201532Z
LAST-MODIFIED:20251103T201532Z
UID:22997817-1795392000-1795478399@www.wuerflach.at
SUMMARY:Restmüll
DESCRIPTION:Alle Restmüllsäcke (gut zugebunden) bitte bis 6:30 Uhr vor Ihrer Liegenschaft bereitstellen!
URL:https://www.wuerflach.at/event/restmuell-25/
CATEGORIES:RMS Restmüllsäcke
END:VEVENT
BEGIN:VEVENT
DTSTART;VALUE=DATE:20261125
DTEND;VALUE=DATE:20261126
DTSTAMP:20260422T114549
CREATED:20251103T205144Z
LAST-MODIFIED:20251103T205145Z
UID:22997901-1795564800-1795651199@www.wuerflach.at
SUMMARY:Gelber Sack
DESCRIPTION:ACHTUNG MITTWOCH!!!\nAlle gelben Säcke (gut zugebunden) bitte bis 6:30 Uhr vor Ihrer Liegenschaft bereitstellen!
URL:https://www.wuerflach.at/event/gelber-sack-25/
CATEGORIES:gelber Sack
END:VEVENT
BEGIN:VEVENT
DTSTART;TZID=Europe/Vienna:20261126T130000
DTEND;TZID=Europe/Vienna:20261126T130000
DTSTAMP:20260422T114549
CREATED:20260209T165544Z
LAST-MODIFIED:20260209T165544Z
UID:22998743-1795698000-1795698000@www.wuerflach.at
SUMMARY:Halbtagesfahrt - PV
DESCRIPTION:Halbtagesfahrt – das Ziel wird noch bekannt gegeben – 11:00 Uhr\nPensionistenverband Würflach \n 
URL:https://www.wuerflach.at/event/halbtagesfahrt-pv/
CATEGORIES:Ausflug / Ausfahrt / Reise
END:VEVENT
BEGIN:VEVENT
DTSTART;TZID=Europe/Vienna:20261129T090000
DTEND;TZID=Europe/Vienna:20261129T090000
DTSTAMP:20260422T114549
CREATED:20260120T201606Z
LAST-MODIFIED:20260120T201606Z
UID:22998322-1795942800-1795942800@www.wuerflach.at
SUMMARY:1. Adventsonntag
DESCRIPTION:9:00 Uhr – hl. Messe mit Segnung der Adventkränze \n 
URL:https://www.wuerflach.at/event/1-adventsonntag-4/
LOCATION:Pfarrkirche Würflach
CATEGORIES:Pfarre / religiöse Termine
ORGANIZER;CN="Pfarre W%C3%BCrflach":MAILTO:pfarre.wuerflach@katholischekirche.at
END:VEVENT
BEGIN:VEVENT
DTSTART;TZID=Europe/Vienna:20261129T143000
DTEND;TZID=Europe/Vienna:20261129T143000
DTSTAMP:20260422T114549
CREATED:20260209T165854Z
LAST-MODIFIED:20260209T165854Z
UID:22998747-1795962600-1795962600@www.wuerflach.at
SUMMARY:Gemeinde Seniorentag - Senioren Würflach
DESCRIPTION:Gemeinde Seniorentag mit Adventfeier\, 14:30 Uhr im Gasthaus Seewald
URL:https://www.wuerflach.at/event/gemeinde-seniorentag-senioren-wuerflach/
LOCATION:Gasthaus Seewald\, Hettmannsdorfer Str. 30\, Würflach\, NÖ\, 2732\, Österreich
CATEGORIES:Sonstige
ORGANIZER;CN="Senioren W%C3%BCrflach - Obmann Hans Schauer":MAILTO:schauerh@aon.at
END:VEVENT
BEGIN:VEVENT
DTSTART;TZID=Europe/Vienna:20261129T150000
DTEND;TZID=Europe/Vienna:20261129T200000
DTSTAMP:20260422T114549
CREATED:20260209T170013Z
LAST-MODIFIED:20260209T170013Z
UID:22998749-1795964400-1795982400@www.wuerflach.at
SUMMARY:kleiner Advent der Bürgerliste
DESCRIPTION:„kleiner Advent“  im Akazienhof\, 15:00-20:00 Uhr\, Gemeinsam für Würflach / unabhängige Bürgerliste \n 
URL:https://www.wuerflach.at/event/kleiner-advent-der-buergerliste/
LOCATION:Akazienhof\, Neunkirchner Str. 104\, Würflach\, 2732
CATEGORIES:Heuriger / Kulinarik
ORGANIZER;CN="Gemeinsam f%C3%BCr W%C3%BCrflach (unabh%C3%A4ngige B%C3%BCrgerliste)":MAILTO:gemeinsam@wuerflach.info
END:VEVENT
BEGIN:VEVENT
DTSTART;TZID=Europe/Vienna:20261204T163000
DTEND;TZID=Europe/Vienna:20261204T163000
DTSTAMP:20260422T114549
CREATED:20260209T170201Z
LAST-MODIFIED:20260209T170201Z
UID:22998751-1796401800-1796401800@www.wuerflach.at
SUMMARY:Nikolausbesuch beim Feuerwehrhaus
DESCRIPTION:Der Nikolaus kommt –  16:30 Uhr zum Feuerwehrhaus \nÖAAB
URL:https://www.wuerflach.at/event/nikolausbesuch-beim-feuerwehrhaus/
LOCATION:Feuerwehr-Gerätehaus\, Neunkirchner Str. 85\, Würflach\, Austria (+43)\, 2732\, Österreich
CATEGORIES:Brauchtum
END:VEVENT
BEGIN:VEVENT
DTSTART;TZID=Europe/Vienna:20261205T140000
DTEND;TZID=Europe/Vienna:20261205T140000
DTSTAMP:20260422T114549
CREATED:20260209T170654Z
LAST-MODIFIED:20260209T171103Z
UID:22998761-1796479200-1796479200@www.wuerflach.at
SUMMARY:Bücherflohmarkt - beim Advent in der Johannesbachklamm
DESCRIPTION:Bücherflohmarkt beim Advent in der Johannesbachklamm\ntäglich 5.-8.12.2026 ab 14:00 Uhr
URL:https://www.wuerflach.at/event/buecherflohmarkt-beim-advent-in-der-johannesbachklamm/
LOCATION:Festplatz – Johannesbachklamm\, Klammgasse\, Würflach\, NÖ\, 2732
CATEGORIES:Lesung
ORGANIZER;CN="Gemeinde W%C3%BCrflach (Kulturspan) u. Katharina Resch":MAILTO:katharina.e.resch@gmail.com
END:VEVENT
BEGIN:VEVENT
DTSTART;TZID=Europe/Vienna:20261205T140000
DTEND;TZID=Europe/Vienna:20261205T200000
DTSTAMP:20260422T114549
CREATED:20260209T170316Z
LAST-MODIFIED:20260215T092302Z
UID:22998753-1796479200-1796500800@www.wuerflach.at
SUMMARY:Advent in der Johannesbachklamm
DESCRIPTION:Advent in der Johannesbachklamm –\nvon Samstag\, 5.12. bis Dienstag\, 8.12 – täglich ab 14:00 Uhr – bis mind. 20:00 Uhr \n 
URL:https://www.wuerflach.at/event/advent-in-der-johannesbachklamm/
LOCATION:Festplatz – Johannesbachklamm\, Klammgasse\, Würflach\, NÖ\, 2732
CATEGORIES:Sonstige
END:VEVENT
BEGIN:VEVENT
DTSTART;TZID=Europe/Vienna:20261206T140000
DTEND;TZID=Europe/Vienna:20261206T140000
DTSTAMP:20260422T114549
CREATED:20260209T170744Z
LAST-MODIFIED:20260209T171137Z
UID:22998763-1796565600-1796565600@www.wuerflach.at
SUMMARY:Bücherflohmarkt - beim Advent in der Johannesbachklamm
DESCRIPTION:Bücherflohmarkt beim Advent in der Johannesbachklamm\ntäglich 5.-8.12.2026 ab 14:00 Uhr
URL:https://www.wuerflach.at/event/buecherflohmarkt-beim-advent-in-der-johannesbachklamm-2/
LOCATION:Festplatz – Johannesbachklamm\, Klammgasse\, Würflach\, NÖ\, 2732
CATEGORIES:Lesung
ORGANIZER;CN="Gemeinde W%C3%BCrflach (Kulturspan) u. Katharina Resch":MAILTO:katharina.e.resch@gmail.com
END:VEVENT
BEGIN:VEVENT
DTSTART;TZID=Europe/Vienna:20261206T140000
DTEND;TZID=Europe/Vienna:20261206T200000
DTSTAMP:20260422T114549
CREATED:20260209T170358Z
LAST-MODIFIED:20260215T092503Z
UID:22998755-1796565600-1796587200@www.wuerflach.at
SUMMARY:Advent in der Johannesbachklamm
DESCRIPTION:Advent in der Johannesbachklamm –\nvon Samstag\, 5.12. bis Dienstag\, 8.12 – täglich ab 14:00 Uhr – bis mind. 20:00 Uhr \n 
URL:https://www.wuerflach.at/event/advent-in-der-johannesbachklamm-2/
LOCATION:Festplatz – Johannesbachklamm\, Klammgasse\, Würflach\, NÖ\, 2732
CATEGORIES:Sonstige
END:VEVENT
BEGIN:VEVENT
DTSTART;VALUE=DATE:20261207
DTEND;VALUE=DATE:20261208
DTSTAMP:20260422T114549
CREATED:20251103T204128Z
LAST-MODIFIED:20251103T204128Z
UID:22997877-1796601600-1796687999@www.wuerflach.at
SUMMARY:Biotonnen
DESCRIPTION:Alle Tonnen bitte bis 6:30 Uhr vor Ihrer Liegenschaft bereitstellen!
URL:https://www.wuerflach.at/event/biotonnen-42/
CATEGORIES:Biotonne
END:VEVENT
BEGIN:VEVENT
DTSTART;TZID=Europe/Vienna:20261207T140000
DTEND;TZID=Europe/Vienna:20261207T140000
DTSTAMP:20260422T114549
CREATED:20260209T170910Z
LAST-MODIFIED:20260209T171030Z
UID:22998765-1796652000-1796652000@www.wuerflach.at
SUMMARY:Bücherflohmarkt - beim Advent in der Johannesbachklamm
DESCRIPTION:Bücherflohmarkt beim Advent in der Johannesbachklamm\ntäglich 5.-8.12.2026 ab 14:00 Uhr
URL:https://www.wuerflach.at/event/buecherflohmarkt-beim-advent-in-der-johannesbachklamm-3/
LOCATION:Festplatz – Johannesbachklamm\, Klammgasse\, Würflach\, NÖ\, 2732
CATEGORIES:Lesung
ORGANIZER;CN="Gemeinde W%C3%BCrflach (Kulturspan) u. Katharina Resch":MAILTO:katharina.e.resch@gmail.com
END:VEVENT
BEGIN:VEVENT
DTSTART;TZID=Europe/Vienna:20261207T140000
DTEND;TZID=Europe/Vienna:20261207T200000
DTSTAMP:20260422T114549
CREATED:20260209T170437Z
LAST-MODIFIED:20260215T092728Z
UID:22998757-1796652000-1796673600@www.wuerflach.at
SUMMARY:Advent in der Johannesbachklamm
DESCRIPTION:Advent in der Johannesbachklamm –\nvon Samstag\, 5.12. bis Dienstag\, 8.12 – täglich ab 14:00 Uhr – bis mind. 20:00 Uhr \n 
URL:https://www.wuerflach.at/event/advent-in-der-johannesbachklamm-3/
LOCATION:Festplatz – Johannesbachklamm\, Klammgasse\, Würflach\, NÖ\, 2732
CATEGORIES:Sonstige
END:VEVENT
BEGIN:VEVENT
DTSTART;TZID=Europe/Vienna:20261208T140000
DTEND;TZID=Europe/Vienna:20261208T140000
DTSTAMP:20260422T114549
CREATED:20260209T170957Z
LAST-MODIFIED:20260209T170957Z
UID:22998766-1796738400-1796738400@www.wuerflach.at
SUMMARY:Bücherflohmarkt - beim Advent in der Johannesbachklamm
DESCRIPTION:Bücherflohmarkt beim Advent in der Johannesbachklamm\ntäglich 5.-8.12.2026 ab 14:00 Uhr
URL:https://www.wuerflach.at/event/buecherflohmarkt-beim-advent-in-der-johannesbachklamm-4/
LOCATION:Festplatz – Johannesbachklamm\, Klammgasse\, Würflach\, NÖ\, 2732
CATEGORIES:Lesung
ORGANIZER;CN="Gemeinde W%C3%BCrflach (Kulturspan) u. Katharina Resch":MAILTO:katharina.e.resch@gmail.com
END:VEVENT
BEGIN:VEVENT
DTSTART;TZID=Europe/Vienna:20261208T140000
DTEND;TZID=Europe/Vienna:20261208T200000
DTSTAMP:20260422T114549
CREATED:20260209T170518Z
LAST-MODIFIED:20260215T092834Z
UID:22998759-1796738400-1796760000@www.wuerflach.at
SUMMARY:Advent in der Johannesbachklamm
DESCRIPTION:Advent in der Johannesbachklamm –\nvon Samstag\, 5.12. bis Dienstag\, 8.12 – täglich ab 14:00 Uhr – bis mind. 20:00 Uhr \n 
URL:https://www.wuerflach.at/event/advent-in-der-johannesbachklamm-4/
LOCATION:Festplatz – Johannesbachklamm\, Klammgasse\, Würflach\, NÖ\, 2732
CATEGORIES:Sonstige
END:VEVENT
BEGIN:VEVENT
DTSTART;TZID=Europe/Vienna:20261212T090000
DTEND;TZID=Europe/Vienna:20261212T130000
DTSTAMP:20260422T114549
CREATED:20260209T171302Z
LAST-MODIFIED:20260209T171302Z
UID:22998769-1797066000-1797080400@www.wuerflach.at
SUMMARY:Wichtelwerkstatt der Bürgerliste
DESCRIPTION:„Wichtelwerkstatt“  im Akazienhof\, 9-13:00 Uhr\, Gemeinsam für Würflach / unabhängige Bürgerliste \n 
URL:https://www.wuerflach.at/event/wichtelwerkstatt-der-buergerliste/
LOCATION:Akazienhof\, Neunkirchner Str. 104\, Würflach\, 2732
CATEGORIES:Heuriger / Kulinarik
ORGANIZER;CN="Gemeinsam f%C3%BCr W%C3%BCrflach (unabh%C3%A4ngige B%C3%BCrgerliste)":MAILTO:gemeinsam@wuerflach.info
END:VEVENT
BEGIN:VEVENT
DTSTART;TZID=Europe/Vienna:20261218T090000
DTEND;TZID=Europe/Vienna:20261218T180000
DTSTAMP:20260422T114549
CREATED:20260120T212348Z
LAST-MODIFIED:20260120T212921Z
UID:22998428-1797584400-1797616800@www.wuerflach.at
SUMMARY:Bauern- u. Weihnachtsmarkt bei Fam. Woltron
DESCRIPTION:  \n 
URL:https://www.wuerflach.at/event/bauern-u-weihnachtsmarkt-bei-fam-woltron-5/
LOCATION:Heurigenlokal – Fam. Woltron\, Bogengasse 106\, Würflach\, NÖ\, 2732
CATEGORIES:Heuriger / Kulinarik
ORGANIZER;CN="Familie Woltron":MAILTO:urlaub@bauernhof-woltron.at
END:VEVENT
BEGIN:VEVENT
DTSTART;TZID=Europe/Vienna:20261218T180000
DTEND;TZID=Europe/Vienna:20261218T180000
DTSTAMP:20260422T114549
CREATED:20260209T171449Z
LAST-MODIFIED:20260310T073540Z
UID:22998771-1797616800-1797616800@www.wuerflach.at
SUMMARY:Les´n und Los´n - Lesung in der Bücherei
DESCRIPTION:18:00 Uhr Lesung in der Gemeindebücherei\nAuf Ihr Kommen freut sich das Team\nder Gemeindebücherei Würflach! \n 
URL:https://www.wuerflach.at/event/lesn-und-losn-lesung-in-der-buecherei-2/
LOCATION:Gemeindebücherei Würflach\, Willendorfer Str. 150\, Gemeinde Würflach\, 2732\, Österreich
CATEGORIES:Lesung
ORGANIZER;CN="B%C3%BCcherei W%C3%BCrflach":MAILTO:buecherei@wuerflach.at
END:VEVENT
BEGIN:VEVENT
DTSTART;TZID=Europe/Vienna:20261219T000000
DTEND;TZID=Europe/Vienna:20261219T000000
DTSTAMP:20260422T114549
CREATED:20260209T171832Z
LAST-MODIFIED:20260209T171832Z
UID:22998777-1797638400-1797638400@www.wuerflach.at
SUMMARY:Weihnachtliches Konzert unseres Musikvereins
DESCRIPTION:  \n \nWeihnachtliches Konzert in der Pfarrkirche\nNähere Angaben folgen.\nMusikverein Hettmannsdorf-Würflach \n  \n 
URL:https://www.wuerflach.at/event/weihnachtliches-konzert-unseres-musikvereins/
CATEGORIES:Kulturveranstaltung
END:VEVENT
END:VCALENDAR