BEGIN:VCALENDAR
VERSION:2.0
PRODID:-//Gemeinde Wuerflach - ECPv6.15.19//NONSGML v1.0//EN
CALSCALE:GREGORIAN
METHOD:PUBLISH
X-WR-CALNAME:Gemeinde Wuerflach
X-ORIGINAL-URL:https://www.wuerflach.at
X-WR-CALDESC:Veranstaltungen für Gemeinde Wuerflach
REFRESH-INTERVAL;VALUE=DURATION:PT1H
X-Robots-Tag:noindex
X-PUBLISHED-TTL:PT1H
BEGIN:VTIMEZONE
TZID:Europe/Vienna
BEGIN:DAYLIGHT
TZOFFSETFROM:+0100
TZOFFSETTO:+0200
TZNAME:CEST
DTSTART:20250330T010000
END:DAYLIGHT
BEGIN:STANDARD
TZOFFSETFROM:+0200
TZOFFSETTO:+0100
TZNAME:CET
DTSTART:20251026T010000
END:STANDARD
BEGIN:DAYLIGHT
TZOFFSETFROM:+0100
TZOFFSETTO:+0200
TZNAME:CEST
DTSTART:20260329T010000
END:DAYLIGHT
BEGIN:STANDARD
TZOFFSETFROM:+0200
TZOFFSETTO:+0100
TZNAME:CET
DTSTART:20261025T010000
END:STANDARD
BEGIN:DAYLIGHT
TZOFFSETFROM:+0100
TZOFFSETTO:+0200
TZNAME:CEST
DTSTART:20270328T010000
END:DAYLIGHT
BEGIN:STANDARD
TZOFFSETFROM:+0200
TZOFFSETTO:+0100
TZNAME:CET
DTSTART:20271031T010000
END:STANDARD
END:VTIMEZONE
BEGIN:VEVENT
DTSTART;TZID=Europe/Vienna:20261204T163000
DTEND;TZID=Europe/Vienna:20261204T163000
DTSTAMP:20260422T005510
CREATED:20260209T170201Z
LAST-MODIFIED:20260209T170201Z
UID:22998751-1796401800-1796401800@www.wuerflach.at
SUMMARY:Nikolausbesuch beim Feuerwehrhaus
DESCRIPTION:Der Nikolaus kommt –  16:30 Uhr zum Feuerwehrhaus \nÖAAB
URL:https://www.wuerflach.at/event/nikolausbesuch-beim-feuerwehrhaus/
LOCATION:Feuerwehr-Gerätehaus\, Neunkirchner Str. 85\, Würflach\, Austria (+43)\, 2732\, Österreich
CATEGORIES:Brauchtum
END:VEVENT
BEGIN:VEVENT
DTSTART;TZID=Europe/Vienna:20261205T140000
DTEND;TZID=Europe/Vienna:20261205T140000
DTSTAMP:20260422T005510
CREATED:20260209T170654Z
LAST-MODIFIED:20260209T171103Z
UID:22998761-1796479200-1796479200@www.wuerflach.at
SUMMARY:Bücherflohmarkt - beim Advent in der Johannesbachklamm
DESCRIPTION:Bücherflohmarkt beim Advent in der Johannesbachklamm\ntäglich 5.-8.12.2026 ab 14:00 Uhr
URL:https://www.wuerflach.at/event/buecherflohmarkt-beim-advent-in-der-johannesbachklamm/
LOCATION:Festplatz – Johannesbachklamm\, Klammgasse\, Würflach\, NÖ\, 2732
CATEGORIES:Lesung
ORGANIZER;CN="Gemeinde W%C3%BCrflach (Kulturspan) u. Katharina Resch":MAILTO:katharina.e.resch@gmail.com
END:VEVENT
BEGIN:VEVENT
DTSTART;TZID=Europe/Vienna:20261205T140000
DTEND;TZID=Europe/Vienna:20261205T200000
DTSTAMP:20260422T005510
CREATED:20260209T170316Z
LAST-MODIFIED:20260215T092302Z
UID:22998753-1796479200-1796500800@www.wuerflach.at
SUMMARY:Advent in der Johannesbachklamm
DESCRIPTION:Advent in der Johannesbachklamm –\nvon Samstag\, 5.12. bis Dienstag\, 8.12 – täglich ab 14:00 Uhr – bis mind. 20:00 Uhr \n 
URL:https://www.wuerflach.at/event/advent-in-der-johannesbachklamm/
LOCATION:Festplatz – Johannesbachklamm\, Klammgasse\, Würflach\, NÖ\, 2732
CATEGORIES:Sonstige
END:VEVENT
BEGIN:VEVENT
DTSTART;TZID=Europe/Vienna:20261206T140000
DTEND;TZID=Europe/Vienna:20261206T140000
DTSTAMP:20260422T005510
CREATED:20260209T170744Z
LAST-MODIFIED:20260209T171137Z
UID:22998763-1796565600-1796565600@www.wuerflach.at
SUMMARY:Bücherflohmarkt - beim Advent in der Johannesbachklamm
DESCRIPTION:Bücherflohmarkt beim Advent in der Johannesbachklamm\ntäglich 5.-8.12.2026 ab 14:00 Uhr
URL:https://www.wuerflach.at/event/buecherflohmarkt-beim-advent-in-der-johannesbachklamm-2/
LOCATION:Festplatz – Johannesbachklamm\, Klammgasse\, Würflach\, NÖ\, 2732
CATEGORIES:Lesung
ORGANIZER;CN="Gemeinde W%C3%BCrflach (Kulturspan) u. Katharina Resch":MAILTO:katharina.e.resch@gmail.com
END:VEVENT
BEGIN:VEVENT
DTSTART;TZID=Europe/Vienna:20261206T140000
DTEND;TZID=Europe/Vienna:20261206T200000
DTSTAMP:20260422T005510
CREATED:20260209T170358Z
LAST-MODIFIED:20260215T092503Z
UID:22998755-1796565600-1796587200@www.wuerflach.at
SUMMARY:Advent in der Johannesbachklamm
DESCRIPTION:Advent in der Johannesbachklamm –\nvon Samstag\, 5.12. bis Dienstag\, 8.12 – täglich ab 14:00 Uhr – bis mind. 20:00 Uhr \n 
URL:https://www.wuerflach.at/event/advent-in-der-johannesbachklamm-2/
LOCATION:Festplatz – Johannesbachklamm\, Klammgasse\, Würflach\, NÖ\, 2732
CATEGORIES:Sonstige
END:VEVENT
BEGIN:VEVENT
DTSTART;VALUE=DATE:20261207
DTEND;VALUE=DATE:20261208
DTSTAMP:20260422T005510
CREATED:20251103T204128Z
LAST-MODIFIED:20251103T204128Z
UID:22997877-1796601600-1796687999@www.wuerflach.at
SUMMARY:Biotonnen
DESCRIPTION:Alle Tonnen bitte bis 6:30 Uhr vor Ihrer Liegenschaft bereitstellen!
URL:https://www.wuerflach.at/event/biotonnen-42/
LOCATION:NÖ
CATEGORIES:Biotonne
END:VEVENT
BEGIN:VEVENT
DTSTART;TZID=Europe/Vienna:20261207T140000
DTEND;TZID=Europe/Vienna:20261207T140000
DTSTAMP:20260422T005510
CREATED:20260209T170910Z
LAST-MODIFIED:20260209T171030Z
UID:22998765-1796652000-1796652000@www.wuerflach.at
SUMMARY:Bücherflohmarkt - beim Advent in der Johannesbachklamm
DESCRIPTION:Bücherflohmarkt beim Advent in der Johannesbachklamm\ntäglich 5.-8.12.2026 ab 14:00 Uhr
URL:https://www.wuerflach.at/event/buecherflohmarkt-beim-advent-in-der-johannesbachklamm-3/
LOCATION:Festplatz – Johannesbachklamm\, Klammgasse\, Würflach\, NÖ\, 2732
CATEGORIES:Lesung
ORGANIZER;CN="Gemeinde W%C3%BCrflach (Kulturspan) u. Katharina Resch":MAILTO:katharina.e.resch@gmail.com
END:VEVENT
BEGIN:VEVENT
DTSTART;TZID=Europe/Vienna:20261207T140000
DTEND;TZID=Europe/Vienna:20261207T200000
DTSTAMP:20260422T005510
CREATED:20260209T170437Z
LAST-MODIFIED:20260215T092728Z
UID:22998757-1796652000-1796673600@www.wuerflach.at
SUMMARY:Advent in der Johannesbachklamm
DESCRIPTION:Advent in der Johannesbachklamm –\nvon Samstag\, 5.12. bis Dienstag\, 8.12 – täglich ab 14:00 Uhr – bis mind. 20:00 Uhr \n 
URL:https://www.wuerflach.at/event/advent-in-der-johannesbachklamm-3/
LOCATION:Festplatz – Johannesbachklamm\, Klammgasse\, Würflach\, NÖ\, 2732
CATEGORIES:Sonstige
END:VEVENT
BEGIN:VEVENT
DTSTART;TZID=Europe/Vienna:20261208T140000
DTEND;TZID=Europe/Vienna:20261208T140000
DTSTAMP:20260422T005510
CREATED:20260209T170957Z
LAST-MODIFIED:20260209T170957Z
UID:22998766-1796738400-1796738400@www.wuerflach.at
SUMMARY:Bücherflohmarkt - beim Advent in der Johannesbachklamm
DESCRIPTION:Bücherflohmarkt beim Advent in der Johannesbachklamm\ntäglich 5.-8.12.2026 ab 14:00 Uhr
URL:https://www.wuerflach.at/event/buecherflohmarkt-beim-advent-in-der-johannesbachklamm-4/
LOCATION:Festplatz – Johannesbachklamm\, Klammgasse\, Würflach\, NÖ\, 2732
CATEGORIES:Lesung
ORGANIZER;CN="Gemeinde W%C3%BCrflach (Kulturspan) u. Katharina Resch":MAILTO:katharina.e.resch@gmail.com
END:VEVENT
BEGIN:VEVENT
DTSTART;TZID=Europe/Vienna:20261208T140000
DTEND;TZID=Europe/Vienna:20261208T200000
DTSTAMP:20260422T005510
CREATED:20260209T170518Z
LAST-MODIFIED:20260215T092834Z
UID:22998759-1796738400-1796760000@www.wuerflach.at
SUMMARY:Advent in der Johannesbachklamm
DESCRIPTION:Advent in der Johannesbachklamm –\nvon Samstag\, 5.12. bis Dienstag\, 8.12 – täglich ab 14:00 Uhr – bis mind. 20:00 Uhr \n 
URL:https://www.wuerflach.at/event/advent-in-der-johannesbachklamm-4/
LOCATION:Festplatz – Johannesbachklamm\, Klammgasse\, Würflach\, NÖ\, 2732
CATEGORIES:Sonstige
END:VEVENT
BEGIN:VEVENT
DTSTART;TZID=Europe/Vienna:20261212T090000
DTEND;TZID=Europe/Vienna:20261212T130000
DTSTAMP:20260422T005510
CREATED:20260209T171302Z
LAST-MODIFIED:20260209T171302Z
UID:22998769-1797066000-1797080400@www.wuerflach.at
SUMMARY:Wichtelwerkstatt der Bürgerliste
DESCRIPTION:„Wichtelwerkstatt“  im Akazienhof\, 9-13:00 Uhr\, Gemeinsam für Würflach / unabhängige Bürgerliste \n 
URL:https://www.wuerflach.at/event/wichtelwerkstatt-der-buergerliste/
LOCATION:Akazienhof\, Neunkirchner Str. 104\, Würflach\, 2732
CATEGORIES:Heuriger / Kulinarik
ORGANIZER;CN="Gemeinsam f%C3%BCr W%C3%BCrflach (unabh%C3%A4ngige B%C3%BCrgerliste)":MAILTO:gemeinsam@wuerflach.info
END:VEVENT
BEGIN:VEVENT
DTSTART;TZID=Europe/Vienna:20261218T090000
DTEND;TZID=Europe/Vienna:20261218T180000
DTSTAMP:20260422T005510
CREATED:20260120T212348Z
LAST-MODIFIED:20260120T212921Z
UID:22998428-1797584400-1797616800@www.wuerflach.at
SUMMARY:Bauern- u. Weihnachtsmarkt bei Fam. Woltron
DESCRIPTION:  \n 
URL:https://www.wuerflach.at/event/bauern-u-weihnachtsmarkt-bei-fam-woltron-5/
LOCATION:Heurigenlokal – Fam. Woltron\, Bogengasse 106\, Würflach\, NÖ\, 2732
CATEGORIES:Heuriger / Kulinarik
ORGANIZER;CN="Familie Woltron":MAILTO:urlaub@bauernhof-woltron.at
END:VEVENT
BEGIN:VEVENT
DTSTART;TZID=Europe/Vienna:20261218T180000
DTEND;TZID=Europe/Vienna:20261218T180000
DTSTAMP:20260422T005510
CREATED:20260209T171449Z
LAST-MODIFIED:20260310T073540Z
UID:22998771-1797616800-1797616800@www.wuerflach.at
SUMMARY:Les´n und Los´n - Lesung in der Bücherei
DESCRIPTION:18:00 Uhr Lesung in der Gemeindebücherei\nAuf Ihr Kommen freut sich das Team\nder Gemeindebücherei Würflach! \n 
URL:https://www.wuerflach.at/event/lesn-und-losn-lesung-in-der-buecherei-2/
LOCATION:Gemeindebücherei Würflach\, Willendorfer Str. 150\, Gemeinde Würflach\, 2732\, Österreich
CATEGORIES:Lesung
ORGANIZER;CN="B%C3%BCcherei W%C3%BCrflach":MAILTO:buecherei@wuerflach.at
END:VEVENT
BEGIN:VEVENT
DTSTART;TZID=Europe/Vienna:20261219T000000
DTEND;TZID=Europe/Vienna:20261219T000000
DTSTAMP:20260422T005510
CREATED:20260209T171832Z
LAST-MODIFIED:20260209T171832Z
UID:22998777-1797638400-1797638400@www.wuerflach.at
SUMMARY:Weihnachtliches Konzert unseres Musikvereins
DESCRIPTION:  \n \nWeihnachtliches Konzert in der Pfarrkirche\nNähere Angaben folgen.\nMusikverein Hettmannsdorf-Würflach \n  \n 
URL:https://www.wuerflach.at/event/weihnachtliches-konzert-unseres-musikvereins/
LOCATION:NÖ
CATEGORIES:Kulturveranstaltung
END:VEVENT
BEGIN:VEVENT
DTSTART;TZID=Europe/Vienna:20261219T090000
DTEND;TZID=Europe/Vienna:20261219T180000
DTSTAMP:20260422T005510
CREATED:20260120T213032Z
LAST-MODIFIED:20260120T213032Z
UID:22998432-1797670800-1797703200@www.wuerflach.at
SUMMARY:Bauern- u. Weihnachtsmarkt bei Fam. Woltron
DESCRIPTION:  \n 
URL:https://www.wuerflach.at/event/bauern-u-weihnachtsmarkt-bei-fam-woltron-6/
LOCATION:Heurigenlokal – Fam. Woltron\, Bogengasse 106\, Würflach\, NÖ\, 2732
CATEGORIES:Heuriger / Kulinarik
ORGANIZER;CN="Familie Woltron":MAILTO:urlaub@bauernhof-woltron.at
END:VEVENT
BEGIN:VEVENT
DTSTART;TZID=Europe/Vienna:20261219T150000
DTEND;TZID=Europe/Vienna:20261219T150000
DTSTAMP:20260422T005510
CREATED:20260209T171544Z
LAST-MODIFIED:20260209T171544Z
UID:22998773-1797692400-1797692400@www.wuerflach.at
SUMMARY:Weihnachtsfeier - Pensionistenverband Würflach
DESCRIPTION:Weihnachtsfeier im Gasthaus Seewald\, 15:00 Uhr – Pensionistenverband Würflach \n 
URL:https://www.wuerflach.at/event/weihnachtsfeier-pensionistenverband-wuerflach/
LOCATION:Gasthaus Seewald\, Hettmannsdorfer Str. 30\, Würflach\, NÖ\, 2732\, Österreich
CATEGORIES:Sonstige
END:VEVENT
BEGIN:VEVENT
DTSTART;TZID=Europe/Vienna:20261219T160000
DTEND;TZID=Europe/Vienna:20261219T180000
DTSTAMP:20260422T005510
CREATED:20260209T171644Z
LAST-MODIFIED:20260310T074402Z
UID:22998775-1797696000-1797703200@www.wuerflach.at
SUMMARY:Bilderbuchkino für Kinder\, 16:00-18:00\, in der Bücherei
DESCRIPTION:in der Gemeindebücherei\nWir freuen uns auf Euer Kommen –\ndas Team der Gemeindebücherei Würflach \n 
URL:https://www.wuerflach.at/event/bilderbuchkino-fuer-kinder-1600-1800-in-der-buecherei/
LOCATION:Gemeindebücherei Würflach\, Willendorfer Str. 150\, Gemeinde Würflach\, 2732\, Österreich
CATEGORIES:Sonstige
ORGANIZER;CN="B%C3%BCcherei W%C3%BCrflach":MAILTO:buecherei@wuerflach.at
END:VEVENT
BEGIN:VEVENT
DTSTART;VALUE=DATE:20261221
DTEND;VALUE=DATE:20261222
DTSTAMP:20260422T005510
CREATED:20251103T201622Z
LAST-MODIFIED:20251103T201622Z
UID:22997819-1797811200-1797897599@www.wuerflach.at
SUMMARY:Restmüll
DESCRIPTION:Alle Restmüllsäcke (gut zugebunden) bitte bis 6:30 Uhr vor Ihrer Liegenschaft bereitstellen!
URL:https://www.wuerflach.at/event/restmuell-26/
LOCATION:NÖ
CATEGORIES:RMS Restmüllsäcke
END:VEVENT
BEGIN:VEVENT
DTSTART;VALUE=DATE:20261222
DTEND;VALUE=DATE:20261223
DTSTAMP:20260422T005510
CREATED:20251103T202222Z
LAST-MODIFIED:20251103T202222Z
UID:22997833-1797897600-1797983999@www.wuerflach.at
SUMMARY:Altpapier
DESCRIPTION:Alle Tonnen bitte bis 6:30 Uhr vor Ihrer Liegenschaft bereitstellen! \n 
URL:https://www.wuerflach.at/event/altpapier-13/
LOCATION:NÖ
CATEGORIES:Altpapier
END:VEVENT
BEGIN:VEVENT
DTSTART;VALUE=DATE:20261222
DTEND;VALUE=DATE:20261223
DTSTAMP:20260422T005510
CREATED:20251103T205241Z
LAST-MODIFIED:20251103T205241Z
UID:22997903-1797897600-1797983999@www.wuerflach.at
SUMMARY:Gelber Sack
DESCRIPTION:Alle gelben Säcke (gut zugebunden) bitte bis 6:30 Uhr vor Ihrer Liegenschaft bereitstellen!
URL:https://www.wuerflach.at/event/gelber-sack-26/
LOCATION:NÖ
CATEGORIES:gelber Sack
END:VEVENT
BEGIN:VEVENT
DTSTART;TZID=Europe/Vienna:20261224T130000
DTEND;TZID=Europe/Vienna:20261224T130000
DTSTAMP:20260422T005510
CREATED:20260209T172003Z
LAST-MODIFIED:20260209T172003Z
UID:22998779-1798117200-1798117200@www.wuerflach.at
SUMMARY:Christkindlsuche -SPÖ Würflach
DESCRIPTION:Christkindlsuche\, Treffpunkt um 13:00 – Festplatz in der Johannesbachklamm\nSPÖ Würflach
URL:https://www.wuerflach.at/event/christkindlsuche-spoe-wuerflach/
LOCATION:Festplatz – Johannesbachklamm\, Klammgasse\, Würflach\, NÖ\, 2732
CATEGORIES:Sonstige
END:VEVENT
BEGIN:VEVENT
DTSTART;TZID=Europe/Vienna:20261224T160000
DTEND;TZID=Europe/Vienna:20261224T160000
DTSTAMP:20260422T005510
CREATED:20260120T201722Z
LAST-MODIFIED:20260120T201722Z
UID:22998324-1798128000-1798128000@www.wuerflach.at
SUMMARY:hl. Abend
DESCRIPTION:In der Pfarrkirche \n16:00 Uhr – Kinderkrippenfeier\nab 21:30 Uhr – weihnachtliches Musizieren\n22:00 Uhr – Christmette
URL:https://www.wuerflach.at/event/hl-abend-3/
LOCATION:Pfarrkirche Würflach
CATEGORIES:Pfarre / religiöse Termine
ORGANIZER;CN="Pfarre W%C3%BCrflach":MAILTO:pfarre.wuerflach@katholischekirche.at
END:VEVENT
BEGIN:VEVENT
DTSTART;TZID=Europe/Vienna:20261225T090000
DTEND;TZID=Europe/Vienna:20261225T090000
DTSTAMP:20260422T005510
CREATED:20260120T201848Z
LAST-MODIFIED:20260120T201848Z
UID:22998326-1798189200-1798189200@www.wuerflach.at
SUMMARY:Hochamt am Christtag
DESCRIPTION:Hochamt um 9:00 Uhr in der Pfarrkirche.
URL:https://www.wuerflach.at/event/hochamt-am-christtag/
LOCATION:NÖ
CATEGORIES:Pfarre / religiöse Termine
END:VEVENT
BEGIN:VEVENT
DTSTART;TZID=Europe/Vienna:20261230T170000
DTEND;TZID=Europe/Vienna:20261230T170000
DTSTAMP:20260422T005510
CREATED:20260209T172236Z
LAST-MODIFIED:20260209T172236Z
UID:22998781-1798650000-1798650000@www.wuerflach.at
SUMMARY:Bauernsilvester\, WAK\, 17:00 vorm Gemeindeamt
DESCRIPTION:Bauernsilvester – 17:00 Uhr vorm Gemeindeamt\nNähere Informationen folgen.\nWAK \n 
URL:https://www.wuerflach.at/event/bauernsilvester-wak-1700-vorm-gemeindeamt/
LOCATION:Gemeindevorplatz
CATEGORIES:Sonstige
END:VEVENT
BEGIN:VEVENT
DTSTART;TZID=Europe/Vienna:20261231T180000
DTEND;TZID=Europe/Vienna:20261231T180000
DTSTAMP:20260422T005510
CREATED:20260120T201947Z
LAST-MODIFIED:20260120T201947Z
UID:22998328-1798740000-1798740000@www.wuerflach.at
SUMMARY:Jahresabschlussmesse 18:00
DESCRIPTION:
URL:https://www.wuerflach.at/event/jahresabschlussmesse-1800-4/
LOCATION:Pfarrkirche Würflach
CATEGORIES:Pfarre / religiöse Termine
ORGANIZER;CN="Pfarre W%C3%BCrflach":MAILTO:pfarre.wuerflach@katholischekirche.at
END:VEVENT
END:VCALENDAR