BEGIN:VCALENDAR
VERSION:2.0
PRODID:-//Gemeinde Wuerflach - ECPv6.15.19//NONSGML v1.0//EN
CALSCALE:GREGORIAN
METHOD:PUBLISH
X-ORIGINAL-URL:https://www.wuerflach.at
X-WR-CALDESC:Veranstaltungen für Gemeinde Wuerflach
REFRESH-INTERVAL;VALUE=DURATION:PT1H
X-Robots-Tag:noindex
X-PUBLISHED-TTL:PT1H
BEGIN:VTIMEZONE
TZID:Europe/Vienna
BEGIN:DAYLIGHT
TZOFFSETFROM:+0100
TZOFFSETTO:+0200
TZNAME:CEST
DTSTART:20250330T010000
END:DAYLIGHT
BEGIN:STANDARD
TZOFFSETFROM:+0200
TZOFFSETTO:+0100
TZNAME:CET
DTSTART:20251026T010000
END:STANDARD
BEGIN:DAYLIGHT
TZOFFSETFROM:+0100
TZOFFSETTO:+0200
TZNAME:CEST
DTSTART:20260329T010000
END:DAYLIGHT
BEGIN:STANDARD
TZOFFSETFROM:+0200
TZOFFSETTO:+0100
TZNAME:CET
DTSTART:20261025T010000
END:STANDARD
BEGIN:DAYLIGHT
TZOFFSETFROM:+0100
TZOFFSETTO:+0200
TZNAME:CEST
DTSTART:20270328T010000
END:DAYLIGHT
BEGIN:STANDARD
TZOFFSETFROM:+0200
TZOFFSETTO:+0100
TZNAME:CET
DTSTART:20271031T010000
END:STANDARD
END:VTIMEZONE
BEGIN:VEVENT
DTSTART;TZID=Europe/Vienna:20260801T170000
DTEND;TZID=Europe/Vienna:20260801T170000
DTSTAMP:20260421T173501
CREATED:20260120T200035Z
LAST-MODIFIED:20260120T200309Z
UID:22998302-1785603600-1785603600@www.wuerflach.at
SUMMARY:Fest der Treue
DESCRIPTION:17:00 Uhr – Fest der Treue – Pfarre Würflach \n 
URL:https://www.wuerflach.at/event/fest-der-treue-3/
LOCATION:Pfarrkirche Würflach
CATEGORIES:Pfarre / religiöse Termine
ORGANIZER;CN="Pfarre W%C3%BCrflach":MAILTO:pfarre.wuerflach@katholischekirche.at
END:VEVENT
BEGIN:VEVENT
DTSTART;VALUE=DATE:20260803
DTEND;VALUE=DATE:20260804
DTSTAMP:20260421T173501
CREATED:20251103T201342Z
LAST-MODIFIED:20251103T201342Z
UID:22997809-1785715200-1785801599@www.wuerflach.at
SUMMARY:Restmüll
DESCRIPTION:Alle Restmüllsäcke (gut zugebunden) bitte bis 6:30 Uhr vor Ihrer Liegenschaft bereitstellen!
URL:https://www.wuerflach.at/event/restmuell-21/
LOCATION:NÖ
CATEGORIES:RMS Restmüllsäcke
END:VEVENT
BEGIN:VEVENT
DTSTART;VALUE=DATE:20260803
DTEND;VALUE=DATE:20260804
DTSTAMP:20260421T173501
CREATED:20251103T203710Z
LAST-MODIFIED:20251103T203710Z
UID:22997863-1785715200-1785801599@www.wuerflach.at
SUMMARY:Biotonnen
DESCRIPTION:Alle Tonnen bitte bis 6:30 Uhr vor Ihrer Liegenschaft bereitstellen!
URL:https://www.wuerflach.at/event/biotonnen-35/
LOCATION:NÖ
CATEGORIES:Biotonne
END:VEVENT
BEGIN:VEVENT
DTSTART;VALUE=DATE:20260805
DTEND;VALUE=DATE:20260806
DTSTAMP:20260421T173501
CREATED:20251103T204906Z
LAST-MODIFIED:20251103T204906Z
UID:22997893-1785888000-1785974399@www.wuerflach.at
SUMMARY:Gelber Sack
DESCRIPTION:ACHTUNG MITTWOCH!!!\nAlle gelben Säcke (gut zugebunden) bitte bis 6:30 Uhr vor Ihrer Liegenschaft bereitstellen!
URL:https://www.wuerflach.at/event/gelber-sack-21/
LOCATION:NÖ
CATEGORIES:gelber Sack
END:VEVENT
BEGIN:VEVENT
DTSTART;TZID=Europe/Vienna:20260805T140000
DTEND;TZID=Europe/Vienna:20260805T140000
DTSTAMP:20260421T173501
CREATED:20260128T050548Z
LAST-MODIFIED:20260128T050548Z
UID:22998616-1785938400-1785938400@www.wuerflach.at
SUMMARY:Wanderung - Senioren Würflach
DESCRIPTION:Wanderung Mollram\, 14:00 Uhr – Treffpunkt beim Musikheim\nSenioren Würflach
URL:https://www.wuerflach.at/event/wanderung-senioren-wuerflach-27/
LOCATION:NÖ
CATEGORIES:Sport / Bewegung
ORGANIZER;CN="Senioren W%C3%BCrflach - Obmann Hans Schauer":MAILTO:schauerh@aon.at
END:VEVENT
BEGIN:VEVENT
DTSTART;TZID=Europe/Vienna:20260808T150000
DTEND;TZID=Europe/Vienna:20260808T150000
DTSTAMP:20260421T173501
CREATED:20260128T050734Z
LAST-MODIFIED:20260128T050734Z
UID:22998618-1786201200-1786201200@www.wuerflach.at
SUMMARY:Sommerheurigerheuriger - Pensionistenverband Würflach und SPÖ Würflach
DESCRIPTION:Sommerheuriger\, 15:00 Uhr in der Klamm\nPensionistenverband Würflach und SPÖ Würflach
URL:https://www.wuerflach.at/event/sommerheurigerheuriger-pensionistenverband-wuerflach-und-spoe-wuerflach/
LOCATION:Festplatz – Johannesbachklamm\, Klammgasse\, Würflach\, NÖ\, 2732
CATEGORIES:Heuriger / Kulinarik
END:VEVENT
BEGIN:VEVENT
DTSTART;TZID=Europe/Vienna:20260814T000000
DTEND;TZID=Europe/Vienna:20260814T000000
DTSTAMP:20260421T173501
CREATED:20260128T050838Z
LAST-MODIFIED:20260128T050838Z
UID:22998620-1786665600-1786665600@www.wuerflach.at
SUMMARY:Tennismeisterschaft - Tennisverein Würflach
DESCRIPTION:Tennismeisterschaft – Tennisverein Würflach \n 
URL:https://www.wuerflach.at/event/tennismeisterschaft-tennisverein-wuerflach-3/
LOCATION:Tennisplatz Würflach\, Badgasse 110\, Würflach\, Austria (+43)\, 2732\, Österreich
CATEGORIES:Sport / Bewegung
ORGANIZER;CN="Tennisverein W%C3%BCrflach":MAILTO:https://www.tennis-wuerflach.at/
END:VEVENT
BEGIN:VEVENT
DTSTART;TZID=Europe/Vienna:20260815T000000
DTEND;TZID=Europe/Vienna:20260815T000000
DTSTAMP:20260421T173501
CREATED:20260128T050913Z
LAST-MODIFIED:20260128T050913Z
UID:22998622-1786752000-1786752000@www.wuerflach.at
SUMMARY:Tennismeisterschaft - Tennisverein Würflach
DESCRIPTION:Tennismeisterschaft – Tennisverein Würflach \n 
URL:https://www.wuerflach.at/event/tennismeisterschaft-tennisverein-wuerflach-4/
LOCATION:Tennisplatz Würflach\, Badgasse 110\, Würflach\, Austria (+43)\, 2732\, Österreich
CATEGORIES:Sport / Bewegung
ORGANIZER;CN="Tennisverein W%C3%BCrflach":MAILTO:https://www.tennis-wuerflach.at/
END:VEVENT
BEGIN:VEVENT
DTSTART;TZID=Europe/Vienna:20260815T000000
DTEND;TZID=Europe/Vienna:20260815T000000
DTSTAMP:20260421T173501
CREATED:20260128T051251Z
LAST-MODIFIED:20260128T051319Z
UID:22998626-1786752000-1786752000@www.wuerflach.at
SUMMARY:Musikantenfest beim Musikheim
DESCRIPTION:  \n \nMusikantenfest beim Musikheim\nNähere Informationen folgen!
URL:https://www.wuerflach.at/event/musikantenfest-beim-musikheim/
LOCATION:NÖ
CATEGORIES:Kulturveranstaltung
END:VEVENT
BEGIN:VEVENT
DTSTART;TZID=Europe/Vienna:20260815T090000
DTEND;TZID=Europe/Vienna:20260815T090000
DTSTAMP:20260421T173501
CREATED:20260120T200418Z
LAST-MODIFIED:20260120T200418Z
UID:22998305-1786784400-1786784400@www.wuerflach.at
SUMMARY:Maria Himmelfahrt - Kräutersegnung
DESCRIPTION:9:00 Uhr hl. Messe mit Kräutersegnung
URL:https://www.wuerflach.at/event/maria-himmelfahrt-kraeutersegnung-3/
LOCATION:Pfarrkirche Würflach
CATEGORIES:Pfarre / religiöse Termine
ORGANIZER;CN="Pfarre W%C3%BCrflach":MAILTO:pfarre.wuerflach@katholischekirche.at
END:VEVENT
BEGIN:VEVENT
DTSTART;TZID=Europe/Vienna:20260816T000000
DTEND;TZID=Europe/Vienna:20260816T000000
DTSTAMP:20260421T173501
CREATED:20260128T050957Z
LAST-MODIFIED:20260128T050957Z
UID:22998624-1786838400-1786838400@www.wuerflach.at
SUMMARY:Tennismeisterschaft - Tennisverein Würflach
DESCRIPTION:Tennismeisterschaft – Tennisverein Würflach \n 
URL:https://www.wuerflach.at/event/tennismeisterschaft-tennisverein-wuerflach-5/
LOCATION:Tennisplatz Würflach\, Badgasse 110\, Würflach\, Austria (+43)\, 2732\, Österreich
CATEGORIES:Sport / Bewegung
ORGANIZER;CN="Tennisverein W%C3%BCrflach":MAILTO:https://www.tennis-wuerflach.at/
END:VEVENT
BEGIN:VEVENT
DTSTART;TZID=Europe/Vienna:20260816T000000
DTEND;TZID=Europe/Vienna:20260816T000000
DTSTAMP:20260421T173501
CREATED:20260128T051408Z
LAST-MODIFIED:20260128T051408Z
UID:22998628-1786838400-1786838400@www.wuerflach.at
SUMMARY:Musikantenfest beim Musikheim
DESCRIPTION:  \n \nMusikantenfest beim Musikheim\nNähere Informationen folgen!
URL:https://www.wuerflach.at/event/musikantenfest-beim-musikheim-2/
LOCATION:NÖ
CATEGORIES:Kulturveranstaltung
END:VEVENT
BEGIN:VEVENT
DTSTART;VALUE=DATE:20260817
DTEND;VALUE=DATE:20260818
DTSTAMP:20260421T173501
CREATED:20251103T203803Z
LAST-MODIFIED:20251103T203803Z
UID:22997864-1786924800-1787011199@www.wuerflach.at
SUMMARY:Biotonnen
DESCRIPTION:Alle Tonnen bitte bis 6:30 Uhr vor Ihrer Liegenschaft bereitstellen!
URL:https://www.wuerflach.at/event/biotonnen-36/
LOCATION:NÖ
CATEGORIES:Biotonne
END:VEVENT
BEGIN:VEVENT
DTSTART;TZID=Europe/Vienna:20260827T150000
DTEND;TZID=Europe/Vienna:20260827T150000
DTSTAMP:20260421T173501
CREATED:20260128T051534Z
LAST-MODIFIED:20260128T051534Z
UID:22998632-1787842800-1787842800@www.wuerflach.at
SUMMARY:Mariandlschießen /Triathlon - Senioren Würflach und Pensionistenverband Würflach
DESCRIPTION:           \nSenioren u. Pensionisten-Triathlon\, Mariandlschießen\, Kegeln und Leiterngolf\n15:00 Uhr\, Senioren Würflach und Pensionistenverband Würflach – am Festplatz in der Klamm
URL:https://www.wuerflach.at/event/mariandlschiessen-triathlon-senioren-wuerflach-und-pensionistenverband-wuerflach-2/
LOCATION:NÖ
CATEGORIES:Sport / Bewegung
END:VEVENT
BEGIN:VEVENT
DTSTART;TZID=Europe/Vienna:20260830T120000
DTEND;TZID=Europe/Vienna:20260830T180000
DTSTAMP:20260421T173501
CREATED:20260120T200526Z
LAST-MODIFIED:20260120T200526Z
UID:22998307-1788091200-1788112800@www.wuerflach.at
SUMMARY:jährlicher Anbetungstag
DESCRIPTION:ca. 12:00 Uhr bis 18:00 Uhr jährlicher Anbetungstag der Pfarre
URL:https://www.wuerflach.at/event/jaehrlicher-anbetungstag-3/
LOCATION:Pfarrkirche Würflach
CATEGORIES:Pfarre / religiöse Termine
ORGANIZER;CN="Pfarre W%C3%BCrflach":MAILTO:pfarre.wuerflach@katholischekirche.at
END:VEVENT
BEGIN:VEVENT
DTSTART;VALUE=DATE:20260831
DTEND;VALUE=DATE:20260901
DTSTAMP:20260421T173501
CREATED:20251103T201408Z
LAST-MODIFIED:20251103T201408Z
UID:22997811-1788134400-1788220799@www.wuerflach.at
SUMMARY:Restmüll
DESCRIPTION:Alle Restmüllsäcke (gut zugebunden) bitte bis 6:30 Uhr vor Ihrer Liegenschaft bereitstellen!
URL:https://www.wuerflach.at/event/restmuell-22/
LOCATION:NÖ
CATEGORIES:RMS Restmüllsäcke
END:VEVENT
BEGIN:VEVENT
DTSTART;VALUE=DATE:20260831
DTEND;VALUE=DATE:20260901
DTSTAMP:20260421T173501
CREATED:20251103T203837Z
LAST-MODIFIED:20251103T203837Z
UID:22997866-1788134400-1788220799@www.wuerflach.at
SUMMARY:Biotonnen
DESCRIPTION:Alle Tonnen bitte bis 6:30 Uhr vor Ihrer Liegenschaft bereitstellen!
URL:https://www.wuerflach.at/event/biotonnen-37/
LOCATION:NÖ
CATEGORIES:Biotonne
END:VEVENT
END:VCALENDAR