BEGIN:VCALENDAR
VERSION:2.0
PRODID:-//Gemeinde Wuerflach - ECPv6.15.19//NONSGML v1.0//EN
CALSCALE:GREGORIAN
METHOD:PUBLISH
X-ORIGINAL-URL:https://www.wuerflach.at
X-WR-CALDESC:Veranstaltungen für Gemeinde Wuerflach
REFRESH-INTERVAL;VALUE=DURATION:PT1H
X-Robots-Tag:noindex
X-PUBLISHED-TTL:PT1H
BEGIN:VTIMEZONE
TZID:Europe/Vienna
BEGIN:DAYLIGHT
TZOFFSETFROM:+0100
TZOFFSETTO:+0200
TZNAME:CEST
DTSTART:20250330T010000
END:DAYLIGHT
BEGIN:STANDARD
TZOFFSETFROM:+0200
TZOFFSETTO:+0100
TZNAME:CET
DTSTART:20251026T010000
END:STANDARD
BEGIN:DAYLIGHT
TZOFFSETFROM:+0100
TZOFFSETTO:+0200
TZNAME:CEST
DTSTART:20260329T010000
END:DAYLIGHT
BEGIN:STANDARD
TZOFFSETFROM:+0200
TZOFFSETTO:+0100
TZNAME:CET
DTSTART:20261025T010000
END:STANDARD
BEGIN:DAYLIGHT
TZOFFSETFROM:+0100
TZOFFSETTO:+0200
TZNAME:CEST
DTSTART:20270328T010000
END:DAYLIGHT
BEGIN:STANDARD
TZOFFSETFROM:+0200
TZOFFSETTO:+0100
TZNAME:CET
DTSTART:20271031T010000
END:STANDARD
END:VTIMEZONE
BEGIN:VEVENT
DTSTART;VALUE=DATE:20260202
DTEND;VALUE=DATE:20260203
DTSTAMP:20260421T155124
CREATED:20251103T202800Z
LAST-MODIFIED:20251103T202800Z
UID:22997839-1769990400-1770076799@www.wuerflach.at
SUMMARY:Biotonnen
DESCRIPTION:Alle Tonnen bitte bis 6:30 Uhr vor Ihrer Liegenschaft bereitstellen!
URL:https://www.wuerflach.at/event/biotonnen-23/
LOCATION:NÖ
CATEGORIES:Biotonne
END:VEVENT
BEGIN:VEVENT
DTSTART;VALUE=DATE:20260203
DTEND;VALUE=DATE:20260204
DTSTAMP:20260421T155124
CREATED:20251103T200517Z
LAST-MODIFIED:20251103T200517Z
UID:22997791-1770076800-1770163199@www.wuerflach.at
SUMMARY:Christbaumabholung
DESCRIPTION:  \nChristbaumabholung: Dienstag\, 3.2.2026\nBitte die Christbäume bis 7:00 Uhr vor der Liegenschaft bereitstellen. \n 
URL:https://www.wuerflach.at/event/christbaumabholung-4/
LOCATION:NÖ
CATEGORIES:Christbaumabholung
END:VEVENT
BEGIN:VEVENT
DTSTART;TZID=Europe/Vienna:20260204T180000
DTEND;TZID=Europe/Vienna:20260204T180000
DTSTAMP:20260421T155124
CREATED:20260126T200837Z
LAST-MODIFIED:20260126T200837Z
UID:22998465-1770228000-1770228000@www.wuerflach.at
SUMMARY:Nordic Walking
DESCRIPTION:
URL:https://www.wuerflach.at/event/nordic-walking-94/
LOCATION:NÖ
CATEGORIES:Sport / Bewegung
END:VEVENT
BEGIN:VEVENT
DTSTART;TZID=Europe/Vienna:20260204T193000
DTEND;TZID=Europe/Vienna:20260204T210000
DTSTAMP:20260421T155124
CREATED:20260126T202336Z
LAST-MODIFIED:20260126T202400Z
UID:22998481-1770233400-1770238800@www.wuerflach.at
SUMMARY:Männerturnen
DESCRIPTION:Männerturnen – Sport\, Bewegung\, Spiel und Spaß!\njeden Mittwoch von 19:30 bis 21:00 Uhr in der Würflacher Mehrzweckhalle \n  \n 
URL:https://www.wuerflach.at/event/maennerturnen-20/
LOCATION:Mehrzweckhalle der Volksschule\, Neunkirchner Str. 76\, Würflach\, NÖ\, 2732
CATEGORIES:Sport / Bewegung
END:VEVENT
BEGIN:VEVENT
DTSTART;TZID=Europe/Vienna:20260205T140000
DTEND;TZID=Europe/Vienna:20260205T140000
DTSTAMP:20260421T155124
CREATED:20251209T185649Z
LAST-MODIFIED:20251209T185753Z
UID:22998110-1770300000-1770300000@www.wuerflach.at
SUMMARY:Wanderung - Senioren Würflach
DESCRIPTION:Wanderung nach Dörfles zum Gasthaus Handler\, Treffpunkt bei der Gemeinde  –\n14:00 Uhr Senioren Würflach
URL:https://www.wuerflach.at/event/wanderung-senioren-wuerflach-21/
LOCATION:NÖ
CATEGORIES:Sport / Bewegung
ORGANIZER;CN="Senioren W%C3%BCrflach - Obmann Hans Schauer":MAILTO:schauerh@aon.at
END:VEVENT
BEGIN:VEVENT
DTSTART;TZID=Europe/Vienna:20260208T143000
DTEND;TZID=Europe/Vienna:20260208T143000
DTSTAMP:20260421T155124
CREATED:20251209T185408Z
LAST-MODIFIED:20251209T185408Z
UID:22998108-1770561000-1770561000@www.wuerflach.at
SUMMARY:Faschingsfeier - Senioren Würflach
DESCRIPTION:Faschingsfeier – 14:30 Uhr im Gasthaus Seewald mit Franz Grill –\nSenioren Würflach
URL:https://www.wuerflach.at/event/faschingsfeier-senioren-wuerflach-3/
LOCATION:Gasthaus Seewald\, Hettmannsdorfer Str. 30\, Würflach\, NÖ\, 2732\, Österreich
CATEGORIES:Fest / Ball / Musikveranstaltung,Sport / Bewegung
ORGANIZER;CN="Senioren W%C3%BCrflach - Obmann Hans Schauer":MAILTO:schauerh@aon.at
END:VEVENT
BEGIN:VEVENT
DTSTART;TZID=Europe/Vienna:20260210T150000
DTEND;TZID=Europe/Vienna:20260210T180000
DTSTAMP:20260421T155124
CREATED:20251127T065621Z
LAST-MODIFIED:20251127T065725Z
UID:22998011-1770735600-1770746400@www.wuerflach.at
SUMMARY:Jagdpachtauszahlung Würflach I
DESCRIPTION:Jagdpachtauszahlungstermine Würflach\nGenossenschaftsjagd I – Würflach \nDi\, 10.2. – von 15:00 – 18:00 Uhr im Gemeindeamt Würflach /Sitzungssaal\nDi\, 17.2. – von 15:00 – 18:00 Uhr im Gemeindeamt Würflach /Sitzungssaal \nSitzungssaal – Eingang im Hinterhof \n  \n  \n 
URL:https://www.wuerflach.at/event/jagdpachtauszahlung-wuerflach-i/
LOCATION:NÖ
CATEGORIES:Sonstige
END:VEVENT
BEGIN:VEVENT
DTSTART;TZID=Europe/Vienna:20260211T150000
DTEND;TZID=Europe/Vienna:20260211T150000
DTSTAMP:20260421T155124
CREATED:20251209T190041Z
LAST-MODIFIED:20251209T190041Z
UID:22998113-1770822000-1770822000@www.wuerflach.at
SUMMARY:Theaterfahrt  - Senioren Würflach
DESCRIPTION:Theaterfahrt nach Baden zu „the sound of music“.\n15:00 Uhr Senioren Würflach
URL:https://www.wuerflach.at/event/theaterfahrt-senioren-wuerflach-2/
LOCATION:NÖ
CATEGORIES:Theater / Kabarett
ORGANIZER;CN="Senioren W%C3%BCrflach - Obmann Hans Schauer":MAILTO:schauerh@aon.at
END:VEVENT
BEGIN:VEVENT
DTSTART;TZID=Europe/Vienna:20260211T180000
DTEND;TZID=Europe/Vienna:20260211T180000
DTSTAMP:20260421T155124
CREATED:20260126T200915Z
LAST-MODIFIED:20260126T200927Z
UID:22998467-1770832800-1770832800@www.wuerflach.at
SUMMARY:Nordic Walking
DESCRIPTION:
URL:https://www.wuerflach.at/event/nordic-walking-95/
LOCATION:NÖ
CATEGORIES:Sport / Bewegung
END:VEVENT
BEGIN:VEVENT
DTSTART;TZID=Europe/Vienna:20260211T193000
DTEND;TZID=Europe/Vienna:20260211T210000
DTSTAMP:20260421T155124
CREATED:20260126T202444Z
LAST-MODIFIED:20260126T202444Z
UID:22998483-1770838200-1770843600@www.wuerflach.at
SUMMARY:Männerturnen
DESCRIPTION:Männerturnen – Sport\, Bewegung\, Spiel und Spaß!\njeden Mittwoch von 19:30 bis 21:00 Uhr in der Würflacher Mehrzweckhalle \n  \n 
URL:https://www.wuerflach.at/event/maennerturnen-21/
LOCATION:Mehrzweckhalle der Volksschule\, Neunkirchner Str. 76\, Würflach\, NÖ\, 2732
CATEGORIES:Sport / Bewegung
END:VEVENT
BEGIN:VEVENT
DTSTART;TZID=Europe/Vienna:20260212T150000
DTEND;TZID=Europe/Vienna:20260212T150000
DTSTAMP:20260421T155124
CREATED:20260127T180225Z
LAST-MODIFIED:20260127T180225Z
UID:22998515-1770908400-1770908400@www.wuerflach.at
SUMMARY:Krenfleischessen im Gasthaus Seewald
DESCRIPTION:Krenfleischessen im Gasthaus Seewald\, 15:00 Pensionistenverband Würflach \n 
URL:https://www.wuerflach.at/event/krenfleischessen-im-gasthaus-seewald-3/
LOCATION:Gasthaus Seewald\, Hettmannsdorfer Str. 30\, Würflach\, NÖ\, 2732\, Österreich
CATEGORIES:Heuriger / Kulinarik
END:VEVENT
BEGIN:VEVENT
DTSTART;TZID=Europe/Vienna:20260212T183000
DTEND;TZID=Europe/Vienna:20260212T200000
DTSTAMP:20260421T155124
CREATED:20250813T105300Z
LAST-MODIFIED:20250813T105324Z
UID:22997317-1770921000-1770926400@www.wuerflach.at
SUMMARY:Damengesundheitsturnen
DESCRIPTION:Damengesundheitsturnen mit Wirbelsäulengymnastik – Aufbautraining\, „DKB“ (dehnen\, kräftigen\, bewegen)\njeden Donnerstag von 18:30 bis 20:00 Uhr in der Würflacher Mehrzweckhalle \nEs würde uns freuen\, wenn wir Sie in einer unserer nächsten Turnstunden begrüßen könnten!\nEinfach zu einer Schnupperstunde kommen. \nNähere Informationen erhalten Sie bei Obfrau Eva Schweighofer – 0688/821 81 81. \n  \n  \n 
URL:https://www.wuerflach.at/event/damengesundheitsturnen-19/
LOCATION:Mehrzweckhalle der Volksschule\, Neunkirchner Str. 76\, Würflach\, NÖ\, 2732
CATEGORIES:Sport / Bewegung
END:VEVENT
BEGIN:VEVENT
DTSTART;TZID=Europe/Vienna:20260214T140000
DTEND;TZID=Europe/Vienna:20260214T170000
DTSTAMP:20260421T155124
CREATED:20260127T180400Z
LAST-MODIFIED:20260211T130454Z
UID:22998517-1771077600-1771088400@www.wuerflach.at
SUMMARY:Faschings-Mariandlschießen - USV Würflach
DESCRIPTION:
URL:https://www.wuerflach.at/event/faschings-mariandlschiessen-usv-wuerflach-2/
LOCATION:Festplatz – Johannesbachklamm\, Klammgasse\, Würflach\, NÖ\, 2732
CATEGORIES:Sport / Bewegung
END:VEVENT
BEGIN:VEVENT
DTSTART;TZID=Europe/Vienna:20260214T150000
DTEND;TZID=Europe/Vienna:20260214T180000
DTSTAMP:20260421T155124
CREATED:20260121T071528Z
LAST-MODIFIED:20260121T071829Z
UID:22998441-1771081200-1771092000@www.wuerflach.at
SUMMARY:Kindermaskenball
DESCRIPTION: 
URL:https://www.wuerflach.at/event/kindermaskenball-3/
LOCATION:Mehrzweckhalle der Volksschule\, Neunkirchner Str. 76\, Würflach\, NÖ\, 2732
CATEGORIES:Fest / Ball / Musikveranstaltung
END:VEVENT
BEGIN:VEVENT
DTSTART;TZID=Europe/Vienna:20260215T090000
DTEND;TZID=Europe/Vienna:20260215T090000
DTSTAMP:20260421T155124
CREATED:20260120T184903Z
LAST-MODIFIED:20260120T184903Z
UID:22998234-1771146000-1771146000@www.wuerflach.at
SUMMARY:Familienmesse
DESCRIPTION:9:00 Uhr in der Pfarrkirche
URL:https://www.wuerflach.at/event/familienmesse-7/
LOCATION:Pfarrkirche Würflach
CATEGORIES:Pfarre / religiöse Termine
ORGANIZER;CN="Pfarre W%C3%BCrflach":MAILTO:pfarre.wuerflach@katholischekirche.at
END:VEVENT
BEGIN:VEVENT
DTSTART;VALUE=DATE:20260216
DTEND;VALUE=DATE:20260217
DTSTAMP:20260421T155124
CREATED:20251103T201010Z
LAST-MODIFIED:20251103T201010Z
UID:22997797-1771200000-1771286399@www.wuerflach.at
SUMMARY:Restmüll
DESCRIPTION:Alle Restmüllsäcke (gut zugebunden) bitte bis 6:30 Uhr vor Ihrer Liegenschaft bereitstellen!
URL:https://www.wuerflach.at/event/restmuell-15/
LOCATION:NÖ
CATEGORIES:RMS Restmüllsäcke
END:VEVENT
BEGIN:VEVENT
DTSTART;VALUE=DATE:20260217
DTEND;VALUE=DATE:20260218
DTSTAMP:20260421T155124
CREATED:20251103T204342Z
LAST-MODIFIED:20251103T204350Z
UID:22997881-1771286400-1771372799@www.wuerflach.at
SUMMARY:Gelber Sack
DESCRIPTION:Alle gelben Säcke (gut zugebunden) bitte bis 6:30 Uhr vor Ihrer Liegenschaft bereitstellen!
URL:https://www.wuerflach.at/event/gelber-sack-15/
LOCATION:NÖ
CATEGORIES:gelber Sack
END:VEVENT
BEGIN:VEVENT
DTSTART;TZID=Europe/Vienna:20260217T150000
DTEND;TZID=Europe/Vienna:20260217T180000
DTSTAMP:20260421T155124
CREATED:20251127T065816Z
LAST-MODIFIED:20251127T065816Z
UID:22998013-1771340400-1771351200@www.wuerflach.at
SUMMARY:Jagdpachtauszahlung Würflach I
DESCRIPTION:Jagdpachtauszahlungstermine Würflach\nGenossenschaftsjagd I – Würflach \nDi\, 10.2. – von 15:00 – 18:00 Uhr im Gemeindeamt Würflach /Sitzungssaal\nDi\, 17.2. – von 15:00 – 18:00 Uhr im Gemeindeamt Würflach /Sitzungssaal \nSitzungssaal – Eingang im Hinterhof \n  \n  \n 
URL:https://www.wuerflach.at/event/jagdpachtauszahlung-wuerflach-i-2/
LOCATION:NÖ
CATEGORIES:Sonstige
END:VEVENT
BEGIN:VEVENT
DTSTART;TZID=Europe/Vienna:20260218T180000
DTEND;TZID=Europe/Vienna:20260218T180000
DTSTAMP:20260421T155124
CREATED:20260126T201017Z
LAST-MODIFIED:20260126T201017Z
UID:22998469-1771437600-1771437600@www.wuerflach.at
SUMMARY:Nordic Walking
DESCRIPTION:
URL:https://www.wuerflach.at/event/nordic-walking-96/
LOCATION:NÖ
CATEGORIES:Sport / Bewegung
END:VEVENT
BEGIN:VEVENT
DTSTART;TZID=Europe/Vienna:20260218T180000
DTEND;TZID=Europe/Vienna:20260218T180000
DTSTAMP:20260421T155124
CREATED:20260127T180922Z
LAST-MODIFIED:20260213T103528Z
UID:22998519-1771437600-1771437600@www.wuerflach.at
SUMMARY:Aschermittwoch - Abendmesse mit Austeilung des Aschenkreuzes
DESCRIPTION: 
URL:https://www.wuerflach.at/event/aschermittwoch-abendmesse-mit-austeilung-des-aschenkreuzes-3/
LOCATION:Pfarrkirche Würflach
CATEGORIES:Pfarre / religiöse Termine
ORGANIZER;CN="Pfarre W%C3%BCrflach":MAILTO:pfarre.wuerflach@katholischekirche.at
END:VEVENT
BEGIN:VEVENT
DTSTART;TZID=Europe/Vienna:20260218T193000
DTEND;TZID=Europe/Vienna:20260218T210000
DTSTAMP:20260421T155124
CREATED:20260126T202526Z
LAST-MODIFIED:20260126T202526Z
UID:22998485-1771443000-1771448400@www.wuerflach.at
SUMMARY:Männerturnen
DESCRIPTION:Männerturnen – Sport\, Bewegung\, Spiel und Spaß!\njeden Mittwoch von 19:30 bis 21:00 Uhr in der Würflacher Mehrzweckhalle \n  \n 
URL:https://www.wuerflach.at/event/maennerturnen-22/
LOCATION:Mehrzweckhalle der Volksschule\, Neunkirchner Str. 76\, Würflach\, NÖ\, 2732
CATEGORIES:Sport / Bewegung
END:VEVENT
BEGIN:VEVENT
DTSTART;TZID=Europe/Vienna:20260219T183000
DTEND;TZID=Europe/Vienna:20260219T200000
DTSTAMP:20260421T155124
CREATED:20260126T203233Z
LAST-MODIFIED:20260126T203233Z
UID:22998497-1771525800-1771531200@www.wuerflach.at
SUMMARY:Damengesundheitsturnen
DESCRIPTION:Damengesundheitsturnen mit Wirbelsäulengymnastik – Aufbautraining\, „DKB“ (dehnen\, kräftigen\, bewegen)\njeden Donnerstag von 18:30 bis 20:00 Uhr in der Würflacher Mehrzweckhalle \nEs würde uns freuen\, wenn wir Sie in einer unserer nächsten Turnstunden begrüßen könnten!\nEinfach zu einer Schnupperstunde kommen. \nNähere Informationen erhalten Sie bei Obfrau Eva Schweighofer – 0688/821 81 81. \n  \n  \n 
URL:https://www.wuerflach.at/event/damengesundheitsturnen-21/
LOCATION:Mehrzweckhalle der Volksschule\, Neunkirchner Str. 76\, Würflach\, NÖ\, 2732
CATEGORIES:Sport / Bewegung
END:VEVENT
BEGIN:VEVENT
DTSTART;TZID=Europe/Vienna:20260225T180000
DTEND;TZID=Europe/Vienna:20260225T180000
DTSTAMP:20260421T155124
CREATED:20260126T201101Z
LAST-MODIFIED:20260126T201101Z
UID:22998471-1772042400-1772042400@www.wuerflach.at
SUMMARY:Nordic Walking
DESCRIPTION:
URL:https://www.wuerflach.at/event/nordic-walking-97/
LOCATION:NÖ
CATEGORIES:Sport / Bewegung
END:VEVENT
BEGIN:VEVENT
DTSTART;TZID=Europe/Vienna:20260225T193000
DTEND;TZID=Europe/Vienna:20260225T210000
DTSTAMP:20260421T155124
CREATED:20260126T202605Z
LAST-MODIFIED:20260126T202617Z
UID:22998487-1772047800-1772053200@www.wuerflach.at
SUMMARY:Männerturnen
DESCRIPTION:Männerturnen – Sport\, Bewegung\, Spiel und Spaß!\njeden Mittwoch von 19:30 bis 21:00 Uhr in der Würflacher Mehrzweckhalle \n  \n 
URL:https://www.wuerflach.at/event/maennerturnen-23/
LOCATION:Mehrzweckhalle der Volksschule\, Neunkirchner Str. 76\, Würflach\, NÖ\, 2732
CATEGORIES:Sport / Bewegung
END:VEVENT
BEGIN:VEVENT
DTSTART;TZID=Europe/Vienna:20260226T150000
DTEND;TZID=Europe/Vienna:20260226T150000
DTSTAMP:20260421T155124
CREATED:20251209T190313Z
LAST-MODIFIED:20251209T190313Z
UID:22998115-1772118000-1772118000@www.wuerflach.at
SUMMARY:Stammtisch - Senioren Würflach
DESCRIPTION:Stammtisch; Reisebericht von Walter u. Manuela Pinkl über die Mühlviertel Herbstreise.\n15:00 Uhr im Gasthaus Seewald\nSenioren Würflach
URL:https://www.wuerflach.at/event/stammtisch-senioren-wuerflach-14/
LOCATION:NÖ
CATEGORIES:Vortrag / Workshop / Kurs
ORGANIZER;CN="Senioren W%C3%BCrflach - Obmann Hans Schauer":MAILTO:schauerh@aon.at
END:VEVENT
BEGIN:VEVENT
DTSTART;TZID=Europe/Vienna:20260226T183000
DTEND;TZID=Europe/Vienna:20260226T200000
DTSTAMP:20260421T155124
CREATED:20260126T203324Z
LAST-MODIFIED:20260126T203324Z
UID:22998499-1772130600-1772136000@www.wuerflach.at
SUMMARY:Damengesundheitsturnen
DESCRIPTION:Damengesundheitsturnen mit Wirbelsäulengymnastik – Aufbautraining\, „DKB“ (dehnen\, kräftigen\, bewegen)\njeden Donnerstag von 18:30 bis 20:00 Uhr in der Würflacher Mehrzweckhalle \nEs würde uns freuen\, wenn wir Sie in einer unserer nächsten Turnstunden begrüßen könnten!\nEinfach zu einer Schnupperstunde kommen. \nNähere Informationen erhalten Sie bei Obfrau Eva Schweighofer – 0688/821 81 81. \n  \n  \n 
URL:https://www.wuerflach.at/event/damengesundheitsturnen-22/
LOCATION:Mehrzweckhalle der Volksschule\, Neunkirchner Str. 76\, Würflach\, NÖ\, 2732
CATEGORIES:Sport / Bewegung
END:VEVENT
END:VCALENDAR