BEGIN:VCALENDAR
VERSION:2.0
PRODID:-//Gemeinde Wuerflach - ECPv6.15.19//NONSGML v1.0//EN
CALSCALE:GREGORIAN
METHOD:PUBLISH
X-WR-CALNAME:Gemeinde Wuerflach
X-ORIGINAL-URL:https://www.wuerflach.at
X-WR-CALDESC:Veranstaltungen für Gemeinde Wuerflach
REFRESH-INTERVAL;VALUE=DURATION:PT1H
X-Robots-Tag:noindex
X-PUBLISHED-TTL:PT1H
BEGIN:VTIMEZONE
TZID:Europe/Vienna
BEGIN:DAYLIGHT
TZOFFSETFROM:+0100
TZOFFSETTO:+0200
TZNAME:CEST
DTSTART:20240331T010000
END:DAYLIGHT
BEGIN:STANDARD
TZOFFSETFROM:+0200
TZOFFSETTO:+0100
TZNAME:CET
DTSTART:20241027T010000
END:STANDARD
BEGIN:DAYLIGHT
TZOFFSETFROM:+0100
TZOFFSETTO:+0200
TZNAME:CEST
DTSTART:20250330T010000
END:DAYLIGHT
BEGIN:STANDARD
TZOFFSETFROM:+0200
TZOFFSETTO:+0100
TZNAME:CET
DTSTART:20251026T010000
END:STANDARD
BEGIN:DAYLIGHT
TZOFFSETFROM:+0100
TZOFFSETTO:+0200
TZNAME:CEST
DTSTART:20260329T010000
END:DAYLIGHT
BEGIN:STANDARD
TZOFFSETFROM:+0200
TZOFFSETTO:+0100
TZNAME:CET
DTSTART:20261025T010000
END:STANDARD
END:VTIMEZONE
BEGIN:VEVENT
DTSTART;TZID=Europe/Vienna:20251101T090000
DTEND;TZID=Europe/Vienna:20251101T090000
DTSTAMP:20260421T211134
CREATED:20250129T222703Z
LAST-MODIFIED:20250129T222703Z
UID:22996046-1761987600-1761987600@www.wuerflach.at
SUMMARY:Allerheiligen
DESCRIPTION:9:00 Uhr – Hochamt\n14:00 Uhr Allerseelenandacht mit Gräbersegnung und Gedenken an die Gefallenen der Weltkriege \n 
URL:https://www.wuerflach.at/event/allerheiligen/
LOCATION:Pfarrkirche Würflach
CATEGORIES:Pfarre / religiöse Termine
ORGANIZER;CN="Pfarre W%C3%BCrflach":MAILTO:pfarre.wuerflach@katholischekirche.at
END:VEVENT
BEGIN:VEVENT
DTSTART;TZID=Europe/Vienna:20251101T130000
DTEND;TZID=Europe/Vienna:20251101T220000
DTSTAMP:20260421T211134
CREATED:20251024T080425Z
LAST-MODIFIED:20251024T082400Z
UID:22997737-1762002000-1762034400@www.wuerflach.at
SUMMARY:4-KLANG Neueröffnung Saunastüberl
DESCRIPTION:
URL:https://www.wuerflach.at/event/4-klang-neueroeffnung-saunastueberl/
LOCATION:WellnessWelt Würflach – Saunastüberl\, Badgasse 110\, Würflach\, NÖ\, 2732
CATEGORIES:Sport / Bewegung
END:VEVENT
BEGIN:VEVENT
DTSTART;TZID=Europe/Vienna:20251102T180000
DTEND;TZID=Europe/Vienna:20251102T180000
DTSTAMP:20260421T211134
CREATED:20250129T222838Z
LAST-MODIFIED:20250129T222838Z
UID:22996048-1762106400-1762106400@www.wuerflach.at
SUMMARY:Allerseelen
DESCRIPTION:18:00 Uhr Allerseelenrequiem mit gregorianischem Choral \n 
URL:https://www.wuerflach.at/event/allerseelen-2/
LOCATION:Pfarrkirche Würflach
CATEGORIES:Pfarre / religiöse Termine
ORGANIZER;CN="Pfarre W%C3%BCrflach":MAILTO:pfarre.wuerflach@katholischekirche.at
END:VEVENT
BEGIN:VEVENT
DTSTART;TZID=Europe/Vienna:20251104T140000
DTEND;TZID=Europe/Vienna:20251104T140000
DTSTAMP:20260421T211134
CREATED:20250129T222927Z
LAST-MODIFIED:20250808T055357Z
UID:22996050-1762264800-1762264800@www.wuerflach.at
SUMMARY:Wanderung - Senioren Würflach
DESCRIPTION:Wanderung Döpling  – 14:00 Uhr\nSenioren Würflach
URL:https://www.wuerflach.at/event/wanderung-senioren-wuerflach-19/
LOCATION:NÖ
CATEGORIES:Sport / Bewegung
ORGANIZER;CN="Senioren W%C3%BCrflach - Obmann Hans Schauer":MAILTO:schauerh@aon.at
END:VEVENT
BEGIN:VEVENT
DTSTART;TZID=Europe/Vienna:20251105T193000
DTEND;TZID=Europe/Vienna:20251105T210000
DTSTAMP:20260421T211134
CREATED:20250818T105811Z
LAST-MODIFIED:20250818T105811Z
UID:22997365-1762371000-1762376400@www.wuerflach.at
SUMMARY:Männerturnen
DESCRIPTION:Männerturnen – Sport\, Bewegung\, Spiel und Spaß!\njeden Mittwoch von 19:30 bis 21:00 Uhr in der Würflacher Mehrzweckhalle \n  \n 
URL:https://www.wuerflach.at/event/maennerturnen-9/
LOCATION:Mehrzweckhalle der Volksschule\, Neunkirchner Str. 76\, Würflach\, NÖ\, 2732
CATEGORIES:Sport / Bewegung
END:VEVENT
BEGIN:VEVENT
DTSTART;TZID=Europe/Vienna:20251106T183000
DTEND;TZID=Europe/Vienna:20251106T200000
DTSTAMP:20260421T211134
CREATED:20250813T104109Z
LAST-MODIFIED:20250813T104109Z
UID:22997295-1762453800-1762459200@www.wuerflach.at
SUMMARY:Damengesundheitsturnen
DESCRIPTION:Damengesundheitsturnen mit Wirbelsäulengymnastik – Aufbautraining\, „DKB“ (dehnen\, kräftigen\, bewegen)\njeden Donnerstag von 18:30 bis 20:00 Uhr in der Würflacher Mehrzweckhalle \nEs würde uns freuen\, wenn wir Sie in einer unserer nächsten Turnstunden begrüßen könnten!\nEinfach zu einer Schnupperstunde kommen. \nNähere Informationen erhalten Sie bei Obfrau Eva Schweighofer – 0688/821 81 81. \n  \n  \n 
URL:https://www.wuerflach.at/event/damengesundheitsturnen-8/
LOCATION:Mehrzweckhalle der Volksschule\, Neunkirchner Str. 76\, Würflach\, NÖ\, 2732
CATEGORIES:Sport / Bewegung
END:VEVENT
BEGIN:VEVENT
DTSTART;TZID=Europe/Vienna:20251108T090000
DTEND;TZID=Europe/Vienna:20251108T100000
DTSTAMP:20260421T211134
CREATED:20250915T070038Z
LAST-MODIFIED:20250915T070038Z
UID:22997507-1762592400-1762596000@www.wuerflach.at
SUMMARY:Rechtsberatung
DESCRIPTION:Sehr geehrte Damen und Herren!\nKostenlose Rechtsberatung von Fr. Rechtsanwältin Dr. Daniela Schiesl-Müller im Gemeindesitzungssaal.\nEine Anmeldung ist nicht erforderlich. Bitte nehmen Sie ihre Rechtsschutz Polizzen-Nr. zum Termin mit.\nKontakt: Fr. Dr. Daniela Schiesl-Müller\nTel: 02262/641 69\, Mobil: 0664/523 51 19\nE-Mail: office@schieslaw.at / www.schieslaw.at \n  \n  \n 
URL:https://www.wuerflach.at/event/rechtsberatung-10/
LOCATION:Sitzungssaal der Gemeinde (Eingang im Hinterhof)\, Willendorfer Straße 150\, Würflach\, NÖ\, 2732
CATEGORIES:Sonstige
END:VEVENT
BEGIN:VEVENT
DTSTART;TZID=Europe/Vienna:20251108T133000
DTEND;TZID=Europe/Vienna:20251108T133000
DTSTAMP:20260421T211134
CREATED:20250129T223414Z
LAST-MODIFIED:20251103T190010Z
UID:22996052-1762608600-1762608600@www.wuerflach.at
SUMMARY:Hubertusandacht beim Jägermarterl in Hettmannsdorf
DESCRIPTION:Hubertusandacht beim Jägermarterl in Hettmannsdorf – 13:30 Uhr\nJagdgesellschaft Hettmannsdorf \n 
URL:https://www.wuerflach.at/event/hubertusandacht-beim-jaegermarterl-in-hettmannsdorf-2/
LOCATION:NÖ
CATEGORIES:Sonstige
END:VEVENT
BEGIN:VEVENT
DTSTART;VALUE=DATE:20251110
DTEND;VALUE=DATE:20251111
DTSTAMP:20260421T211134
CREATED:20241106T204355Z
LAST-MODIFIED:20241106T204355Z
UID:22995275-1762732800-1762819199@www.wuerflach.at
SUMMARY:Biotonnen
DESCRIPTION:Alle Tonnen bitte bis 6:30 Uhr vor Ihrer Liegenschaft bereitstellen!
URL:https://www.wuerflach.at/event/biotonnen-20/
LOCATION:NÖ
CATEGORIES:Biotonne
END:VEVENT
BEGIN:VEVENT
DTSTART;VALUE=DATE:20251110
DTEND;VALUE=DATE:20251111
DTSTAMP:20260421T211134
CREATED:20241111T224618Z
LAST-MODIFIED:20241111T224618Z
UID:22995352-1762732800-1762819199@www.wuerflach.at
SUMMARY:Windelabholung
DESCRIPTION:Die Restmüllsäcke (gut zugebunden) bitte bis 6:30 Uhr vor Ihrer Liegenschaft bereitstellen!\nBitte um An- und Abmeldung der Windelabholungen im Gemeindeamt.\nEs werden nur Säcke der Haushalte abgeholt\, welche auf der Gemeinde-Abholliste eingetragen sind!
URL:https://www.wuerflach.at/event/windelabholung-13/
LOCATION:NÖ
CATEGORIES:Windelabholung
END:VEVENT
BEGIN:VEVENT
DTSTART;TZID=Europe/Vienna:20251111T113000
DTEND;TZID=Europe/Vienna:20251111T113000
DTSTAMP:20260421T211134
CREATED:20250129T223621Z
LAST-MODIFIED:20250219T081718Z
UID:22996054-1762860600-1762860600@www.wuerflach.at
SUMMARY:Ganslessen in Bad Waltersdorf - Pensionistenverband Würflach
DESCRIPTION:Ganslessen in Bad Waltersdorf – 11:30 Uhr – Pensionistenverband Würflach \n 
URL:https://www.wuerflach.at/event/ganslessen-in-bad-waltersdorf-pensionistenverband-wuerflach/
LOCATION:NÖ
CATEGORIES:Ausflug / Ausfahrt / Reise
END:VEVENT
BEGIN:VEVENT
DTSTART;TZID=Europe/Vienna:20251112T101500
DTEND;TZID=Europe/Vienna:20251112T101500
DTSTAMP:20260421T211134
CREATED:20240219T131523Z
LAST-MODIFIED:20250818T071420Z
UID:22992458-1762942500-1762942500@www.wuerflach.at
SUMMARY:Ganslessen in Rettenbach - Pensionistenverband Würflach
DESCRIPTION:Ganslessen in Rettenbach – 10:15 Uhr –\nmit anschließender Besichtigung der Krippenausstellung in Scheiblingkirchen\nPensionistenverband Würflach \n 
URL:https://www.wuerflach.at/event/ganslessen-in-rettenbach-pensionistenverband-wuerflach/
LOCATION:NÖ
CATEGORIES:Ausflug / Ausfahrt / Reise
END:VEVENT
BEGIN:VEVENT
DTSTART;TZID=Europe/Vienna:20251112T193000
DTEND;TZID=Europe/Vienna:20251112T210000
DTSTAMP:20260421T211134
CREATED:20250818T105849Z
LAST-MODIFIED:20250818T105849Z
UID:22997367-1762975800-1762981200@www.wuerflach.at
SUMMARY:Männerturnen
DESCRIPTION:Männerturnen – Sport\, Bewegung\, Spiel und Spaß!\njeden Mittwoch von 19:30 bis 21:00 Uhr in der Würflacher Mehrzweckhalle \n  \n 
URL:https://www.wuerflach.at/event/maennerturnen-10/
LOCATION:Mehrzweckhalle der Volksschule\, Neunkirchner Str. 76\, Würflach\, NÖ\, 2732
CATEGORIES:Sport / Bewegung
END:VEVENT
BEGIN:VEVENT
DTSTART;TZID=Europe/Vienna:20251113T183000
DTEND;TZID=Europe/Vienna:20251113T200000
DTSTAMP:20260421T211134
CREATED:20250813T104152Z
LAST-MODIFIED:20250813T104152Z
UID:22997297-1763058600-1763064000@www.wuerflach.at
SUMMARY:Damengesundheitsturnen
DESCRIPTION:Damengesundheitsturnen mit Wirbelsäulengymnastik – Aufbautraining\, „DKB“ (dehnen\, kräftigen\, bewegen)\njeden Donnerstag von 18:30 bis 20:00 Uhr in der Würflacher Mehrzweckhalle \nEs würde uns freuen\, wenn wir Sie in einer unserer nächsten Turnstunden begrüßen könnten!\nEinfach zu einer Schnupperstunde kommen. \nNähere Informationen erhalten Sie bei Obfrau Eva Schweighofer – 0688/821 81 81. \n  \n  \n 
URL:https://www.wuerflach.at/event/damengesundheitsturnen-9/
LOCATION:Mehrzweckhalle der Volksschule\, Neunkirchner Str. 76\, Würflach\, NÖ\, 2732
CATEGORIES:Sport / Bewegung
END:VEVENT
BEGIN:VEVENT
DTSTART;TZID=Europe/Vienna:20251116T090000
DTEND;TZID=Europe/Vienna:20251116T090000
DTSTAMP:20260421T211134
CREATED:20251110T130105Z
LAST-MODIFIED:20251110T130210Z
UID:22997947-1763283600-1763283600@www.wuerflach.at
SUMMARY:Wein-Most-Edelbrände Segnung
DESCRIPTION:
URL:https://www.wuerflach.at/event/wein-most-edelbraende-segnung/
LOCATION:Akazienhof\, Neunkirchner Str. 104\, Würflach\, 2732
CATEGORIES:Heuriger / Kulinarik
ORGANIZER;CN="Gemeinsam f%C3%BCr W%C3%BCrflach (unabh%C3%A4ngige B%C3%BCrgerliste)":MAILTO:gemeinsam@wuerflach.info
END:VEVENT
BEGIN:VEVENT
DTSTART;TZID=Europe/Vienna:20251117T183000
DTEND;TZID=Europe/Vienna:20251117T183000
DTSTAMP:20260421T211134
CREATED:20251110T130933Z
LAST-MODIFIED:20251110T130933Z
UID:22997952-1763404200-1763404200@www.wuerflach.at
SUMMARY:Arbeitskreissitzung Gesunde Gemeinde
DESCRIPTION:  \n 
URL:https://www.wuerflach.at/event/arbeitskreissitzung-gesunde-gemeinde/
LOCATION:Akazienhof\, Neunkirchner Str. 104\, Würflach\, 2732
CATEGORIES:Heuriger / Kulinarik
ORGANIZER;CN="Gemeinsam f%C3%BCr W%C3%BCrflach (unabh%C3%A4ngige B%C3%BCrgerliste)":MAILTO:gemeinsam@wuerflach.info
END:VEVENT
BEGIN:VEVENT
DTSTART;TZID=Europe/Vienna:20251119T193000
DTEND;TZID=Europe/Vienna:20251119T210000
DTSTAMP:20260421T211134
CREATED:20250818T105922Z
LAST-MODIFIED:20250818T105922Z
UID:22997369-1763580600-1763586000@www.wuerflach.at
SUMMARY:Männerturnen
DESCRIPTION:Männerturnen – Sport\, Bewegung\, Spiel und Spaß!\njeden Mittwoch von 19:30 bis 21:00 Uhr in der Würflacher Mehrzweckhalle \n  \n 
URL:https://www.wuerflach.at/event/maennerturnen-11/
LOCATION:Mehrzweckhalle der Volksschule\, Neunkirchner Str. 76\, Würflach\, NÖ\, 2732
CATEGORIES:Sport / Bewegung
END:VEVENT
BEGIN:VEVENT
DTSTART;TZID=Europe/Vienna:20251120T000000
DTEND;TZID=Europe/Vienna:20251120T000000
DTSTAMP:20260421T211134
CREATED:20250129T223729Z
LAST-MODIFIED:20251110T122740Z
UID:22996056-1763596800-1763596800@www.wuerflach.at
SUMMARY:Ausflug - Senioren Würflach
DESCRIPTION:Ausflug ins Burgenland mit Ganslessen.\nVorher Besichtigung der Bürstenerzeugung Eckhart in Mattersburg\, anschließend Ganslessen in Weinhaus Staudinger in Rohrbach.\nSenioren Würflach
URL:https://www.wuerflach.at/event/ausflug-senioren-wuerflach/
LOCATION:NÖ
CATEGORIES:Ausflug / Ausfahrt / Reise
ORGANIZER;CN="Senioren W%C3%BCrflach - Obmann Hans Schauer":MAILTO:schauerh@aon.at
END:VEVENT
BEGIN:VEVENT
DTSTART;TZID=Europe/Vienna:20251120T183000
DTEND;TZID=Europe/Vienna:20251120T200000
DTSTAMP:20260421T211134
CREATED:20250813T104227Z
LAST-MODIFIED:20250813T104227Z
UID:22997299-1763663400-1763668800@www.wuerflach.at
SUMMARY:Damengesundheitsturnen
DESCRIPTION:Damengesundheitsturnen mit Wirbelsäulengymnastik – Aufbautraining\, „DKB“ (dehnen\, kräftigen\, bewegen)\njeden Donnerstag von 18:30 bis 20:00 Uhr in der Würflacher Mehrzweckhalle \nEs würde uns freuen\, wenn wir Sie in einer unserer nächsten Turnstunden begrüßen könnten!\nEinfach zu einer Schnupperstunde kommen. \nNähere Informationen erhalten Sie bei Obfrau Eva Schweighofer – 0688/821 81 81. \n  \n  \n 
URL:https://www.wuerflach.at/event/damengesundheitsturnen-10/
LOCATION:Mehrzweckhalle der Volksschule\, Neunkirchner Str. 76\, Würflach\, NÖ\, 2732
CATEGORIES:Sport / Bewegung
END:VEVENT
BEGIN:VEVENT
DTSTART;TZID=Europe/Vienna:20251121T090000
DTEND;TZID=Europe/Vienna:20251121T180000
DTSTAMP:20260421T211134
CREATED:20250129T224304Z
LAST-MODIFIED:20250129T224304Z
UID:22996058-1763715600-1763748000@www.wuerflach.at
SUMMARY:Weihnachtsmarkt – Fa. Schauer\, tägl. 9:00 – 18:00 im GH Seewald
DESCRIPTION:
URL:https://www.wuerflach.at/event/weihnachtsmarkt-fa-schauer-taegl-900-1800-im-gh-seewald-2/
LOCATION:Gasthaus Seewald\, Hettmannsdorfer Str. 30\, Würflach\, NÖ\, 2732\, Österreich
CATEGORIES:Sonstige
ORGANIZER;CN="Fa. Schauer":MAILTO:hansschauer@malerei-schauer.at
END:VEVENT
BEGIN:VEVENT
DTSTART;TZID=Europe/Vienna:20251122T090000
DTEND;TZID=Europe/Vienna:20251122T180000
DTSTAMP:20260421T211134
CREATED:20250129T224431Z
LAST-MODIFIED:20250129T224431Z
UID:22996060-1763802000-1763834400@www.wuerflach.at
SUMMARY:Weihnachtsmarkt – Fa. Schauer\, tägl. 9:00 – 18:00 im GH Seewald
DESCRIPTION:
URL:https://www.wuerflach.at/event/weihnachtsmarkt-fa-schauer-taegl-900-1800-im-gh-seewald-5/
LOCATION:Gasthaus Seewald\, Hettmannsdorfer Str. 30\, Würflach\, NÖ\, 2732\, Österreich
CATEGORIES:Sonstige
ORGANIZER;CN="Fa. Schauer":MAILTO:hansschauer@malerei-schauer.at
END:VEVENT
BEGIN:VEVENT
DTSTART;TZID=Europe/Vienna:20251122T170000
DTEND;TZID=Europe/Vienna:20251122T170000
DTSTAMP:20260421T211134
CREATED:20250129T224818Z
LAST-MODIFIED:20251022T122629Z
UID:22996064-1763830800-1763830800@www.wuerflach.at
SUMMARY:Buchpräsentation u. Multimediavortrag mit Herbert Hirschler
DESCRIPTION:Veranstalter: Gemeindebücherei Würflach \n 
URL:https://www.wuerflach.at/event/multimediavortrag-mit-herbert-hirschler/
LOCATION:Sitzungssaal der Gemeinde (Eingang im Hinterhof)\, Willendorfer Straße 150\, Würflach\, NÖ\, 2732
CATEGORIES:Lesung
ORGANIZER;CN="B%C3%BCcherei W%C3%BCrflach":MAILTO:buecherei@wuerflach.at
END:VEVENT
BEGIN:VEVENT
DTSTART;TZID=Europe/Vienna:20251123T090000
DTEND;TZID=Europe/Vienna:20251123T180000
DTSTAMP:20260421T211134
CREATED:20250129T224506Z
LAST-MODIFIED:20250129T224527Z
UID:22996062-1763888400-1763920800@www.wuerflach.at
SUMMARY:Weihnachtsmarkt – Fa. Schauer\, tägl. 9:00 – 18:00 im GH Seewald
DESCRIPTION:
URL:https://www.wuerflach.at/event/weihnachtsmarkt-fa-schauer-taegl-900-1800-im-gh-seewald-6/
LOCATION:Gasthaus Seewald\, Hettmannsdorfer Str. 30\, Würflach\, NÖ\, 2732\, Österreich
CATEGORIES:Sonstige
ORGANIZER;CN="Fa. Schauer":MAILTO:hansschauer@malerei-schauer.at
END:VEVENT
BEGIN:VEVENT
DTSTART;VALUE=DATE:20251124
DTEND;VALUE=DATE:20251125
DTSTAMP:20260421T211134
CREATED:20241106T201813Z
LAST-MODIFIED:20241106T201813Z
UID:22995231-1763942400-1764028799@www.wuerflach.at
SUMMARY:Restmüll
DESCRIPTION:Alle Restmüllsäcke (gut zugebunden) bitte bis 6:30 Uhr vor Ihrer Liegenschaft bereitstellen!
URL:https://www.wuerflach.at/event/restmuell-12/
LOCATION:NÖ
CATEGORIES:RMS Restmüllsäcke
END:VEVENT
BEGIN:VEVENT
DTSTART;VALUE=DATE:20251125
DTEND;VALUE=DATE:20251126
DTSTAMP:20260421T211134
CREATED:20241106T205050Z
LAST-MODIFIED:20241106T205050Z
UID:22995289-1764028800-1764115199@www.wuerflach.at
SUMMARY:Altpapier
DESCRIPTION:Alle Tonnen bitte bis 6:30 Uhr vor Ihrer Liegenschaft bereitstellen! \n 
URL:https://www.wuerflach.at/event/altpapier-6/
LOCATION:NÖ
CATEGORIES:Altpapier
END:VEVENT
BEGIN:VEVENT
DTSTART;VALUE=DATE:20251126
DTEND;VALUE=DATE:20251127
DTSTAMP:20260421T211134
CREATED:20241111T223640Z
LAST-MODIFIED:20241111T223640Z
UID:22995330-1764115200-1764201599@www.wuerflach.at
SUMMARY:Gelber Sack
DESCRIPTION:Alle gelben Säcke (gut zugebunden) bitte bis 6:30 Uhr vor Ihrer Liegenschaft bereitstellen!
URL:https://www.wuerflach.at/event/gelber-sack-12/
LOCATION:NÖ
CATEGORIES:gelber Sack
END:VEVENT
BEGIN:VEVENT
DTSTART;TZID=Europe/Vienna:20251126T193000
DTEND;TZID=Europe/Vienna:20251126T210000
DTSTAMP:20260421T211134
CREATED:20250818T110005Z
LAST-MODIFIED:20250818T110005Z
UID:22997371-1764185400-1764190800@www.wuerflach.at
SUMMARY:Männerturnen
DESCRIPTION:Männerturnen – Sport\, Bewegung\, Spiel und Spaß!\njeden Mittwoch von 19:30 bis 21:00 Uhr in der Würflacher Mehrzweckhalle \n  \n 
URL:https://www.wuerflach.at/event/maennerturnen-12/
LOCATION:Mehrzweckhalle der Volksschule\, Neunkirchner Str. 76\, Würflach\, NÖ\, 2732
CATEGORIES:Sport / Bewegung
END:VEVENT
BEGIN:VEVENT
DTSTART;TZID=Europe/Vienna:20251127T183000
DTEND;TZID=Europe/Vienna:20251127T200000
DTSTAMP:20260421T211134
CREATED:20250813T104308Z
LAST-MODIFIED:20250813T104308Z
UID:22997301-1764268200-1764273600@www.wuerflach.at
SUMMARY:Damengesundheitsturnen
DESCRIPTION:Damengesundheitsturnen mit Wirbelsäulengymnastik – Aufbautraining\, „DKB“ (dehnen\, kräftigen\, bewegen)\njeden Donnerstag von 18:30 bis 20:00 Uhr in der Würflacher Mehrzweckhalle \nEs würde uns freuen\, wenn wir Sie in einer unserer nächsten Turnstunden begrüßen könnten!\nEinfach zu einer Schnupperstunde kommen. \nNähere Informationen erhalten Sie bei Obfrau Eva Schweighofer – 0688/821 81 81. \n  \n  \n 
URL:https://www.wuerflach.at/event/damengesundheitsturnen-11/
LOCATION:Mehrzweckhalle der Volksschule\, Neunkirchner Str. 76\, Würflach\, NÖ\, 2732
CATEGORIES:Sport / Bewegung
END:VEVENT
BEGIN:VEVENT
DTSTART;TZID=Europe/Vienna:20251129T140000
DTEND;TZID=Europe/Vienna:20251129T140000
DTSTAMP:20260421T211134
CREATED:20251030T070642Z
LAST-MODIFIED:20251030T070903Z
UID:22997764-1764424800-1764424800@www.wuerflach.at
SUMMARY:kleiner Advent der Bürgerliste
DESCRIPTION:„kleiner Advent“  im Akazienhof\, 14:00 Uhr\, Gemeinsam für Würflach / unabhängige Bürgerliste \n 
URL:https://www.wuerflach.at/event/kleiner-advent-der-buergerliste-2/
LOCATION:Akazienhof\, Neunkirchner Str. 104\, Würflach\, 2732
CATEGORIES:Heuriger / Kulinarik
ORGANIZER;CN="Gemeinsam f%C3%BCr W%C3%BCrflach (unabh%C3%A4ngige B%C3%BCrgerliste)":MAILTO:gemeinsam@wuerflach.info
END:VEVENT
BEGIN:VEVENT
DTSTART;TZID=Europe/Vienna:20251130T090000
DTEND;TZID=Europe/Vienna:20251130T090000
DTSTAMP:20260421T211134
CREATED:20250129T224959Z
LAST-MODIFIED:20250129T225011Z
UID:22996066-1764493200-1764493200@www.wuerflach.at
SUMMARY:1. Adventsonntag
DESCRIPTION:9:00 Uhr – hl. Messe mit Segnung der Adventkränze \n 
URL:https://www.wuerflach.at/event/1-adventsonntag-3/
LOCATION:Pfarrkirche Würflach
CATEGORIES:Pfarre / religiöse Termine
ORGANIZER;CN="Pfarre W%C3%BCrflach":MAILTO:pfarre.wuerflach@katholischekirche.at
END:VEVENT
END:VCALENDAR