BEGIN:VCALENDAR
VERSION:2.0
PRODID:-//Gemeinde Wuerflach - ECPv6.15.19//NONSGML v1.0//EN
CALSCALE:GREGORIAN
METHOD:PUBLISH
X-ORIGINAL-URL:https://www.wuerflach.at
X-WR-CALDESC:Veranstaltungen für Gemeinde Wuerflach
REFRESH-INTERVAL;VALUE=DURATION:PT1H
X-Robots-Tag:noindex
X-PUBLISHED-TTL:PT1H
BEGIN:VTIMEZONE
TZID:Europe/Vienna
BEGIN:DAYLIGHT
TZOFFSETFROM:+0100
TZOFFSETTO:+0200
TZNAME:CEST
DTSTART:20240331T010000
END:DAYLIGHT
BEGIN:STANDARD
TZOFFSETFROM:+0200
TZOFFSETTO:+0100
TZNAME:CET
DTSTART:20241027T010000
END:STANDARD
BEGIN:DAYLIGHT
TZOFFSETFROM:+0100
TZOFFSETTO:+0200
TZNAME:CEST
DTSTART:20250330T010000
END:DAYLIGHT
BEGIN:STANDARD
TZOFFSETFROM:+0200
TZOFFSETTO:+0100
TZNAME:CET
DTSTART:20251026T010000
END:STANDARD
BEGIN:DAYLIGHT
TZOFFSETFROM:+0100
TZOFFSETTO:+0200
TZNAME:CEST
DTSTART:20260329T010000
END:DAYLIGHT
BEGIN:STANDARD
TZOFFSETFROM:+0200
TZOFFSETTO:+0100
TZNAME:CET
DTSTART:20261025T010000
END:STANDARD
END:VTIMEZONE
BEGIN:VEVENT
DTSTART;VALUE=DATE:20251001
DTEND;VALUE=DATE:20251002
DTSTAMP:20260421T230720
CREATED:20241111T223543Z
LAST-MODIFIED:20241111T223543Z
UID:22995326-1759276800-1759363199@www.wuerflach.at
SUMMARY:Gelber Sack
DESCRIPTION:Alle gelben Säcke (gut zugebunden) bitte bis 6:30 Uhr vor Ihrer Liegenschaft bereitstellen!
URL:https://www.wuerflach.at/event/gelber-sack-10/
LOCATION:NÖ
CATEGORIES:gelber Sack
END:VEVENT
BEGIN:VEVENT
DTSTART;TZID=Europe/Vienna:20251001T140000
DTEND;TZID=Europe/Vienna:20251001T140000
DTSTAMP:20260421T230720
CREATED:20250129T220424Z
LAST-MODIFIED:20250808T053930Z
UID:22996023-1759327200-1759327200@www.wuerflach.at
SUMMARY:Wanderung - Senioren Würflach
DESCRIPTION:Wanderung in die Klamm – 14:00 Uhr\nSenioren Würflach
URL:https://www.wuerflach.at/event/wanderung-senioren-wuerflach-18/
LOCATION:NÖ
CATEGORIES:Sport / Bewegung
ORGANIZER;CN="Senioren W%C3%BCrflach - Obmann Hans Schauer":MAILTO:schauerh@aon.at
END:VEVENT
BEGIN:VEVENT
DTSTART;TZID=Europe/Vienna:20251001T180000
DTEND;TZID=Europe/Vienna:20251001T180000
DTSTAMP:20260421T230720
CREATED:20250417T111512Z
LAST-MODIFIED:20250417T111512Z
UID:22996556-1759341600-1759341600@www.wuerflach.at
SUMMARY:Nordic Walking
DESCRIPTION:
URL:https://www.wuerflach.at/event/nordic-walking-88/
LOCATION:NÖ
CATEGORIES:Sport / Bewegung
END:VEVENT
BEGIN:VEVENT
DTSTART;TZID=Europe/Vienna:20251001T193000
DTEND;TZID=Europe/Vienna:20251001T210000
DTSTAMP:20260421T230720
CREATED:20250818T105427Z
LAST-MODIFIED:20250818T105427Z
UID:22997357-1759347000-1759352400@www.wuerflach.at
SUMMARY:Männerturnen
DESCRIPTION:Männerturnen – Sport\, Bewegung\, Spiel und Spaß!\njeden Mittwoch von 19:30 bis 21:00 Uhr in der Würflacher Mehrzweckhalle \n  \n 
URL:https://www.wuerflach.at/event/maennerturnen-5/
LOCATION:Mehrzweckhalle der Volksschule\, Neunkirchner Str. 76\, Würflach\, NÖ\, 2732
CATEGORIES:Sport / Bewegung
END:VEVENT
BEGIN:VEVENT
DTSTART;TZID=Europe/Vienna:20251002T150000
DTEND;TZID=Europe/Vienna:20251002T150000
DTSTAMP:20260421T230720
CREATED:20250818T061317Z
LAST-MODIFIED:20250818T061603Z
UID:22997342-1759417200-1759417200@www.wuerflach.at
SUMMARY:Heurigenbesuch - Pensionistenverband Würflach
DESCRIPTION:Heurigenbesuch beim Haslbacher in Willendorf\, 15:00\,\n(Fußgänger – 14:30 Uhr\, Brücke Johannesbach)\nPensionistenverband Würflach \n 
URL:https://www.wuerflach.at/event/heurigenbesuch-pensionistenverband-wuerflach-3/
LOCATION:NÖ
CATEGORIES:Sonstige
END:VEVENT
BEGIN:VEVENT
DTSTART;TZID=Europe/Vienna:20251002T183000
DTEND;TZID=Europe/Vienna:20251002T200000
DTSTAMP:20260421T230720
CREATED:20250813T103832Z
LAST-MODIFIED:20250813T103832Z
UID:22997289-1759429800-1759435200@www.wuerflach.at
SUMMARY:Damengesundheitsturnen
DESCRIPTION:Damengesundheitsturnen mit Wirbelsäulengymnastik – Aufbautraining\, „DKB“ (dehnen\, kräftigen\, bewegen)\njeden Donnerstag von 18:30 bis 20:00 Uhr in der Würflacher Mehrzweckhalle \nEs würde uns freuen\, wenn wir Sie in einer unserer nächsten Turnstunden begrüßen könnten!\nEinfach zu einer Schnupperstunde kommen. \nNähere Informationen erhalten Sie bei Obfrau Eva Schweighofer – 0688/821 81 81. \n  \n  \n 
URL:https://www.wuerflach.at/event/damengesundheitsturnen-5/
LOCATION:Mehrzweckhalle der Volksschule\, Neunkirchner Str. 76\, Würflach\, NÖ\, 2732
CATEGORIES:Sport / Bewegung
END:VEVENT
BEGIN:VEVENT
DTSTART;TZID=Europe/Vienna:20251003T130000
DTEND;TZID=Europe/Vienna:20251003T130000
DTSTAMP:20260421T230720
CREATED:20250129T221046Z
LAST-MODIFIED:20250219T081253Z
UID:22996029-1759496400-1759496400@www.wuerflach.at
SUMMARY:Abschlussfahrt nach Aspang - Pensionistenverband Würflach
DESCRIPTION:Abschlussfahrt nach Aspang\, 13:00 Uhr – Pensionistenverband Würflach \n 
URL:https://www.wuerflach.at/event/abschlussfahrt-nach-aspang-pensionistenverband-wuerflach/
LOCATION:NÖ
CATEGORIES:Ausflug / Ausfahrt / Reise
END:VEVENT
BEGIN:VEVENT
DTSTART;TZID=Europe/Vienna:20251004T090000
DTEND;TZID=Europe/Vienna:20251004T130000
DTSTAMP:20260421T230720
CREATED:20250129T221220Z
LAST-MODIFIED:20250129T221340Z
UID:22996031-1759568400-1759582800@www.wuerflach.at
SUMMARY:Feuerlöscherüberprüfung
DESCRIPTION:  \n \nSamstag\, 4.10.  – 9:00 – 13:00 Uhr – im FF Gerätehaus \n  \n  \n 
URL:https://www.wuerflach.at/event/feuerloescherueberpruefung-2/
LOCATION:Feuerwehr-Gerätehaus\, Neunkirchner Str. 85\, Würflach\, Austria (+43)\, 2732\, Österreich
CATEGORIES:Sonstige
END:VEVENT
BEGIN:VEVENT
DTSTART;TZID=Europe/Vienna:20251004T090000
DTEND;TZID=Europe/Vienna:20251004T140000
DTSTAMP:20260421T230720
CREATED:20250129T221631Z
LAST-MODIFIED:20250812T050742Z
UID:22996034-1759568400-1759586400@www.wuerflach.at
SUMMARY:Actionday - im FF Gerätehaus
DESCRIPTION:  \n \n  \n  \n 
URL:https://www.wuerflach.at/event/actionday-im-ff-geraetehaus/
LOCATION:Feuerwehr-Gerätehaus\, Neunkirchner Str. 85\, Würflach\, Austria (+43)\, 2732\, Österreich
CATEGORIES:Sonstige
END:VEVENT
BEGIN:VEVENT
DTSTART;TZID=Europe/Vienna:20251004T100000
DTEND;TZID=Europe/Vienna:20251004T140000
DTSTAMP:20260421T230720
CREATED:20250129T221822Z
LAST-MODIFIED:20250812T050925Z
UID:22996036-1759572000-1759586400@www.wuerflach.at
SUMMARY:FF-Schnuppertag - im FF Gerätehaus
DESCRIPTION:  \n \nFF-Schnuppertag für Erwachsene – Motto „Wann\, wenn nicht jetzt“\nSamstag\, 4.10.  – 10:00 – 14:00 Uhr – im FF Gerätehaus \n  \n  \n 
URL:https://www.wuerflach.at/event/ff-schnuppertag-im-ff-geraetehaus/
LOCATION:Feuerwehr-Gerätehaus\, Neunkirchner Str. 85\, Würflach\, Austria (+43)\, 2732\, Österreich
CATEGORIES:Sonstige
END:VEVENT
BEGIN:VEVENT
DTSTART;TZID=Europe/Vienna:20251004T120000
DTEND;TZID=Europe/Vienna:20251004T130000
DTSTAMP:20260421T230720
CREATED:20250918T140657Z
LAST-MODIFIED:20250918T140804Z
UID:22997569-1759579200-1759582800@www.wuerflach.at
SUMMARY:Zivilschutz-Probelalarm
DESCRIPTION:  \n  \n  \n 
URL:https://www.wuerflach.at/event/zivilschutz-probelalarm-2/
LOCATION:nur Information
CATEGORIES:Sonstige
END:VEVENT
BEGIN:VEVENT
DTSTART;TZID=Europe/Vienna:20251005T090000
DTEND;TZID=Europe/Vienna:20251005T090000
DTSTAMP:20260421T230720
CREATED:20250129T222020Z
LAST-MODIFIED:20250918T080124Z
UID:22996038-1759654800-1759654800@www.wuerflach.at
SUMMARY:Erntedankfest
DESCRIPTION:  \n  \n 
URL:https://www.wuerflach.at/event/erntedankfest-2/
LOCATION:Pfarrkirche Würflach
CATEGORIES:Pfarre / religiöse Termine
ORGANIZER;CN="Pfarre W%C3%BCrflach":MAILTO:pfarre.wuerflach@katholischekirche.at
END:VEVENT
BEGIN:VEVENT
DTSTART;TZID=Europe/Vienna:20251008T180000
DTEND;TZID=Europe/Vienna:20251008T180000
DTSTAMP:20260421T230720
CREATED:20250417T111550Z
LAST-MODIFIED:20250417T111550Z
UID:22996558-1759946400-1759946400@www.wuerflach.at
SUMMARY:Nordic Walking
DESCRIPTION:
URL:https://www.wuerflach.at/event/nordic-walking-89/
LOCATION:NÖ
CATEGORIES:Sport / Bewegung
END:VEVENT
BEGIN:VEVENT
DTSTART;TZID=Europe/Vienna:20251008T193000
DTEND;TZID=Europe/Vienna:20251008T210000
DTSTAMP:20260421T230720
CREATED:20250818T105507Z
LAST-MODIFIED:20250818T105531Z
UID:22997359-1759951800-1759957200@www.wuerflach.at
SUMMARY:Männerturnen
DESCRIPTION:Männerturnen – Sport\, Bewegung\, Spiel und Spaß!\njeden Mittwoch von 19:30 bis 21:00 Uhr in der Würflacher Mehrzweckhalle \n  \n 
URL:https://www.wuerflach.at/event/maennerturnen-6/
LOCATION:Mehrzweckhalle der Volksschule\, Neunkirchner Str. 76\, Würflach\, NÖ\, 2732
CATEGORIES:Sport / Bewegung
END:VEVENT
BEGIN:VEVENT
DTSTART;TZID=Europe/Vienna:20251009T183000
DTEND;TZID=Europe/Vienna:20251009T200000
DTSTAMP:20260421T230720
CREATED:20250813T103911Z
LAST-MODIFIED:20250813T103911Z
UID:22997291-1760034600-1760040000@www.wuerflach.at
SUMMARY:Damengesundheitsturnen
DESCRIPTION:Damengesundheitsturnen mit Wirbelsäulengymnastik – Aufbautraining\, „DKB“ (dehnen\, kräftigen\, bewegen)\njeden Donnerstag von 18:30 bis 20:00 Uhr in der Würflacher Mehrzweckhalle \nEs würde uns freuen\, wenn wir Sie in einer unserer nächsten Turnstunden begrüßen könnten!\nEinfach zu einer Schnupperstunde kommen. \nNähere Informationen erhalten Sie bei Obfrau Eva Schweighofer – 0688/821 81 81. \n  \n  \n 
URL:https://www.wuerflach.at/event/damengesundheitsturnen-6/
LOCATION:Mehrzweckhalle der Volksschule\, Neunkirchner Str. 76\, Würflach\, NÖ\, 2732
CATEGORIES:Sport / Bewegung
END:VEVENT
BEGIN:VEVENT
DTSTART;TZID=Europe/Vienna:20251010T140000
DTEND;TZID=Europe/Vienna:20251010T140000
DTSTAMP:20260421T230720
CREATED:20250818T062951Z
LAST-MODIFIED:20250818T063048Z
UID:22997347-1760104800-1760104800@www.wuerflach.at
SUMMARY:Gratisfahrt zum Rennermuseum - Pensionistenverband Würflach
DESCRIPTION:Gratisfahrt zum Rennermusem nach Gloggnitz mit Führung durch\ndie Sonderausstellung „80 Jahre Republik Österreich“\, 14:00 Uhr\n– anschließend Essen in Raglitz  – Pensionistenverband Würflach \n 
URL:https://www.wuerflach.at/event/gratisfahrt-zum-rennermuseum-pensionistenverband-wuerflach/
LOCATION:NÖ
CATEGORIES:Ausflug / Ausfahrt / Reise
END:VEVENT
BEGIN:VEVENT
DTSTART;VALUE=DATE:20251013
DTEND;VALUE=DATE:20251014
DTSTAMP:20260421T230720
CREATED:20241106T204313Z
LAST-MODIFIED:20241106T204313Z
UID:22995273-1760313600-1760399999@www.wuerflach.at
SUMMARY:Biotonnen
DESCRIPTION:Alle Tonnen bitte bis 6:30 Uhr vor Ihrer Liegenschaft bereitstellen!
URL:https://www.wuerflach.at/event/biotonnen-19/
LOCATION:NÖ
CATEGORIES:Biotonne
END:VEVENT
BEGIN:VEVENT
DTSTART;VALUE=DATE:20251013
DTEND;VALUE=DATE:20251014
DTSTAMP:20260421T230720
CREATED:20241111T224529Z
LAST-MODIFIED:20241111T224544Z
UID:22995350-1760313600-1760399999@www.wuerflach.at
SUMMARY:Windelabholung
DESCRIPTION:Die Restmüllsäcke (gut zugebunden) bitte bis 6:30 Uhr vor Ihrer Liegenschaft bereitstellen!\nBitte um An- und Abmeldung der Windelabholungen im Gemeindeamt.\nEs werden nur Säcke der Haushalte abgeholt\, welche auf der Gemeinde-Abholliste eingetragen sind!
URL:https://www.wuerflach.at/event/windelabholung-12/
LOCATION:NÖ
CATEGORIES:Windelabholung
END:VEVENT
BEGIN:VEVENT
DTSTART;TZID=Europe/Vienna:20251015T180000
DTEND;TZID=Europe/Vienna:20251015T180000
DTSTAMP:20260421T230720
CREATED:20250417T111621Z
LAST-MODIFIED:20250417T111621Z
UID:22996560-1760551200-1760551200@www.wuerflach.at
SUMMARY:Nordic Walking
DESCRIPTION:
URL:https://www.wuerflach.at/event/nordic-walking-90/
LOCATION:NÖ
CATEGORIES:Sport / Bewegung
END:VEVENT
BEGIN:VEVENT
DTSTART;TZID=Europe/Vienna:20251015T193000
DTEND;TZID=Europe/Vienna:20251015T210000
DTSTAMP:20260421T230720
CREATED:20250818T105610Z
LAST-MODIFIED:20250818T105610Z
UID:22997361-1760556600-1760562000@www.wuerflach.at
SUMMARY:Männerturnen
DESCRIPTION:Männerturnen – Sport\, Bewegung\, Spiel und Spaß!\njeden Mittwoch von 19:30 bis 21:00 Uhr in der Würflacher Mehrzweckhalle \n  \n 
URL:https://www.wuerflach.at/event/maennerturnen-7/
LOCATION:Mehrzweckhalle der Volksschule\, Neunkirchner Str. 76\, Würflach\, NÖ\, 2732
CATEGORIES:Sport / Bewegung
END:VEVENT
BEGIN:VEVENT
DTSTART;TZID=Europe/Vienna:20251016T183000
DTEND;TZID=Europe/Vienna:20251016T200000
DTSTAMP:20260421T230720
CREATED:20250813T105432Z
LAST-MODIFIED:20250813T105432Z
UID:22997319-1760639400-1760644800@www.wuerflach.at
SUMMARY:Damengesundheitsturnen
DESCRIPTION:Damengesundheitsturnen mit Wirbelsäulengymnastik – Aufbautraining\, „DKB“ (dehnen\, kräftigen\, bewegen)\njeden Donnerstag von 18:30 bis 20:00 Uhr in der Würflacher Mehrzweckhalle \nEs würde uns freuen\, wenn wir Sie in einer unserer nächsten Turnstunden begrüßen könnten!\nEinfach zu einer Schnupperstunde kommen. \nNähere Informationen erhalten Sie bei Obfrau Eva Schweighofer – 0688/821 81 81. \n  \n  \n 
URL:https://www.wuerflach.at/event/damengesundheitsturnen-20/
LOCATION:Mehrzweckhalle der Volksschule\, Neunkirchner Str. 76\, Würflach\, NÖ\, 2732
CATEGORIES:Sport / Bewegung
END:VEVENT
BEGIN:VEVENT
DTSTART;TZID=Europe/Vienna:20251022T180000
DTEND;TZID=Europe/Vienna:20251022T180000
DTSTAMP:20260421T230720
CREATED:20250417T111654Z
LAST-MODIFIED:20250417T111654Z
UID:22996562-1761156000-1761156000@www.wuerflach.at
SUMMARY:Nordic Walking
DESCRIPTION:
URL:https://www.wuerflach.at/event/nordic-walking-91/
LOCATION:NÖ
CATEGORIES:Sport / Bewegung
END:VEVENT
BEGIN:VEVENT
DTSTART;TZID=Europe/Vienna:20251022T193000
DTEND;TZID=Europe/Vienna:20251022T210000
DTSTAMP:20260421T230720
CREATED:20250818T105734Z
LAST-MODIFIED:20250818T105734Z
UID:22997363-1761161400-1761166800@www.wuerflach.at
SUMMARY:Männerturnen
DESCRIPTION:Männerturnen – Sport\, Bewegung\, Spiel und Spaß!\njeden Mittwoch von 19:30 bis 21:00 Uhr in der Würflacher Mehrzweckhalle \n  \n 
URL:https://www.wuerflach.at/event/maennerturnen-8/
LOCATION:Mehrzweckhalle der Volksschule\, Neunkirchner Str. 76\, Würflach\, NÖ\, 2732
CATEGORIES:Sport / Bewegung
END:VEVENT
BEGIN:VEVENT
DTSTART;TZID=Europe/Vienna:20251023T150000
DTEND;TZID=Europe/Vienna:20251023T150000
DTSTAMP:20260421T230720
CREATED:20250129T222155Z
LAST-MODIFIED:20250808T055134Z
UID:22996040-1761231600-1761231600@www.wuerflach.at
SUMMARY:Stammtisch - Senioren Würflach
DESCRIPTION:Stammtisch; Vortrag Fahrschule Easy Drivers\, 15:00 Uhr im Gasthaus Seewald\nSenioren Würflach
URL:https://www.wuerflach.at/event/stammtisch-senioren-wuerflach-13/
LOCATION:NÖ
CATEGORIES:Sonstige
ORGANIZER;CN="Senioren W%C3%BCrflach - Obmann Hans Schauer":MAILTO:schauerh@aon.at
END:VEVENT
BEGIN:VEVENT
DTSTART;TZID=Europe/Vienna:20251023T183000
DTEND;TZID=Europe/Vienna:20251023T200000
DTSTAMP:20260421T230720
CREATED:20250813T103953Z
LAST-MODIFIED:20250813T104017Z
UID:22997293-1761244200-1761249600@www.wuerflach.at
SUMMARY:Damengesundheitsturnen
DESCRIPTION:Damengesundheitsturnen mit Wirbelsäulengymnastik – Aufbautraining\, „DKB“ (dehnen\, kräftigen\, bewegen)\njeden Donnerstag von 18:30 bis 20:00 Uhr in der Würflacher Mehrzweckhalle \nEs würde uns freuen\, wenn wir Sie in einer unserer nächsten Turnstunden begrüßen könnten!\nEinfach zu einer Schnupperstunde kommen. \nNähere Informationen erhalten Sie bei Obfrau Eva Schweighofer – 0688/821 81 81. \n  \n  \n 
URL:https://www.wuerflach.at/event/damengesundheitsturnen-7/
LOCATION:Mehrzweckhalle der Volksschule\, Neunkirchner Str. 76\, Würflach\, NÖ\, 2732
CATEGORIES:Sport / Bewegung
END:VEVENT
BEGIN:VEVENT
DTSTART;TZID=Europe/Vienna:20251024T190000
DTEND;TZID=Europe/Vienna:20251024T190000
DTSTAMP:20260421T230720
CREATED:20250806T073415Z
LAST-MODIFIED:20250806T073614Z
UID:22997159-1761332400-1761332400@www.wuerflach.at
SUMMARY:Konzert mädlsdur
DESCRIPTION:Konzert Mädlsdur – Einstimmung auf das 10jährige Jubiläum 2026\n19:00 Uhr –  in der Pfarrkirche Würflach \n  \n 
URL:https://www.wuerflach.at/event/konzert-maedlsdur-2/
LOCATION:Pfarrkirche Würflach
CATEGORIES:Heuriger / Kulinarik
END:VEVENT
BEGIN:VEVENT
DTSTART;TZID=Europe/Vienna:20251025T140000
DTEND;TZID=Europe/Vienna:20251025T140000
DTSTAMP:20260421T230720
CREATED:20250925T065928Z
LAST-MODIFIED:20250925T070128Z
UID:22997597-1761400800-1761400800@www.wuerflach.at
SUMMARY:Sturmfest der Bürgerliste
DESCRIPTION:Sturmfest ab 14:00 Uhr\, Gemeinsam für Würflach / unabhängige Bürgerliste \n 
URL:https://www.wuerflach.at/event/sturmfest-der-buergerliste/
LOCATION:Akazienhof\, Neunkirchner Str. 104\, Würflach\, 2732
CATEGORIES:Heuriger / Kulinarik
ORGANIZER;CN="Gemeinsam f%C3%BCr W%C3%BCrflach (unabh%C3%A4ngige B%C3%BCrgerliste)":MAILTO:gemeinsam@wuerflach.info
END:VEVENT
BEGIN:VEVENT
DTSTART;TZID=Europe/Vienna:20251026T090000
DTEND;TZID=Europe/Vienna:20251026T090000
DTSTAMP:20260421T230720
CREATED:20250129T222614Z
LAST-MODIFIED:20250129T222614Z
UID:22996044-1761469200-1761469200@www.wuerflach.at
SUMMARY:Familienwandertag
DESCRIPTION:9:00 Uhr Abmarsch bei der WellnessWelt
URL:https://www.wuerflach.at/event/familienwandertag-2/
LOCATION:NÖ
CATEGORIES:Sport / Bewegung
END:VEVENT
BEGIN:VEVENT
DTSTART;VALUE=DATE:20251027
DTEND;VALUE=DATE:20251028
DTSTAMP:20260421T230720
CREATED:20241106T201743Z
LAST-MODIFIED:20241106T201743Z
UID:22995229-1761523200-1761609599@www.wuerflach.at
SUMMARY:Restmüll
DESCRIPTION:Alle Restmüllsäcke (gut zugebunden) bitte bis 6:30 Uhr vor Ihrer Liegenschaft bereitstellen!
URL:https://www.wuerflach.at/event/restmuell-11/
LOCATION:NÖ
CATEGORIES:RMS Restmüllsäcke
END:VEVENT
BEGIN:VEVENT
DTSTART;TZID=Europe/Vienna:20251028T150000
DTEND;TZID=Europe/Vienna:20251028T150000
DTSTAMP:20260421T230720
CREATED:20250818T063333Z
LAST-MODIFIED:20250818T063404Z
UID:22997349-1761663600-1761663600@www.wuerflach.at
SUMMARY:Heurigenbesuch - Pensionistenverband Würflach
DESCRIPTION:Heurigenbesuch beim Hadl in Gerasdorf\, 15:00 Uhr\n(Fußgänger – 14:30 Uhr\, Marterl Gerasdorfer Str.)\nPensionistenverband Würflach \n 
URL:https://www.wuerflach.at/event/heurigenbesuch-pensionistenverband-wuerflach-4/
LOCATION:NÖ
CATEGORIES:Sonstige
END:VEVENT
END:VCALENDAR