BEGIN:VCALENDAR
VERSION:2.0
PRODID:-//Gemeinde Wuerflach - ECPv6.15.19//NONSGML v1.0//EN
CALSCALE:GREGORIAN
METHOD:PUBLISH
X-ORIGINAL-URL:https://www.wuerflach.at
X-WR-CALDESC:Veranstaltungen für Gemeinde Wuerflach
REFRESH-INTERVAL;VALUE=DURATION:PT1H
X-Robots-Tag:noindex
X-PUBLISHED-TTL:PT1H
BEGIN:VTIMEZONE
TZID:Europe/Vienna
BEGIN:DAYLIGHT
TZOFFSETFROM:+0100
TZOFFSETTO:+0200
TZNAME:CEST
DTSTART:20240331T010000
END:DAYLIGHT
BEGIN:STANDARD
TZOFFSETFROM:+0200
TZOFFSETTO:+0100
TZNAME:CET
DTSTART:20241027T010000
END:STANDARD
BEGIN:DAYLIGHT
TZOFFSETFROM:+0100
TZOFFSETTO:+0200
TZNAME:CEST
DTSTART:20250330T010000
END:DAYLIGHT
BEGIN:STANDARD
TZOFFSETFROM:+0200
TZOFFSETTO:+0100
TZNAME:CET
DTSTART:20251026T010000
END:STANDARD
BEGIN:DAYLIGHT
TZOFFSETFROM:+0100
TZOFFSETTO:+0200
TZNAME:CEST
DTSTART:20260329T010000
END:DAYLIGHT
BEGIN:STANDARD
TZOFFSETFROM:+0200
TZOFFSETTO:+0100
TZNAME:CET
DTSTART:20261025T010000
END:STANDARD
END:VTIMEZONE
BEGIN:VEVENT
DTSTART;TZID=Europe/Vienna:20250701T100000
DTEND;TZID=Europe/Vienna:20250701T100000
DTSTAMP:20260422T045429
CREATED:20241027T201240Z
LAST-MODIFIED:20241027T201240Z
UID:22995117-1751364000-1751364000@www.wuerflach.at
SUMMARY:Mostheuriger - Fam. Woltron
DESCRIPTION:  \n \nGenießen Sie prämierte\, selbsterzeugte\, traditionelle\, bodenständige Schmankerl: Fleisch- und Selchwaren\, Bauernbrot\, Most\, Cider\, Säfte\, Schnäpse uvm. \nFür die Kleinen gibt es einen Kinderspielplatz zum Bewegen und Austoben.
URL:https://www.wuerflach.at/event/mostheuriger-fam-woltron-67/
LOCATION:Heurigenlokal – Fam. Woltron\, Bogengasse 106\, Würflach\, NÖ\, 2732
CATEGORIES:Heuriger / Kulinarik
END:VEVENT
BEGIN:VEVENT
DTSTART;TZID=Europe/Vienna:20250701T140000
DTEND;TZID=Europe/Vienna:20250701T140000
DTSTAMP:20260422T045429
CREATED:20250128T204710Z
LAST-MODIFIED:20250128T204710Z
UID:22995959-1751378400-1751378400@www.wuerflach.at
SUMMARY:Wanderung - Senioren Würflach
DESCRIPTION:Wanderung – 14:00 Uhr\nSenioren Würflach
URL:https://www.wuerflach.at/event/wanderung-senioren-wuerflach-15/
LOCATION:NÖ
CATEGORIES:Sport / Bewegung
ORGANIZER;CN="Senioren W%C3%BCrflach - Obmann Hans Schauer":MAILTO:schauerh@aon.at
END:VEVENT
BEGIN:VEVENT
DTSTART;TZID=Europe/Vienna:20250702T100000
DTEND;TZID=Europe/Vienna:20250702T100000
DTSTAMP:20260422T045429
CREATED:20241027T201304Z
LAST-MODIFIED:20241027T201304Z
UID:22995119-1751450400-1751450400@www.wuerflach.at
SUMMARY:Mostheuriger - Fam. Woltron
DESCRIPTION:  \n \nGenießen Sie prämierte\, selbsterzeugte\, traditionelle\, bodenständige Schmankerl: Fleisch- und Selchwaren\, Bauernbrot\, Most\, Cider\, Säfte\, Schnäpse uvm. \nFür die Kleinen gibt es einen Kinderspielplatz zum Bewegen und Austoben.
URL:https://www.wuerflach.at/event/mostheuriger-fam-woltron-68/
LOCATION:Heurigenlokal – Fam. Woltron\, Bogengasse 106\, Würflach\, NÖ\, 2732
CATEGORIES:Heuriger / Kulinarik
END:VEVENT
BEGIN:VEVENT
DTSTART;TZID=Europe/Vienna:20250702T180000
DTEND;TZID=Europe/Vienna:20250702T180000
DTSTAMP:20260422T045429
CREATED:20250116T160728Z
LAST-MODIFIED:20250116T160728Z
UID:22995725-1751479200-1751479200@www.wuerflach.at
SUMMARY:Nordic Walking
DESCRIPTION:
URL:https://www.wuerflach.at/event/nordic-walking-75/
LOCATION:NÖ
CATEGORIES:Sport / Bewegung
END:VEVENT
BEGIN:VEVENT
DTSTART;TZID=Europe/Vienna:20250703T100000
DTEND;TZID=Europe/Vienna:20250703T100000
DTSTAMP:20260422T045429
CREATED:20241027T201329Z
LAST-MODIFIED:20241027T201329Z
UID:22995121-1751536800-1751536800@www.wuerflach.at
SUMMARY:Mostheuriger - Fam. Woltron
DESCRIPTION:  \n \nGenießen Sie prämierte\, selbsterzeugte\, traditionelle\, bodenständige Schmankerl: Fleisch- und Selchwaren\, Bauernbrot\, Most\, Cider\, Säfte\, Schnäpse uvm. \nFür die Kleinen gibt es einen Kinderspielplatz zum Bewegen und Austoben.
URL:https://www.wuerflach.at/event/mostheuriger-fam-woltron-69/
LOCATION:Heurigenlokal – Fam. Woltron\, Bogengasse 106\, Würflach\, NÖ\, 2732
CATEGORIES:Heuriger / Kulinarik
END:VEVENT
BEGIN:VEVENT
DTSTART;TZID=Europe/Vienna:20250704T100000
DTEND;TZID=Europe/Vienna:20250704T100000
DTSTAMP:20260422T045429
CREATED:20241027T201346Z
LAST-MODIFIED:20241027T201346Z
UID:22995123-1751623200-1751623200@www.wuerflach.at
SUMMARY:Mostheuriger - Fam. Woltron
DESCRIPTION:  \n \nGenießen Sie prämierte\, selbsterzeugte\, traditionelle\, bodenständige Schmankerl: Fleisch- und Selchwaren\, Bauernbrot\, Most\, Cider\, Säfte\, Schnäpse uvm. \nFür die Kleinen gibt es einen Kinderspielplatz zum Bewegen und Austoben.
URL:https://www.wuerflach.at/event/mostheuriger-fam-woltron-70/
LOCATION:Heurigenlokal – Fam. Woltron\, Bogengasse 106\, Würflach\, NÖ\, 2732
CATEGORIES:Heuriger / Kulinarik
END:VEVENT
BEGIN:VEVENT
DTSTART;TZID=Europe/Vienna:20250704T180000
DTEND;TZID=Europe/Vienna:20250704T180000
DTSTAMP:20260422T045429
CREATED:20250128T204957Z
LAST-MODIFIED:20250320T080727Z
UID:22995961-1751652000-1751652000@www.wuerflach.at
SUMMARY:Les´n und Los´n - Lesung in der Bücherei
DESCRIPTION:  \n 
URL:https://www.wuerflach.at/event/lesn-und-losn-lesung-in-der-buecherei-5/
LOCATION:Gemeindebücherei Würflach\, Willendorfer Str. 150\, Gemeinde Würflach\, 2732\, Österreich
CATEGORIES:Lesung
ORGANIZER;CN="B%C3%BCcherei W%C3%BCrflach":MAILTO:buecherei@wuerflach.at
END:VEVENT
BEGIN:VEVENT
DTSTART;TZID=Europe/Vienna:20250705T000000
DTEND;TZID=Europe/Vienna:20250705T000000
DTSTAMP:20260422T045429
CREATED:20250128T205429Z
LAST-MODIFIED:20250128T205429Z
UID:22995963-1751673600-1751673600@www.wuerflach.at
SUMMARY:Juxturnier - Tennisverein Würflach
DESCRIPTION:Juxturnier des Tennisvereins Würflach – machen Sie mit…..\nNähere Informationen folgen…. \n 
URL:https://www.wuerflach.at/event/juxturnier-tennisverein-wuerflach/
LOCATION:Tennisplatz Würflach\, Badgasse 110\, Würflach\, Austria (+43)\, 2732\, Österreich
CATEGORIES:Sport / Bewegung
ORGANIZER;CN="Tennisverein W%C3%BCrflach":MAILTO:https://www.tennis-wuerflach.at/
END:VEVENT
BEGIN:VEVENT
DTSTART;TZID=Europe/Vienna:20250705T100000
DTEND;TZID=Europe/Vienna:20250705T100000
DTSTAMP:20260422T045429
CREATED:20241027T201403Z
LAST-MODIFIED:20241027T201403Z
UID:22995125-1751709600-1751709600@www.wuerflach.at
SUMMARY:Mostheuriger - Fam. Woltron
DESCRIPTION:  \n \nGenießen Sie prämierte\, selbsterzeugte\, traditionelle\, bodenständige Schmankerl: Fleisch- und Selchwaren\, Bauernbrot\, Most\, Cider\, Säfte\, Schnäpse uvm. \nFür die Kleinen gibt es einen Kinderspielplatz zum Bewegen und Austoben.
URL:https://www.wuerflach.at/event/mostheuriger-fam-woltron-71/
LOCATION:Heurigenlokal – Fam. Woltron\, Bogengasse 106\, Würflach\, NÖ\, 2732
CATEGORIES:Heuriger / Kulinarik
END:VEVENT
BEGIN:VEVENT
DTSTART;TZID=Europe/Vienna:20250706T100000
DTEND;TZID=Europe/Vienna:20250706T100000
DTSTAMP:20260422T045429
CREATED:20241027T201420Z
LAST-MODIFIED:20241027T201420Z
UID:22995127-1751796000-1751796000@www.wuerflach.at
SUMMARY:Mostheuriger - Fam. Woltron
DESCRIPTION:  \n \nGenießen Sie prämierte\, selbsterzeugte\, traditionelle\, bodenständige Schmankerl: Fleisch- und Selchwaren\, Bauernbrot\, Most\, Cider\, Säfte\, Schnäpse uvm. \nFür die Kleinen gibt es einen Kinderspielplatz zum Bewegen und Austoben.
URL:https://www.wuerflach.at/event/mostheuriger-fam-woltron-72/
LOCATION:Heurigenlokal – Fam. Woltron\, Bogengasse 106\, Würflach\, NÖ\, 2732
CATEGORIES:Heuriger / Kulinarik
END:VEVENT
BEGIN:VEVENT
DTSTART;VALUE=DATE:20250707
DTEND;VALUE=DATE:20250708
DTSTAMP:20260422T045429
CREATED:20241106T201525Z
LAST-MODIFIED:20241106T201525Z
UID:22995221-1751846400-1751932799@www.wuerflach.at
SUMMARY:Restmüll
DESCRIPTION:Alle Restmüllsäcke (gut zugebunden) bitte bis 6:30 Uhr vor Ihrer Liegenschaft bereitstellen!
URL:https://www.wuerflach.at/event/restmuell-7/
LOCATION:NÖ
CATEGORIES:RMS Restmüllsäcke
END:VEVENT
BEGIN:VEVENT
DTSTART;VALUE=DATE:20250707
DTEND;VALUE=DATE:20250708
DTSTAMP:20260422T045429
CREATED:20241106T203813Z
LAST-MODIFIED:20241106T203813Z
UID:22995259-1751846400-1751932799@www.wuerflach.at
SUMMARY:Biotonnen
DESCRIPTION:Alle Tonnen bitte bis 6:30 Uhr vor Ihrer Liegenschaft bereitstellen!
URL:https://www.wuerflach.at/event/biotonnen-12/
LOCATION:NÖ
CATEGORIES:Biotonne
END:VEVENT
BEGIN:VEVENT
DTSTART;VALUE=DATE:20250709
DTEND;VALUE=DATE:20250710
DTSTAMP:20260422T045429
CREATED:20241111T223413Z
LAST-MODIFIED:20241111T223413Z
UID:22995320-1752019200-1752105599@www.wuerflach.at
SUMMARY:Gelber Sack
DESCRIPTION:Alle gelben Säcke (gut zugebunden) bitte bis 6:30 Uhr vor Ihrer Liegenschaft bereitstellen!
URL:https://www.wuerflach.at/event/gelber-sack-7/
LOCATION:NÖ
CATEGORIES:gelber Sack
END:VEVENT
BEGIN:VEVENT
DTSTART;TZID=Europe/Vienna:20250709T180000
DTEND;TZID=Europe/Vienna:20250709T180000
DTSTAMP:20260422T045429
CREATED:20250417T105722Z
LAST-MODIFIED:20250417T105722Z
UID:22996532-1752084000-1752084000@www.wuerflach.at
SUMMARY:Nordic Walking
DESCRIPTION:
URL:https://www.wuerflach.at/event/nordic-walking-76/
LOCATION:NÖ
CATEGORIES:Sport / Bewegung
END:VEVENT
BEGIN:VEVENT
DTSTART;TZID=Europe/Vienna:20250711T000000
DTEND;TZID=Europe/Vienna:20250711T000000
DTSTAMP:20260422T045429
CREATED:20250128T205705Z
LAST-MODIFIED:20250128T205705Z
UID:22995965-1752192000-1752192000@www.wuerflach.at
SUMMARY:Landeswandertag Langenlois - Senioren Würflach
DESCRIPTION:Landeswandertag Langenlois\nNähere Informationen folgen…. \nWürflacher Senioren
URL:https://www.wuerflach.at/event/landeswandertag-langenlois-senioren-wuerflach/
LOCATION:NÖ
CATEGORIES:Sport / Bewegung
END:VEVENT
BEGIN:VEVENT
DTSTART;TZID=Europe/Vienna:20250712T100000
DTEND;TZID=Europe/Vienna:20250712T100000
DTSTAMP:20260422T045429
CREATED:20250128T205853Z
LAST-MODIFIED:20250128T205957Z
UID:22995967-1752314400-1752314400@www.wuerflach.at
SUMMARY:VII. WAK-Cup
DESCRIPTION:  \nBeginn – 10:00 Uhr – am Sportplatz Würflach
URL:https://www.wuerflach.at/event/vii-wak-cup/
LOCATION:Sportplatz Würflach\, Kirchstättenweg\, Würflach\, NÖ\, 2732
CATEGORIES:Sport / Bewegung
END:VEVENT
BEGIN:VEVENT
DTSTART;TZID=Europe/Vienna:20250716T180000
DTEND;TZID=Europe/Vienna:20250716T180000
DTSTAMP:20260422T045429
CREATED:20250417T105835Z
LAST-MODIFIED:20250417T105835Z
UID:22996534-1752688800-1752688800@www.wuerflach.at
SUMMARY:Nordic Walking
DESCRIPTION:
URL:https://www.wuerflach.at/event/nordic-walking-77/
LOCATION:NÖ
CATEGORIES:Sport / Bewegung
END:VEVENT
BEGIN:VEVENT
DTSTART;VALUE=DATE:20250721
DTEND;VALUE=DATE:20250722
DTSTAMP:20260422T045429
CREATED:20241106T203859Z
LAST-MODIFIED:20241106T203859Z
UID:22995261-1753056000-1753142399@www.wuerflach.at
SUMMARY:Biotonnen
DESCRIPTION:Alle Tonnen bitte bis 6:30 Uhr vor Ihrer Liegenschaft bereitstellen!
URL:https://www.wuerflach.at/event/biotonnen-13/
LOCATION:NÖ
CATEGORIES:Biotonne
END:VEVENT
BEGIN:VEVENT
DTSTART;VALUE=DATE:20250721
DTEND;VALUE=DATE:20250722
DTSTAMP:20260422T045429
CREATED:20241111T224343Z
LAST-MODIFIED:20241111T224343Z
UID:22995344-1753056000-1753142399@www.wuerflach.at
SUMMARY:Windelabholung
DESCRIPTION:Die Restmüllsäcke (gut zugebunden) bitte bis 6:30 Uhr vor Ihrer Liegenschaft bereitstellen!\nBitte um An- und Abmeldung der Windelabholungen im Gemeindeamt.\nEs werden nur Säcke der Haushalte abgeholt\, welche auf der Gemeinde-Abholliste eingetragen sind!
URL:https://www.wuerflach.at/event/windelabholung-9/
LOCATION:NÖ
CATEGORIES:Windelabholung
END:VEVENT
BEGIN:VEVENT
DTSTART;TZID=Europe/Vienna:20250723T180000
DTEND;TZID=Europe/Vienna:20250723T180000
DTSTAMP:20260422T045429
CREATED:20250417T105906Z
LAST-MODIFIED:20250417T105906Z
UID:22996535-1753293600-1753293600@www.wuerflach.at
SUMMARY:Nordic Walking
DESCRIPTION:
URL:https://www.wuerflach.at/event/nordic-walking-78/
LOCATION:NÖ
CATEGORIES:Sport / Bewegung
END:VEVENT
BEGIN:VEVENT
DTSTART;TZID=Europe/Vienna:20250724T150000
DTEND;TZID=Europe/Vienna:20250724T150000
DTSTAMP:20260422T045429
CREATED:20250128T210132Z
LAST-MODIFIED:20250219T074818Z
UID:22995970-1753369200-1753369200@www.wuerflach.at
SUMMARY:Heurigenbesuch - Pensionistenverband Würflach
DESCRIPTION:Heurigenbesuch beim Hadl in Gerasdorf\, 15:00\, Pensionistenverband Würflach \n 
URL:https://www.wuerflach.at/event/heurigenbesuch-pensionistenverband-wuerflach-2/
LOCATION:NÖ
CATEGORIES:Sonstige
END:VEVENT
BEGIN:VEVENT
DTSTART;TZID=Europe/Vienna:20250725T000000
DTEND;TZID=Europe/Vienna:20250725T000000
DTSTAMP:20260422T045429
CREATED:20250128T210402Z
LAST-MODIFIED:20250128T210500Z
UID:22995972-1753401600-1753401600@www.wuerflach.at
SUMMARY:Theaterfahrt  - Senioren Würflach
DESCRIPTION:Theaterfahrt nach Mödling – „Der Liebestrank“\, nähere Informationen folgen.\nSenioren Würflach
URL:https://www.wuerflach.at/event/theaterfahrt-senioren-wuerflach/
LOCATION:NÖ
CATEGORIES:Sonstige
ORGANIZER;CN="Senioren W%C3%BCrflach - Obmann Hans Schauer":MAILTO:schauerh@aon.at
END:VEVENT
BEGIN:VEVENT
DTSTART;TZID=Europe/Vienna:20250727T090000
DTEND;TZID=Europe/Vienna:20250727T090000
DTSTAMP:20260422T045429
CREATED:20250128T210557Z
LAST-MODIFIED:20250701T112857Z
UID:22995974-1753606800-1753606800@www.wuerflach.at
SUMMARY:Annakirtag
DESCRIPTION: 
URL:https://www.wuerflach.at/event/annakirtag-2/
LOCATION:Pfarrkirche Würflach
CATEGORIES:Fest / Ball / Musikveranstaltung
END:VEVENT
BEGIN:VEVENT
DTSTART;TZID=Europe/Vienna:20250730T180000
DTEND;TZID=Europe/Vienna:20250730T180000
DTSTAMP:20260422T045429
CREATED:20250417T110021Z
LAST-MODIFIED:20250417T110021Z
UID:22996538-1753898400-1753898400@www.wuerflach.at
SUMMARY:Nordic Walking
DESCRIPTION:
URL:https://www.wuerflach.at/event/nordic-walking-79/
LOCATION:NÖ
CATEGORIES:Sport / Bewegung
END:VEVENT
END:VCALENDAR