BEGIN:VCALENDAR
VERSION:2.0
PRODID:-//Gemeinde Wuerflach - ECPv6.15.19//NONSGML v1.0//EN
CALSCALE:GREGORIAN
METHOD:PUBLISH
X-ORIGINAL-URL:https://www.wuerflach.at
X-WR-CALDESC:Veranstaltungen für Gemeinde Wuerflach
REFRESH-INTERVAL;VALUE=DURATION:PT1H
X-Robots-Tag:noindex
X-PUBLISHED-TTL:PT1H
BEGIN:VTIMEZONE
TZID:Europe/Vienna
BEGIN:DAYLIGHT
TZOFFSETFROM:+0100
TZOFFSETTO:+0200
TZNAME:CEST
DTSTART:20240331T010000
END:DAYLIGHT
BEGIN:STANDARD
TZOFFSETFROM:+0200
TZOFFSETTO:+0100
TZNAME:CET
DTSTART:20241027T010000
END:STANDARD
BEGIN:DAYLIGHT
TZOFFSETFROM:+0100
TZOFFSETTO:+0200
TZNAME:CEST
DTSTART:20250330T010000
END:DAYLIGHT
BEGIN:STANDARD
TZOFFSETFROM:+0200
TZOFFSETTO:+0100
TZNAME:CET
DTSTART:20251026T010000
END:STANDARD
BEGIN:DAYLIGHT
TZOFFSETFROM:+0100
TZOFFSETTO:+0200
TZNAME:CEST
DTSTART:20260329T010000
END:DAYLIGHT
BEGIN:STANDARD
TZOFFSETFROM:+0200
TZOFFSETTO:+0100
TZNAME:CET
DTSTART:20261025T010000
END:STANDARD
END:VTIMEZONE
BEGIN:VEVENT
DTSTART;TZID=Europe/Vienna:20250601T100000
DTEND;TZID=Europe/Vienna:20250601T170000
DTSTAMP:20260422T064925
CREATED:20250128T200740Z
LAST-MODIFIED:20250128T200740Z
UID:22995925-1748772000-1748797200@www.wuerflach.at
SUMMARY:Begegnung der 5 Sinne
DESCRIPTION:Samstag: 10 -19:00 Uhr\nSonntag: 10 -17:00 Uhr \nKunsthandwerk in der Johannesbachklamm – eine Veranstaltung die für alle Sinne Einiges bietet. Lassen Sie sich von der eindrucksvollen Kulisse der Johannesbachklamm mit den verschiedenen Kunsthandwerk- und Naturproduktständen verzaubern. \nVeranstalter sind Fr. Katharina Resch und die Gemeinde Würflach (Kultur Span). \n  \n 
URL:https://www.wuerflach.at/event/begegnung-der-5-sinne-4/
LOCATION:Festplatz – Johannesbachklamm\, Klammgasse\, Würflach\, NÖ\, 2732
CATEGORIES:Kulturveranstaltung
ORGANIZER;CN="Gemeinde W%C3%BCrflach (Kulturspan) u. Katharina Resch":MAILTO:katharina.e.resch@gmail.com
END:VEVENT
BEGIN:VEVENT
DTSTART;TZID=Europe/Vienna:20250601T100000
DTEND;TZID=Europe/Vienna:20250601T170000
DTSTAMP:20260422T064925
CREATED:20250219T065648Z
LAST-MODIFIED:20250219T065648Z
UID:22996215-1748772000-1748797200@www.wuerflach.at
SUMMARY:Bücherflohmarkt - bei Begegnung der 5 Sinne
DESCRIPTION:  \n 
URL:https://www.wuerflach.at/event/buecherflohmarkt-bei-begegnung-der-5-sinne-2/
LOCATION:Festplatz – Johannesbachklamm\, Klammgasse\, Würflach\, NÖ\, 2732
CATEGORIES:Lesung
ORGANIZER;CN="Gemeinde W%C3%BCrflach (Kulturspan) u. Katharina Resch":MAILTO:katharina.e.resch@gmail.com
END:VEVENT
BEGIN:VEVENT
DTSTART;TZID=Europe/Vienna:20250604T140000
DTEND;TZID=Europe/Vienna:20250604T140000
DTSTAMP:20260422T064925
CREATED:20250128T200950Z
LAST-MODIFIED:20250513T121221Z
UID:22995927-1749045600-1749045600@www.wuerflach.at
SUMMARY:Wanderung - Senioren Würflach
DESCRIPTION:13:45 Uhr – mit der Bahn nach Puchberg und retour\, kurze Wanderung und anschließend Minigolf.\nTreffpunkt – alter Bahnhof Willendorf\,  Abfahrt 14:01 Uhr\nSenioren Würflach
URL:https://www.wuerflach.at/event/wanderung-senioren-wuerflach-14/
LOCATION:NÖ
CATEGORIES:Sport / Bewegung
ORGANIZER;CN="Senioren W%C3%BCrflach - Obmann Hans Schauer":MAILTO:schauerh@aon.at
END:VEVENT
BEGIN:VEVENT
DTSTART;TZID=Europe/Vienna:20250604T180000
DTEND;TZID=Europe/Vienna:20250604T180000
DTSTAMP:20260422T064925
CREATED:20250116T160458Z
LAST-MODIFIED:20250116T160458Z
UID:22995717-1749060000-1749060000@www.wuerflach.at
SUMMARY:Nordic Walking
DESCRIPTION:
URL:https://www.wuerflach.at/event/nordic-walking-71/
LOCATION:NÖ
CATEGORIES:Sport / Bewegung
END:VEVENT
BEGIN:VEVENT
DTSTART;TZID=Europe/Vienna:20250606T000000
DTEND;TZID=Europe/Vienna:20250606T100000
DTSTAMP:20260422T064925
CREATED:20250128T201128Z
LAST-MODIFIED:20250513T121922Z
UID:22995929-1749168000-1749204000@www.wuerflach.at
SUMMARY:Landesradwandertag in Weikertschlag - Senioren Würflach
DESCRIPTION:6:00 Uhr – Landesradwandertag – in Weikertschlag\, die Zeit wird noch bekannt gegeben! \nWürflacher Senioren
URL:https://www.wuerflach.at/event/landesradwandertag-in-weikertschlag-senioren-wuerflach/
LOCATION:NÖ
CATEGORIES:Sport / Bewegung
END:VEVENT
BEGIN:VEVENT
DTSTART;TZID=Europe/Vienna:20250607T150000
DTEND;TZID=Europe/Vienna:20250607T150000
DTSTAMP:20260422T064925
CREATED:20250128T201554Z
LAST-MODIFIED:20250513T123818Z
UID:22995931-1749308400-1749308400@www.wuerflach.at
SUMMARY:FF - Fest
DESCRIPTION:ab 15:00 Uhr Festbetrieb\, lustiger Fünfkampf\nanschließend Unterhaltung mit „Leiwand Live“ im Gerätehaus der\nFF Würflach-Hettmannsdorf
URL:https://www.wuerflach.at/event/ff-fest-3/
LOCATION:Feuerwehr-Gerätehaus\, Neunkirchner Str. 85\, Würflach\, Austria (+43)\, 2732\, Österreich
CATEGORIES:Fest / Ball / Musikveranstaltung
END:VEVENT
BEGIN:VEVENT
DTSTART;TZID=Europe/Vienna:20250608T090000
DTEND;TZID=Europe/Vienna:20250608T090000
DTSTAMP:20260422T064925
CREATED:20250128T201801Z
LAST-MODIFIED:20250519T072624Z
UID:22995933-1749373200-1749373200@www.wuerflach.at
SUMMARY:FF - Fest
DESCRIPTION:  \n \n  \n9:00 Uhr Festmesse\, Festakt\n145 Jahre FF Würflach\nFrühschoppen mit dem Musikverein Hettmannsdorf-Würflach \n  \n 
URL:https://www.wuerflach.at/event/ff-fest-4/
LOCATION:Feuerwehr-Gerätehaus\, Neunkirchner Str. 85\, Würflach\, Austria (+43)\, 2732\, Österreich
CATEGORIES:Fest / Ball / Musikveranstaltung
END:VEVENT
BEGIN:VEVENT
DTSTART;TZID=Europe/Vienna:20250608T110000
DTEND;TZID=Europe/Vienna:20250608T110000
DTSTAMP:20260422T064925
CREATED:20250128T202253Z
LAST-MODIFIED:20250212T070941Z
UID:22995938-1749380400-1749380400@www.wuerflach.at
SUMMARY:Frühschoppen bei der Klammwirtin - verschoben auf 15. Juni!!!
DESCRIPTION:Dieser Frühschoppen wird von 8. auf 15. Juni verschoben! \n  \n 
URL:https://www.wuerflach.at/event/fruehschoppen-bei-der-klammwirtin-7/
LOCATION:Klammwirtin Würflach\, Klammgasse 383\, Würflach\, NÖ\, 2732
CATEGORIES:Fest / Ball / Musikveranstaltung
ORGANIZER;CN="Klammwirtin":MAILTO:info@klammwirtin.com
END:VEVENT
BEGIN:VEVENT
DTSTART;VALUE=DATE:20250610
DTEND;VALUE=DATE:20250611
DTSTAMP:20260422T064925
CREATED:20241106T201448Z
LAST-MODIFIED:20241106T201448Z
UID:22995219-1749513600-1749599999@www.wuerflach.at
SUMMARY:Restmüll
DESCRIPTION:Alle Restmüllsäcke (gut zugebunden) bitte bis 6:30 Uhr vor Ihrer Liegenschaft bereitstellen!
URL:https://www.wuerflach.at/event/restmuell-6/
LOCATION:NÖ
CATEGORIES:RMS Restmüllsäcke
END:VEVENT
BEGIN:VEVENT
DTSTART;VALUE=DATE:20250610
DTEND;VALUE=DATE:20250611
DTSTAMP:20260422T064925
CREATED:20241106T203601Z
LAST-MODIFIED:20241106T203601Z
UID:22995255-1749513600-1749599999@www.wuerflach.at
SUMMARY:Biotonnen
DESCRIPTION:Alle Tonnen bitte bis 6:30 Uhr vor Ihrer Liegenschaft bereitstellen!
URL:https://www.wuerflach.at/event/biotonnen-10/
LOCATION:NÖ
CATEGORIES:Biotonne
END:VEVENT
BEGIN:VEVENT
DTSTART;VALUE=DATE:20250610
DTEND;VALUE=DATE:20250611
DTSTAMP:20260422T064925
CREATED:20241106T204838Z
LAST-MODIFIED:20241106T204838Z
UID:22995283-1749513600-1749599999@www.wuerflach.at
SUMMARY:Altpapier
DESCRIPTION:Alle Tonnen bitte bis 6:30 Uhr vor Ihrer Liegenschaft bereitstellen! \n 
URL:https://www.wuerflach.at/event/altpapier-3/
LOCATION:NÖ
CATEGORIES:Altpapier
END:VEVENT
BEGIN:VEVENT
DTSTART;TZID=Europe/Vienna:20250610T130000
DTEND;TZID=Europe/Vienna:20250610T130000
DTSTAMP:20260422T064925
CREATED:20250128T202510Z
LAST-MODIFIED:20250219T072323Z
UID:22995940-1749560400-1749560400@www.wuerflach.at
SUMMARY:Halbtagesfahrt zum Stubenbergsee - Pensionistenverband Würflach
DESCRIPTION:Halbtagesfahrt zum Stubenbergsee\, 13:00 Uhr\, Pensionistenverband Würflach \n 
URL:https://www.wuerflach.at/event/fahrt-zum-stubenbergsee-pensionistenverband-wuerflach/
LOCATION:NÖ
CATEGORIES:Ausflug / Ausfahrt / Reise
END:VEVENT
BEGIN:VEVENT
DTSTART;VALUE=DATE:20250611
DTEND;VALUE=DATE:20250612
DTSTAMP:20260422T064925
CREATED:20241111T223345Z
LAST-MODIFIED:20241111T223345Z
UID:22995318-1749600000-1749686399@www.wuerflach.at
SUMMARY:Gelber Sack
DESCRIPTION:Alle gelben Säcke (gut zugebunden) bitte bis 6:30 Uhr vor Ihrer Liegenschaft bereitstellen!
URL:https://www.wuerflach.at/event/gelber-sack-6/
LOCATION:NÖ
CATEGORIES:gelber Sack
END:VEVENT
BEGIN:VEVENT
DTSTART;TZID=Europe/Vienna:20250611T180000
DTEND;TZID=Europe/Vienna:20250611T180000
DTSTAMP:20260422T064925
CREATED:20250116T160533Z
LAST-MODIFIED:20250116T160533Z
UID:22995719-1749664800-1749664800@www.wuerflach.at
SUMMARY:Nordic Walking
DESCRIPTION:
URL:https://www.wuerflach.at/event/nordic-walking-72/
LOCATION:NÖ
CATEGORIES:Sport / Bewegung
END:VEVENT
BEGIN:VEVENT
DTSTART;TZID=Europe/Vienna:20250612T000000
DTEND;TZID=Europe/Vienna:20250612T000000
DTSTAMP:20260422T064925
CREATED:20250128T202950Z
LAST-MODIFIED:20250128T202950Z
UID:22995943-1749686400-1749686400@www.wuerflach.at
SUMMARY:Bezirkswandertag - Senioren Würflach
DESCRIPTION:Bezirkswandertag in Aspang\, nähere Details folgen\nWürflacher Senioren
URL:https://www.wuerflach.at/event/bezirkswandertag-senioren-wuerflach-2/
LOCATION:NÖ
CATEGORIES:Sport / Bewegung
END:VEVENT
BEGIN:VEVENT
DTSTART;TZID=Europe/Vienna:20250613T150000
DTEND;TZID=Europe/Vienna:20250613T150000
DTSTAMP:20260422T064925
CREATED:20250128T203147Z
LAST-MODIFIED:20250417T070816Z
UID:22995945-1749826800-1749826800@www.wuerflach.at
SUMMARY:Schulfest
DESCRIPTION: 
URL:https://www.wuerflach.at/event/schulfest-2/
LOCATION:Mehrzweckhalle
CATEGORIES:Sonstige
END:VEVENT
BEGIN:VEVENT
DTSTART;TZID=Europe/Vienna:20250615T110000
DTEND;TZID=Europe/Vienna:20250615T110000
DTSTAMP:20260422T064925
CREATED:20250212T071030Z
LAST-MODIFIED:20250212T071030Z
UID:22996152-1749985200-1749985200@www.wuerflach.at
SUMMARY:Frühschoppen bei der Klammwirtin
DESCRIPTION:Frühschoppen bei der Klammwirtin – mit dem Duo Amore
URL:https://www.wuerflach.at/event/fruehschoppen-bei-der-klammwirtin-10/
LOCATION:Klammwirtin Würflach\, Klammgasse 383\, Würflach\, NÖ\, 2732
CATEGORIES:Fest / Ball / Musikveranstaltung
ORGANIZER;CN="Klammwirtin":MAILTO:info@klammwirtin.com
END:VEVENT
BEGIN:VEVENT
DTSTART;TZID=Europe/Vienna:20250617T000000
DTEND;TZID=Europe/Vienna:20250617T000000
DTSTAMP:20260422T064925
CREATED:20250128T203351Z
LAST-MODIFIED:20250128T203351Z
UID:22995947-1750118400-1750118400@www.wuerflach.at
SUMMARY:Ausflug nach Herberstein - Senioren Würflach
DESCRIPTION:Ausflug – Senioren Würflach\nnähere Details folgen
URL:https://www.wuerflach.at/event/ausflug-nach-herberstein-senioren-wuerflach-2/
LOCATION:NÖ
CATEGORIES:Ausflug / Ausfahrt / Reise
ORGANIZER;CN="Senioren W%C3%BCrflach - Obmann Hans Schauer":MAILTO:schauerh@aon.at
END:VEVENT
BEGIN:VEVENT
DTSTART;TZID=Europe/Vienna:20250618T180000
DTEND;TZID=Europe/Vienna:20250618T180000
DTSTAMP:20260422T064925
CREATED:20250116T160613Z
LAST-MODIFIED:20250116T160613Z
UID:22995721-1750269600-1750269600@www.wuerflach.at
SUMMARY:Nordic Walking
DESCRIPTION:
URL:https://www.wuerflach.at/event/nordic-walking-73/
LOCATION:NÖ
CATEGORIES:Sport / Bewegung
END:VEVENT
BEGIN:VEVENT
DTSTART;TZID=Europe/Vienna:20250619T090000
DTEND;TZID=Europe/Vienna:20250619T090000
DTSTAMP:20260422T064925
CREATED:20250128T203637Z
LAST-MODIFIED:20250128T203637Z
UID:22995949-1750323600-1750323600@www.wuerflach.at
SUMMARY:Fronleichnamsprozession
DESCRIPTION:9:00 Uhr Hochamt – anschließend Fronleichnamsprozession zu den 4 Altären über die Neunkirchner Straße und Klammgasse zum Marterl beim Johannesbrunnen \n 
URL:https://www.wuerflach.at/event/fronleichnamsprozession-2/
LOCATION:NÖ
CATEGORIES:Pfarre / religiöse Termine
ORGANIZER;CN="Pfarre W%C3%BCrflach":MAILTO:pfarre.wuerflach@katholischekirche.at
END:VEVENT
BEGIN:VEVENT
DTSTART;TZID=Europe/Vienna:20250621T100000
DTEND;TZID=Europe/Vienna:20250621T100000
DTSTAMP:20260422T064925
CREATED:20250128T203854Z
LAST-MODIFIED:20250128T203854Z
UID:22995951-1750500000-1750500000@www.wuerflach.at
SUMMARY:hl. Firmung
DESCRIPTION:10:00 Uhr in der Pfarrkirche
URL:https://www.wuerflach.at/event/hl-firmung-2/
LOCATION:Pfarrkirche Würflach
CATEGORIES:Pfarre / religiöse Termine
ORGANIZER;CN="Pfarre W%C3%BCrflach":MAILTO:pfarre.wuerflach@katholischekirche.at
END:VEVENT
BEGIN:VEVENT
DTSTART;VALUE=DATE:20250623
DTEND;VALUE=DATE:20250624
DTSTAMP:20260422T064925
CREATED:20241106T203736Z
LAST-MODIFIED:20241106T203736Z
UID:22995257-1750636800-1750723199@www.wuerflach.at
SUMMARY:Biotonnen
DESCRIPTION:Alle Tonnen bitte bis 6:30 Uhr vor Ihrer Liegenschaft bereitstellen!
URL:https://www.wuerflach.at/event/biotonnen-11/
LOCATION:NÖ
CATEGORIES:Biotonne
END:VEVENT
BEGIN:VEVENT
DTSTART;VALUE=DATE:20250623
DTEND;VALUE=DATE:20250624
DTSTAMP:20260422T064925
CREATED:20241111T224302Z
LAST-MODIFIED:20241111T224302Z
UID:22995342-1750636800-1750723199@www.wuerflach.at
SUMMARY:Windelabholung
DESCRIPTION:Die Restmüllsäcke (gut zugebunden) bitte bis 6:30 Uhr vor Ihrer Liegenschaft bereitstellen!\nBitte um An- und Abmeldung der Windelabholungen im Gemeindeamt.\nEs werden nur Säcke der Haushalte abgeholt\, welche auf der Gemeinde-Abholliste eingetragen sind!
URL:https://www.wuerflach.at/event/windelabholung-8/
LOCATION:NÖ
CATEGORIES:Windelabholung
END:VEVENT
BEGIN:VEVENT
DTSTART;TZID=Europe/Vienna:20250625T180000
DTEND;TZID=Europe/Vienna:20250625T180000
DTSTAMP:20260422T064925
CREATED:20250116T160651Z
LAST-MODIFIED:20250116T160651Z
UID:22995723-1750874400-1750874400@www.wuerflach.at
SUMMARY:Nordic Walking
DESCRIPTION:
URL:https://www.wuerflach.at/event/nordic-walking-74/
LOCATION:NÖ
CATEGORIES:Sport / Bewegung
END:VEVENT
BEGIN:VEVENT
DTSTART;TZID=Europe/Vienna:20250626T150000
DTEND;TZID=Europe/Vienna:20250626T150000
DTSTAMP:20260422T064925
CREATED:20250128T204043Z
LAST-MODIFIED:20250128T204043Z
UID:22995953-1750950000-1750950000@www.wuerflach.at
SUMMARY:Stammtisch - Senioren Würflach
DESCRIPTION:Stammtisch 15:00 Uhr  (Ort wird nachgereicht!)\nSenioren Würflach
URL:https://www.wuerflach.at/event/stammtisch-senioren-wuerflach-12/
LOCATION:NÖ
CATEGORIES:Sonstige
ORGANIZER;CN="Senioren W%C3%BCrflach - Obmann Hans Schauer":MAILTO:schauerh@aon.at
END:VEVENT
BEGIN:VEVENT
DTSTART;TZID=Europe/Vienna:20250627T100000
DTEND;TZID=Europe/Vienna:20250627T100000
DTSTAMP:20260422T064925
CREATED:20241027T201114Z
LAST-MODIFIED:20241027T201114Z
UID:22995109-1751018400-1751018400@www.wuerflach.at
SUMMARY:Mostheuriger - Fam. Woltron
DESCRIPTION:  \n \nGenießen Sie prämierte\, selbsterzeugte\, traditionelle\, bodenständige Schmankerl: Fleisch- und Selchwaren\, Bauernbrot\, Most\, Cider\, Säfte\, Schnäpse uvm. \nFür die Kleinen gibt es einen Kinderspielplatz zum Bewegen und Austoben.
URL:https://www.wuerflach.at/event/mostheuriger-fam-woltron-63/
LOCATION:Heurigenlokal – Fam. Woltron\, Bogengasse 106\, Würflach\, NÖ\, 2732
CATEGORIES:Heuriger / Kulinarik
END:VEVENT
BEGIN:VEVENT
DTSTART;TZID=Europe/Vienna:20250627T150000
DTEND;TZID=Europe/Vienna:20250627T150000
DTSTAMP:20260422T064925
CREATED:20250128T204244Z
LAST-MODIFIED:20250219T072430Z
UID:22995955-1751036400-1751036400@www.wuerflach.at
SUMMARY:Heurigenbesuch - Pensionistenverband Würflach
DESCRIPTION:Heurigenbesuch bei Fam. Woltron\, 15:00\, Pensionistenverband Würflach \n 
URL:https://www.wuerflach.at/event/heurigenbesuch-pensionistenverband-wuerflach/
LOCATION:NÖ
CATEGORIES:Sonstige
END:VEVENT
BEGIN:VEVENT
DTSTART;TZID=Europe/Vienna:20250628T100000
DTEND;TZID=Europe/Vienna:20250628T100000
DTSTAMP:20260422T064925
CREATED:20241027T201136Z
LAST-MODIFIED:20241027T201136Z
UID:22995111-1751104800-1751104800@www.wuerflach.at
SUMMARY:Mostheuriger - Fam. Woltron
DESCRIPTION:  \n \nGenießen Sie prämierte\, selbsterzeugte\, traditionelle\, bodenständige Schmankerl: Fleisch- und Selchwaren\, Bauernbrot\, Most\, Cider\, Säfte\, Schnäpse uvm. \nFür die Kleinen gibt es einen Kinderspielplatz zum Bewegen und Austoben.
URL:https://www.wuerflach.at/event/mostheuriger-fam-woltron-64/
LOCATION:Heurigenlokal – Fam. Woltron\, Bogengasse 106\, Würflach\, NÖ\, 2732
CATEGORIES:Heuriger / Kulinarik
END:VEVENT
BEGIN:VEVENT
DTSTART;TZID=Europe/Vienna:20250629T034500
DTEND;TZID=Europe/Vienna:20250629T034500
DTSTAMP:20260422T064925
CREATED:20250128T204505Z
LAST-MODIFIED:20250128T204614Z
UID:22995957-1751168700-1751168700@www.wuerflach.at
SUMMARY:Fußwallfahrt nach Maria Schutz
DESCRIPTION:Wallfahrt nach Maria Schutz\n3:45 Uhr Abmarsch bei der Pfarrkirche\n11:00 Uhr hl. Messe in Maria Schutz \n 
URL:https://www.wuerflach.at/event/fusswallfahrt-nach-maria-schutz-2/
LOCATION:NÖ
CATEGORIES:Pfarre / religiöse Termine
ORGANIZER;CN="Pfarre W%C3%BCrflach":MAILTO:pfarre.wuerflach@katholischekirche.at
END:VEVENT
BEGIN:VEVENT
DTSTART;TZID=Europe/Vienna:20250629T100000
DTEND;TZID=Europe/Vienna:20250629T100000
DTSTAMP:20260422T064925
CREATED:20241027T201158Z
LAST-MODIFIED:20241027T201158Z
UID:22995113-1751191200-1751191200@www.wuerflach.at
SUMMARY:Mostheuriger - Fam. Woltron
DESCRIPTION:  \n \nGenießen Sie prämierte\, selbsterzeugte\, traditionelle\, bodenständige Schmankerl: Fleisch- und Selchwaren\, Bauernbrot\, Most\, Cider\, Säfte\, Schnäpse uvm. \nFür die Kleinen gibt es einen Kinderspielplatz zum Bewegen und Austoben.
URL:https://www.wuerflach.at/event/mostheuriger-fam-woltron-65/
LOCATION:Heurigenlokal – Fam. Woltron\, Bogengasse 106\, Würflach\, NÖ\, 2732
CATEGORIES:Heuriger / Kulinarik
END:VEVENT
END:VCALENDAR