BEGIN:VCALENDAR
VERSION:2.0
PRODID:-//Gemeinde Wuerflach - ECPv6.15.19//NONSGML v1.0//EN
CALSCALE:GREGORIAN
METHOD:PUBLISH
X-WR-CALNAME:Gemeinde Wuerflach
X-ORIGINAL-URL:https://www.wuerflach.at
X-WR-CALDESC:Veranstaltungen für Gemeinde Wuerflach
REFRESH-INTERVAL;VALUE=DURATION:PT1H
X-Robots-Tag:noindex
X-PUBLISHED-TTL:PT1H
BEGIN:VTIMEZONE
TZID:Europe/Vienna
BEGIN:DAYLIGHT
TZOFFSETFROM:+0100
TZOFFSETTO:+0200
TZNAME:CEST
DTSTART:20240331T010000
END:DAYLIGHT
BEGIN:STANDARD
TZOFFSETFROM:+0200
TZOFFSETTO:+0100
TZNAME:CET
DTSTART:20241027T010000
END:STANDARD
BEGIN:DAYLIGHT
TZOFFSETFROM:+0100
TZOFFSETTO:+0200
TZNAME:CEST
DTSTART:20250330T010000
END:DAYLIGHT
BEGIN:STANDARD
TZOFFSETFROM:+0200
TZOFFSETTO:+0100
TZNAME:CET
DTSTART:20251026T010000
END:STANDARD
BEGIN:DAYLIGHT
TZOFFSETFROM:+0100
TZOFFSETTO:+0200
TZNAME:CEST
DTSTART:20260329T010000
END:DAYLIGHT
BEGIN:STANDARD
TZOFFSETFROM:+0200
TZOFFSETTO:+0100
TZNAME:CET
DTSTART:20261025T010000
END:STANDARD
END:VTIMEZONE
BEGIN:VEVENT
DTSTART;TZID=Europe/Vienna:20250402T140000
DTEND;TZID=Europe/Vienna:20250402T140000
DTSTAMP:20260422T104218
CREATED:20250121T173033Z
LAST-MODIFIED:20250121T173033Z
UID:22995771-1743602400-1743602400@www.wuerflach.at
SUMMARY:Wanderung - Senioren Würflach
DESCRIPTION:Wanderung – 14:00 Uhr am Franziskusweg im Raum Pitten mit Johann Weik\,\nBesichtigung des Pflegeheimes Mata Salvatoris\, Treffpunkt Musikheim\, Abschluß Heuriger Hadl\nSenioren Würflach
URL:https://www.wuerflach.at/event/wanderung-senioren-wuerflach-12/
LOCATION:NÖ
CATEGORIES:Sport / Bewegung
ORGANIZER;CN="Senioren W%C3%BCrflach - Obmann Hans Schauer":MAILTO:schauerh@aon.at
END:VEVENT
BEGIN:VEVENT
DTSTART;TZID=Europe/Vienna:20250402T180000
DTEND;TZID=Europe/Vienna:20250402T180000
DTSTAMP:20260422T104218
CREATED:20250116T155944Z
LAST-MODIFIED:20250116T155944Z
UID:22995701-1743616800-1743616800@www.wuerflach.at
SUMMARY:Nordic Walking
DESCRIPTION:
URL:https://www.wuerflach.at/event/nordic-walking-63/
LOCATION:NÖ
CATEGORIES:Sport / Bewegung
END:VEVENT
BEGIN:VEVENT
DTSTART;TZID=Europe/Vienna:20250403T080000
DTEND;TZID=Europe/Vienna:20250403T080000
DTSTAMP:20260422T104218
CREATED:20250128T180945Z
LAST-MODIFIED:20250218T114810Z
UID:22995836-1743667200-1743667200@www.wuerflach.at
SUMMARY:Tagesfahrt in die Steiermark
DESCRIPTION:Tagesfahrt in die Steiermark\, 8:00 Uhr – Pensionistenverband Würflach \n 
URL:https://www.wuerflach.at/event/tagesfahrt-in-die-steiermark/
LOCATION:NÖ
CATEGORIES:Ausflug / Ausfahrt / Reise
END:VEVENT
BEGIN:VEVENT
DTSTART;TZID=Europe/Vienna:20250405T083000
DTEND;TZID=Europe/Vienna:20250405T083000
DTSTAMP:20260422T104218
CREATED:20250128T181147Z
LAST-MODIFIED:20250321T102636Z
UID:22995838-1743841800-1743841800@www.wuerflach.at
SUMMARY:Flurreinigung
DESCRIPTION:Treffpunkt am Bauhof – Heuweg 203 \n  \n 
URL:https://www.wuerflach.at/event/flurreinigung-2/
LOCATION:NÖ
CATEGORIES:Sonstige
END:VEVENT
BEGIN:VEVENT
DTSTART;TZID=Europe/Vienna:20250405T160000
DTEND;TZID=Europe/Vienna:20250405T160000
DTSTAMP:20260422T104218
CREATED:20250128T181534Z
LAST-MODIFIED:20250218T123625Z
UID:22995840-1743868800-1743868800@www.wuerflach.at
SUMMARY:Lesung Sandro Cerny - Lesung in der Bücherei
DESCRIPTION:  \n  \n 
URL:https://www.wuerflach.at/event/lesung-sandro-cerny-lesung-in-der-buecherei/
LOCATION:Gemeindebücherei Würflach\, Willendorfer Str. 150\, Gemeinde Würflach\, 2732\, Österreich
CATEGORIES:Lesung
ORGANIZER;CN="B%C3%BCcherei W%C3%BCrflach":MAILTO:buecherei@wuerflach.at
END:VEVENT
BEGIN:VEVENT
DTSTART;TZID=Europe/Vienna:20250409T180000
DTEND;TZID=Europe/Vienna:20250409T180000
DTSTAMP:20260422T104218
CREATED:20250116T155835Z
LAST-MODIFIED:20250116T155917Z
UID:22995699-1744221600-1744221600@www.wuerflach.at
SUMMARY:Nordic Walking
DESCRIPTION:
URL:https://www.wuerflach.at/event/nordic-walking-62/
LOCATION:NÖ
CATEGORIES:Sport / Bewegung
END:VEVENT
BEGIN:VEVENT
DTSTART;TZID=Europe/Vienna:20250410T150000
DTEND;TZID=Europe/Vienna:20250410T150000
DTSTAMP:20260422T104218
CREATED:20250121T173344Z
LAST-MODIFIED:20250121T173344Z
UID:22995773-1744297200-1744297200@www.wuerflach.at
SUMMARY:Seniorenplauscherl
DESCRIPTION:Seniorenplauscherl 15:00 Uhr – im Gasthaus Seewald\,\nWürflacher Senioren \n 
URL:https://www.wuerflach.at/event/seniorenplauscherl-7/
LOCATION:Gasthaus Seewald\, Hettmannsdorfer Str. 30\, Würflach\, NÖ\, 2732\, Österreich
CATEGORIES:Sonstige
ORGANIZER;CN="Senioren W%C3%BCrflach - Obmann Hans Schauer":MAILTO:schauerh@aon.at
END:VEVENT
BEGIN:VEVENT
DTSTART;TZID=Europe/Vienna:20250412T090000
DTEND;TZID=Europe/Vienna:20250412T100000
DTSTAMP:20260422T104218
CREATED:20250128T194340Z
LAST-MODIFIED:20250128T195109Z
UID:22995904-1744448400-1744452000@www.wuerflach.at
SUMMARY:Rechtsberatung
DESCRIPTION:Sehr geehrte Damen und Herren!\nKostenlose Rechtsberatung von Fr. Rechtsanwältin Dr. Daniela Schiesl-Müller im Gemeindesitzungssaal.\nEine Anmeldung ist nicht erforderlich. Bitte nehmen Sie ihre Rechtsschutz Polizzen-Nr. zum Termin mit.\nKontakt: Fr. Dr. Daniela Schiesl-Müller\nTel: 02262/641 69\, Mobil: 0664/523 51 19\nE-Mail: office@schieslaw.at / www.schieslaw.at \n  \n  \n 
URL:https://www.wuerflach.at/event/rechtsberatung-7/
LOCATION:Sitzungssaal der Gemeinde (Eingang im Hinterhof)\, Willendorfer Straße 150\, Würflach\, NÖ\, 2732
CATEGORIES:Sonstige
END:VEVENT
BEGIN:VEVENT
DTSTART;TZID=Europe/Vienna:20250413T090000
DTEND;TZID=Europe/Vienna:20250413T090000
DTSTAMP:20260422T104218
CREATED:20250128T181842Z
LAST-MODIFIED:20250218T131318Z
UID:22995842-1744534800-1744534800@www.wuerflach.at
SUMMARY:Palmweihe
DESCRIPTION:9:00 Uhr – Segnung der Palmzweige\, Palmprozession und hl. Messe
URL:https://www.wuerflach.at/event/palmweihe-2/
LOCATION:Pfarrkirche Würflach
CATEGORIES:Pfarre / religiöse Termine
ORGANIZER;CN="Pfarre W%C3%BCrflach":MAILTO:pfarre.wuerflach@katholischekirche.at
END:VEVENT
BEGIN:VEVENT
DTSTART;VALUE=DATE:20250414
DTEND;VALUE=DATE:20250415
DTSTAMP:20260422T104218
CREATED:20241106T201330Z
LAST-MODIFIED:20241106T201330Z
UID:22995215-1744588800-1744675199@www.wuerflach.at
SUMMARY:Restmüll
DESCRIPTION:Alle Restmüllsäcke (gut zugebunden) bitte bis 6:30 Uhr vor Ihrer Liegenschaft bereitstellen!
URL:https://www.wuerflach.at/event/restmuell-4/
LOCATION:NÖ
CATEGORIES:RMS Restmüllsäcke
END:VEVENT
BEGIN:VEVENT
DTSTART;VALUE=DATE:20250414
DTEND;VALUE=DATE:20250415
DTSTAMP:20260422T104218
CREATED:20241106T203301Z
LAST-MODIFIED:20241106T203301Z
UID:22995245-1744588800-1744675199@www.wuerflach.at
SUMMARY:Biotonnen
DESCRIPTION:Alle Tonnen bitte bis 6:30 Uhr vor Ihrer Liegenschaft bereitstellen!
URL:https://www.wuerflach.at/event/biotonnen-6/
LOCATION:NÖ
CATEGORIES:Biotonne
END:VEVENT
BEGIN:VEVENT
DTSTART;TZID=Europe/Vienna:20250414T150000
DTEND;TZID=Europe/Vienna:20250414T150000
DTSTAMP:20260422T104218
CREATED:20250128T182008Z
LAST-MODIFIED:20250218T131403Z
UID:22995844-1744642800-1744642800@www.wuerflach.at
SUMMARY:Osterrollerschnapsen
DESCRIPTION:Osterrollerschnapsen 15:00 Uhr im Gasthaus Weninger \n 
URL:https://www.wuerflach.at/event/osterrollerschnapsen-2/
LOCATION:Gasthaus Weninger\, Hettmannsdorfer Str. 19\, Würflach\, NÖ\, 2732\, Österreich
CATEGORIES:Heuriger / Kulinarik
END:VEVENT
BEGIN:VEVENT
DTSTART;VALUE=DATE:20250415
DTEND;VALUE=DATE:20250416
DTSTAMP:20260422T104218
CREATED:20241106T204758Z
LAST-MODIFIED:20241106T204758Z
UID:22995281-1744675200-1744761599@www.wuerflach.at
SUMMARY:Altpapier
DESCRIPTION:Alle Tonnen bitte bis 6:30 Uhr vor Ihrer Liegenschaft bereitstellen! \n 
URL:https://www.wuerflach.at/event/altpapier-2/
LOCATION:NÖ
CATEGORIES:Altpapier
END:VEVENT
BEGIN:VEVENT
DTSTART;TZID=Europe/Vienna:20250415T130000
DTEND;TZID=Europe/Vienna:20250415T130000
DTSTAMP:20260422T104218
CREATED:20250128T182246Z
LAST-MODIFIED:20250206T105938Z
UID:22995848-1744722000-1744722000@www.wuerflach.at
SUMMARY:Blutspenden
DESCRIPTION:Blutspenden in der Mehrzweckhalle – in der Volksschule Würflach-\n13:00 – 14:30 Uhr und  15:30-19:00 Uhr  \nBitte kommen Sie\, helfen Sie und spenden Sie Blut!
URL:https://www.wuerflach.at/event/blutspenden-2/
LOCATION:Mehrzweckhalle der Volksschule\, Neunkirchner Str. 76\, Würflach\, NÖ\, 2732
CATEGORIES:Sonstige
END:VEVENT
BEGIN:VEVENT
DTSTART;VALUE=DATE:20250416
DTEND;VALUE=DATE:20250417
DTSTAMP:20260422T104218
CREATED:20241111T223237Z
LAST-MODIFIED:20241111T223237Z
UID:22995314-1744761600-1744847999@www.wuerflach.at
SUMMARY:Gelber Sack
DESCRIPTION:Alle gelben Säcke (gut zugebunden) bitte bis 6:30 Uhr vor Ihrer Liegenschaft bereitstellen!
URL:https://www.wuerflach.at/event/gelber-sack-4/
LOCATION:NÖ
CATEGORIES:gelber Sack
END:VEVENT
BEGIN:VEVENT
DTSTART;TZID=Europe/Vienna:20250416T180000
DTEND;TZID=Europe/Vienna:20250416T180000
DTSTAMP:20260422T104218
CREATED:20250116T160024Z
LAST-MODIFIED:20250116T160024Z
UID:22995703-1744826400-1744826400@www.wuerflach.at
SUMMARY:Nordic Walking
DESCRIPTION:
URL:https://www.wuerflach.at/event/nordic-walking-64/
LOCATION:NÖ
CATEGORIES:Sport / Bewegung
END:VEVENT
BEGIN:VEVENT
DTSTART;TZID=Europe/Vienna:20250417T183000
DTEND;TZID=Europe/Vienna:20250417T183000
DTSTAMP:20260422T104218
CREATED:20250128T183301Z
LAST-MODIFIED:20250128T183327Z
UID:22995854-1744914600-1744914600@www.wuerflach.at
SUMMARY:Gründonnerstag - hl. Messe
DESCRIPTION:18:30 hl. Messe vom letzten Abendmahl
URL:https://www.wuerflach.at/event/gruendonnerstag-hl-messe-2/
LOCATION:Pfarrkirche Würflach
CATEGORIES:Pfarre / religiöse Termine
ORGANIZER;CN="Pfarre W%C3%BCrflach":MAILTO:pfarre.wuerflach@katholischekirche.at
END:VEVENT
BEGIN:VEVENT
DTSTART;TZID=Europe/Vienna:20250418T090000
DTEND;TZID=Europe/Vienna:20250418T180000
DTSTAMP:20260422T104218
CREATED:20250128T183115Z
LAST-MODIFIED:20250206T110307Z
UID:22995850-1744966800-1744999200@www.wuerflach.at
SUMMARY:Bauern- u. Ostermarkt bei Fam. Woltron
DESCRIPTION:  \n 
URL:https://www.wuerflach.at/event/bauern-u-ostermarkt-bei-fam-woltron-3/
LOCATION:Heurigenlokal – Fam. Woltron\, Bogengasse 106\, Würflach\, NÖ\, 2732
CATEGORIES:Heuriger / Kulinarik
ORGANIZER;CN="Familie Woltron":MAILTO:urlaub@bauernhof-woltron.at
END:VEVENT
BEGIN:VEVENT
DTSTART;TZID=Europe/Vienna:20250418T150000
DTEND;TZID=Europe/Vienna:20250418T150000
DTSTAMP:20260422T104218
CREATED:20250128T183508Z
LAST-MODIFIED:20250128T183508Z
UID:22995856-1744988400-1744988400@www.wuerflach.at
SUMMARY:Karfreitag; Kinderkreuzweg; Karfreitagsliturgie
DESCRIPTION:15:00 Uhr Kinderkreuzweg\n18:30 Uhr Karfreitagsliturgie
URL:https://www.wuerflach.at/event/karfreitag-kinderkreuzweg-karfreitagsliturgie/
LOCATION:Pfarrkirche Würflach
CATEGORIES:Pfarre / religiöse Termine
ORGANIZER;CN="Pfarre W%C3%BCrflach":MAILTO:pfarre.wuerflach@katholischekirche.at
END:VEVENT
BEGIN:VEVENT
DTSTART;TZID=Europe/Vienna:20250419T090000
DTEND;TZID=Europe/Vienna:20250419T090000
DTSTAMP:20260422T104218
CREATED:20250128T183630Z
LAST-MODIFIED:20250128T183630Z
UID:22995858-1745053200-1745053200@www.wuerflach.at
SUMMARY:Karsamstag
DESCRIPTION:9:00 – 16:00 Uhr Möglichkeit zur stillen Anbetung am hl. Grab in der Pfarrkirche und Beichtgelegenheit\n20:30 Uhr Feier der hochheiligen Osternacht\, Speisensegnung
URL:https://www.wuerflach.at/event/karsamstag-2/
LOCATION:Pfarrkirche Würflach
CATEGORIES:Pfarre / religiöse Termine
ORGANIZER;CN="Pfarre W%C3%BCrflach":MAILTO:pfarre.wuerflach@katholischekirche.at
END:VEVENT
BEGIN:VEVENT
DTSTART;TZID=Europe/Vienna:20250419T090000
DTEND;TZID=Europe/Vienna:20250419T180000
DTSTAMP:20260422T104218
CREATED:20250128T183214Z
LAST-MODIFIED:20250206T110458Z
UID:22995852-1745053200-1745085600@www.wuerflach.at
SUMMARY:Bauern- u. Ostermarkt bei Fam. Woltron
DESCRIPTION:
URL:https://www.wuerflach.at/event/bauern-u-ostermarkt-bei-fam-woltron-4/
LOCATION:Heurigenlokal – Fam. Woltron\, Bogengasse 106\, Würflach\, NÖ\, 2732
CATEGORIES:Heuriger / Kulinarik
ORGANIZER;CN="Familie Woltron":MAILTO:urlaub@bauernhof-woltron.at
END:VEVENT
BEGIN:VEVENT
DTSTART;TZID=Europe/Vienna:20250419T133000
DTEND;TZID=Europe/Vienna:20250419T133000
DTSTAMP:20260422T104218
CREATED:20250128T183831Z
LAST-MODIFIED:20250415T053221Z
UID:22995860-1745069400-1745069400@www.wuerflach.at
SUMMARY:Osterrätselwanderung
DESCRIPTION:  \n 
URL:https://www.wuerflach.at/event/osterraetselralley-2/
LOCATION:NÖ
CATEGORIES:Sonstige
END:VEVENT
BEGIN:VEVENT
DTSTART;TZID=Europe/Vienna:20250419T160000
DTEND;TZID=Europe/Vienna:20250419T180000
DTSTAMP:20260422T104218
CREATED:20250129T230700Z
LAST-MODIFIED:20250218T132226Z
UID:22996091-1745078400-1745085600@www.wuerflach.at
SUMMARY:Bilderbuchkino für Kinder\, 16:00-18:00\, in der Bücherei
DESCRIPTION: 
URL:https://www.wuerflach.at/event/bilderbuchkino-fuer-kinder-1600-1800-in-der-buecherei-3/
LOCATION:Gemeindebücherei Würflach\, Willendorfer Str. 150\, Gemeinde Würflach\, 2732\, Österreich
CATEGORIES:Sonstige
ORGANIZER;CN="B%C3%BCcherei W%C3%BCrflach":MAILTO:buecherei@wuerflach.at
END:VEVENT
BEGIN:VEVENT
DTSTART;TZID=Europe/Vienna:20250420T090000
DTEND;TZID=Europe/Vienna:20250420T090000
DTSTAMP:20260422T104218
CREATED:20250128T183942Z
LAST-MODIFIED:20250128T183942Z
UID:22995862-1745139600-1745139600@www.wuerflach.at
SUMMARY:Osterhochamt mit den Lichtmesssängern
DESCRIPTION:9:00  Uhr –  Osterhochamt mit den Lichtmesssängern (ÖAAB + FF)\nanschließend Auferstehungsprozession mit dem Musikverein \n 
URL:https://www.wuerflach.at/event/osterhochamt-mit-den-lichtmesssaengern-2/
LOCATION:Pfarrkirche Würflach
CATEGORIES:Pfarre / religiöse Termine
ORGANIZER;CN="Pfarre W%C3%BCrflach":MAILTO:pfarre.wuerflach@katholischekirche.at
END:VEVENT
BEGIN:VEVENT
DTSTART;TZID=Europe/Vienna:20250421T090000
DTEND;TZID=Europe/Vienna:20250421T090000
DTSTAMP:20260422T104218
CREATED:20250128T184052Z
LAST-MODIFIED:20250128T184052Z
UID:22995864-1745226000-1745226000@www.wuerflach.at
SUMMARY:Ostermontag
DESCRIPTION:9:00 Uhr hl. Messe
URL:https://www.wuerflach.at/event/ostermontag/
LOCATION:Pfarrkirche Würflach
CATEGORIES:Pfarre / religiöse Termine
ORGANIZER;CN="Pfarre W%C3%BCrflach":MAILTO:pfarre.wuerflach@katholischekirche.at
END:VEVENT
BEGIN:VEVENT
DTSTART;TZID=Europe/Vienna:20250423T180000
DTEND;TZID=Europe/Vienna:20250423T180000
DTSTAMP:20260422T104218
CREATED:20250116T160105Z
LAST-MODIFIED:20250116T160105Z
UID:22995705-1745431200-1745431200@www.wuerflach.at
SUMMARY:Nordic Walking
DESCRIPTION:
URL:https://www.wuerflach.at/event/nordic-walking-65/
LOCATION:NÖ
CATEGORIES:Sport / Bewegung
END:VEVENT
BEGIN:VEVENT
DTSTART;TZID=Europe/Vienna:20250425T000000
DTEND;TZID=Europe/Vienna:20250425T000000
DTSTAMP:20260422T104218
CREATED:20250121T173712Z
LAST-MODIFIED:20250121T173712Z
UID:22995775-1745539200-1745539200@www.wuerflach.at
SUMMARY:Frühlingsreise - Senioren Würflach
DESCRIPTION:Frühlingsreise 2025 – nach Albanien von 25. April bis 1. Mai\nWürflacher Senioren \n 
URL:https://www.wuerflach.at/event/fruehlingsreise-senioren-wuerflach/
LOCATION:NÖ
CATEGORIES:Ausflug / Ausfahrt / Reise
ORGANIZER;CN="Senioren W%C3%BCrflach - Obmann Hans Schauer":MAILTO:schauerh@aon.at
END:VEVENT
BEGIN:VEVENT
DTSTART;TZID=Europe/Vienna:20250425T170000
DTEND;TZID=Europe/Vienna:20250425T220000
DTSTAMP:20260422T104218
CREATED:20250128T184503Z
LAST-MODIFIED:20250206T120535Z
UID:22995867-1745600400-1745618400@www.wuerflach.at
SUMMARY:Lange Nacht der Bibliotheken
DESCRIPTION:  \n  \n  \n 
URL:https://www.wuerflach.at/event/lange-nacht-der-buechereien-2/
LOCATION:Gemeindebücherei Würflach\, Willendorfer Str. 150\, Gemeinde Würflach\, 2732\, Österreich
CATEGORIES:Sonstige
ORGANIZER;CN="B%C3%BCcherei W%C3%BCrflach":MAILTO:buecherei@wuerflach.at
END:VEVENT
BEGIN:VEVENT
DTSTART;TZID=Europe/Vienna:20250426T070000
DTEND;TZID=Europe/Vienna:20250426T070000
DTSTAMP:20260422T104218
CREATED:20250128T184643Z
LAST-MODIFIED:20250128T184643Z
UID:22995869-1745650800-1745650800@www.wuerflach.at
SUMMARY:1. Fußwallfahrt nach Maria Kirchbüchl
DESCRIPTION:1. Fußwallfahrt von Würflach nach Maria Kirchbüchl\n7:00 Uhr Abmarsch\, 8:00 hl. Messe in Maria Kirchbüchl
URL:https://www.wuerflach.at/event/1-fusswallfahrt-nach-maria-kirchbuechl/
LOCATION:Pfarrkirche Würflach
CATEGORIES:Pfarre / religiöse Termine
ORGANIZER;CN="Pfarre W%C3%BCrflach":MAILTO:pfarre.wuerflach@katholischekirche.at
END:VEVENT
BEGIN:VEVENT
DTSTART;TZID=Europe/Vienna:20250426T090000
DTEND;TZID=Europe/Vienna:20250426T140000
DTSTAMP:20260422T104218
CREATED:20250404T094830Z
LAST-MODIFIED:20250414T044647Z
UID:22996425-1745658000-1745676000@www.wuerflach.at
SUMMARY:Pflanzenbörse  - unabhängige Bürgerliste
DESCRIPTION:„Wir laden Sie herzlich ein\, Ihre Gemüse- und Kräuterpflanzen\, Blumensetzlinge\, Pflanzensamen sowie Tipps und Erfahrungen auszutauschen. Entdecken Sie eine Vielzahl an Tomaten- und Paprikapflanzen\, Blumen\, selbst veredelte Obstbäume sowie zahlreiche andere Raritäten für Ihren Gemüsegarten.\nÜbrigens: Die Pflanzen sind auch gegen eine kleine freie Spende erhältlich! Für Kaffee und Kuchen ist bestens gesorgt!“ \nGemeinsam für Würflach\nUnabhängige Bürgerliste \n 
URL:https://www.wuerflach.at/event/pflanzenboerse-der-buergerliste/
LOCATION:Akazienhof\, Neunkirchner Str. 104\, Würflach\, 2732
CATEGORIES:Heuriger / Kulinarik
ORGANIZER;CN="Gemeinsam f%C3%BCr W%C3%BCrflach (unabh%C3%A4ngige B%C3%BCrgerliste)":MAILTO:gemeinsam@wuerflach.info
END:VEVENT
END:VCALENDAR