BEGIN:VCALENDAR
VERSION:2.0
PRODID:-//Gemeinde Wuerflach - ECPv6.15.19//NONSGML v1.0//EN
CALSCALE:GREGORIAN
METHOD:PUBLISH
X-WR-CALNAME:Gemeinde Wuerflach
X-ORIGINAL-URL:https://www.wuerflach.at
X-WR-CALDESC:Veranstaltungen für Gemeinde Wuerflach
REFRESH-INTERVAL;VALUE=DURATION:PT1H
X-Robots-Tag:noindex
X-PUBLISHED-TTL:PT1H
BEGIN:VTIMEZONE
TZID:Europe/Vienna
BEGIN:DAYLIGHT
TZOFFSETFROM:+0100
TZOFFSETTO:+0200
TZNAME:CEST
DTSTART:20240331T010000
END:DAYLIGHT
BEGIN:STANDARD
TZOFFSETFROM:+0200
TZOFFSETTO:+0100
TZNAME:CET
DTSTART:20241027T010000
END:STANDARD
BEGIN:DAYLIGHT
TZOFFSETFROM:+0100
TZOFFSETTO:+0200
TZNAME:CEST
DTSTART:20250330T010000
END:DAYLIGHT
BEGIN:STANDARD
TZOFFSETFROM:+0200
TZOFFSETTO:+0100
TZNAME:CET
DTSTART:20251026T010000
END:STANDARD
BEGIN:DAYLIGHT
TZOFFSETFROM:+0100
TZOFFSETTO:+0200
TZNAME:CEST
DTSTART:20260329T010000
END:DAYLIGHT
BEGIN:STANDARD
TZOFFSETFROM:+0200
TZOFFSETTO:+0100
TZNAME:CET
DTSTART:20261025T010000
END:STANDARD
END:VTIMEZONE
BEGIN:VEVENT
DTSTART;TZID=Europe/Vienna:20250215T190000
DTEND;TZID=Europe/Vienna:20250215T190000
DTSTAMP:20260422T140340
CREATED:20250120T133337Z
LAST-MODIFIED:20250128T171725Z
UID:22995745-1739646000-1739646000@www.wuerflach.at
SUMMARY:Würflacher Fasching
DESCRIPTION:Kartenvorverkauf im Gasthaus Seewald\n6.2.\, 7.2.\, 13.2.\, 14.2. – jeweils 18-20:00 Uhr \n  \n 
URL:https://www.wuerflach.at/event/wuerflacher-fasching/
LOCATION:Mehrzweckhalle der Volksschule\, Neunkirchner Str. 76\, Würflach\, NÖ\, 2732
CATEGORIES:Sonstige
END:VEVENT
BEGIN:VEVENT
DTSTART;TZID=Europe/Vienna:20250216T090000
DTEND;TZID=Europe/Vienna:20250216T090000
DTSTAMP:20260422T140340
CREATED:20250128T171322Z
LAST-MODIFIED:20250128T171416Z
UID:22995802-1739696400-1739696400@www.wuerflach.at
SUMMARY:Familienmesse
DESCRIPTION:9:00 Uhr in der Pfarrkirche
URL:https://www.wuerflach.at/event/familienmesse-5/
LOCATION:Pfarrkirche Würflach
CATEGORIES:Pfarre / religiöse Termine
ORGANIZER;CN="Pfarre W%C3%BCrflach":MAILTO:pfarre.wuerflach@katholischekirche.at
END:VEVENT
BEGIN:VEVENT
DTSTART;TZID=Europe/Vienna:20250216T170000
DTEND;TZID=Europe/Vienna:20250216T170000
DTSTAMP:20260422T140340
CREATED:20250120T133841Z
LAST-MODIFIED:20250128T171856Z
UID:22995751-1739725200-1739725200@www.wuerflach.at
SUMMARY:Würflacher Fasching
DESCRIPTION:Kartenvorverkauf im Gasthaus Seewald\n6.2.\, 7.2.\, 13.2.\, 14.2. – jeweils 18-20:00 Uhr \n  \n 
URL:https://www.wuerflach.at/event/wuerflacher-fasching-2/
LOCATION:Mehrzweckhalle der Volksschule\, Neunkirchner Str. 76\, Würflach\, NÖ\, 2732
CATEGORIES:Sonstige
END:VEVENT
BEGIN:VEVENT
DTSTART;VALUE=DATE:20250217
DTEND;VALUE=DATE:20250218
DTSTAMP:20260422T140340
CREATED:20241106T201146Z
LAST-MODIFIED:20241106T201146Z
UID:22995211-1739750400-1739836799@www.wuerflach.at
SUMMARY:Restmüll
DESCRIPTION:Alle Restmüllsäcke (gut zugebunden) bitte bis 6:30 Uhr vor Ihrer Liegenschaft bereitstellen!
URL:https://www.wuerflach.at/event/restmuell-2/
LOCATION:NÖ
CATEGORIES:RMS Restmüllsäcke
END:VEVENT
BEGIN:VEVENT
DTSTART;TZID=Europe/Vienna:20250223T143000
DTEND;TZID=Europe/Vienna:20250223T143000
DTSTAMP:20260422T140340
CREATED:20250121T171208Z
LAST-MODIFIED:20250121T171322Z
UID:22995758-1740321000-1740321000@www.wuerflach.at
SUMMARY:Faschingsfeier - Senioren Würflach
DESCRIPTION:Faschingsfeier – 14:30 im Gasthaus Seewald mit Franz Grill\nSenioren Würflach
URL:https://www.wuerflach.at/event/faschingsfeier-senioren-wuerflach-2/
LOCATION:Gasthaus Seewald\, Hettmannsdorfer Str. 30\, Würflach\, NÖ\, 2732\, Österreich
CATEGORIES:Fest / Ball / Musikveranstaltung,Sport / Bewegung
ORGANIZER;CN="Senioren W%C3%BCrflach - Obmann Hans Schauer":MAILTO:schauerh@aon.at
END:VEVENT
END:VCALENDAR