BEGIN:VCALENDAR
VERSION:2.0
PRODID:-//Gemeinde Wuerflach - ECPv6.15.19//NONSGML v1.0//EN
CALSCALE:GREGORIAN
METHOD:PUBLISH
X-ORIGINAL-URL:https://www.wuerflach.at
X-WR-CALDESC:Veranstaltungen für Gemeinde Wuerflach
REFRESH-INTERVAL;VALUE=DURATION:PT1H
X-Robots-Tag:noindex
X-PUBLISHED-TTL:PT1H
BEGIN:VTIMEZONE
TZID:Europe/Vienna
BEGIN:DAYLIGHT
TZOFFSETFROM:+0100
TZOFFSETTO:+0200
TZNAME:CEST
DTSTART:20250330T010000
END:DAYLIGHT
BEGIN:STANDARD
TZOFFSETFROM:+0200
TZOFFSETTO:+0100
TZNAME:CET
DTSTART:20251026T010000
END:STANDARD
BEGIN:DAYLIGHT
TZOFFSETFROM:+0100
TZOFFSETTO:+0200
TZNAME:CEST
DTSTART:20260329T010000
END:DAYLIGHT
BEGIN:STANDARD
TZOFFSETFROM:+0200
TZOFFSETTO:+0100
TZNAME:CET
DTSTART:20261025T010000
END:STANDARD
BEGIN:DAYLIGHT
TZOFFSETFROM:+0100
TZOFFSETTO:+0200
TZNAME:CEST
DTSTART:20270328T010000
END:DAYLIGHT
BEGIN:STANDARD
TZOFFSETFROM:+0200
TZOFFSETTO:+0100
TZNAME:CET
DTSTART:20271031T010000
END:STANDARD
END:VTIMEZONE
BEGIN:VEVENT
DTSTART;TZID=Europe/Vienna:20260905T000000
DTEND;TZID=Europe/Vienna:20260905T000000
DTSTAMP:20260422T021152
CREATED:20260128T051903Z
LAST-MODIFIED:20260128T051903Z
UID:22998636-1788566400-1788566400@www.wuerflach.at
SUMMARY:Jubiläumfest der gesunden Gemeinde
DESCRIPTION:in der WellnessWelt / 4-Klang\nNähere Informationen folgen
URL:https://www.wuerflach.at/event/jubilaeumfest-der-gesunden-gemeinde/
LOCATION:Akazienhof\, Neunkirchner Str. 104\, Würflach\, 2732
CATEGORIES:Heuriger / Kulinarik
ORGANIZER;CN="Gemeinsam f%C3%BCr W%C3%BCrflach (unabh%C3%A4ngige B%C3%BCrgerliste)":MAILTO:gemeinsam@wuerflach.info
END:VEVENT
BEGIN:VEVENT
DTSTART;TZID=Europe/Vienna:20260909T000000
DTEND;TZID=Europe/Vienna:20260909T000000
DTSTAMP:20260422T021152
CREATED:20260215T102712Z
LAST-MODIFIED:20260215T102712Z
UID:22998897-1788912000-1788912000@www.wuerflach.at
SUMMARY:Männerturnen
DESCRIPTION:Männerturnen – Sport\, Bewegung\, Spiel und Spaß!\njeden Mittwoch von 19:30 bis 21:00 Uhr in der Würflacher Mehrzweckhalle \n  \n 
URL:https://www.wuerflach.at/event/maennerturnen-41/
LOCATION:NÖ
CATEGORIES:Sport / Bewegung
END:VEVENT
BEGIN:VEVENT
DTSTART;TZID=Europe/Vienna:20260910T000000
DTEND;TZID=Europe/Vienna:20260910T000000
DTSTAMP:20260422T021152
CREATED:20260206T043422Z
LAST-MODIFIED:20260206T043446Z
UID:22998681-1788998400-1788998400@www.wuerflach.at
SUMMARY:1. Obstpresstag
DESCRIPTION:Obstpresstag – Bauernbund Hettmannsdorf\nNähere Informationen folgen!\n\nAnmeldung und Terminvergabe bei Hannes Woltron  0664/1518036 \n  \n 
URL:https://www.wuerflach.at/event/2-obstpresstag/
LOCATION:Bauhof Würflach\, Heuweg 203\, Würflach\, Niederösterreich\, 2732\, Österreich
CATEGORIES:Sonstige
ORGANIZER;CN="Bauernbund Hettmannsdorf":MAILTO:johann@bauernhof-woltron.at
END:VEVENT
BEGIN:VEVENT
DTSTART;TZID=Europe/Vienna:20260910T183000
DTEND;TZID=Europe/Vienna:20260910T200000
DTSTAMP:20260422T021152
CREATED:20260215T095803Z
LAST-MODIFIED:20260215T095803Z
UID:22998869-1789065000-1789070400@www.wuerflach.at
SUMMARY:Damengesundheitsturnen
DESCRIPTION:Damengesundheitsturnen mit Wirbelsäulengymnastik – Aufbautraining\, „DKB“ (dehnen\, kräftigen\, bewegen)\njeden Donnerstag von 18:30 bis 20:00 Uhr in der Würflacher Mehrzweckhalle \nEs würde uns freuen\, wenn wir Sie in einer unserer nächsten Turnstunden begrüßen könnten!\nEinfach zu einer Schnupperstunde kommen. \nNähere Informationen erhalten Sie bei Obfrau Eva Schweighofer – 0688/821 81 81. \n  \n  \n 
URL:https://www.wuerflach.at/event/damengesundheitsturnen-38/
LOCATION:Mehrzweckhalle der Volksschule\, Neunkirchner Str. 76\, Würflach\, NÖ\, 2732
CATEGORIES:Sport / Bewegung
END:VEVENT
BEGIN:VEVENT
DTSTART;TZID=Europe/Vienna:20260911T100000
DTEND;TZID=Europe/Vienna:20260911T100000
DTSTAMP:20260422T021152
CREATED:20260120T211534Z
LAST-MODIFIED:20260120T211534Z
UID:22998408-1789120800-1789120800@www.wuerflach.at
SUMMARY:Mostheuriger - Fam. Woltron
DESCRIPTION:  \n \nGenießen Sie prämierte\, selbsterzeugte\, traditionelle\, bodenständige Schmankerl: Fleisch- und Selchwaren\, Bauernbrot\, Most\, Cider\, Säfte\, Schnäpse uvm. \nFür die Kleinen gibt es einen Kinderspielplatz zum Bewegen und Austoben.
URL:https://www.wuerflach.at/event/mostheuriger-fam-woltron-113/
LOCATION:Heurigenlokal – Fam. Woltron\, Bogengasse 106\, Würflach\, NÖ\, 2732
CATEGORIES:Heuriger / Kulinarik
END:VEVENT
BEGIN:VEVENT
DTSTART;TZID=Europe/Vienna:20260912T000000
DTEND;TZID=Europe/Vienna:20260912T000000
DTSTAMP:20260422T021152
CREATED:20260120T200635Z
LAST-MODIFIED:20260120T200635Z
UID:22998310-1789171200-1789171200@www.wuerflach.at
SUMMARY:Fußwallfahrt nach Maria Zell
DESCRIPTION:Wallfahrt – Samstag und Sonntag\nSonntag\, 13.9.2026 – 15:00 hl. Messe am Gnadenaltar \n 
URL:https://www.wuerflach.at/event/fusswallfahrt-nach-maria-zell-5/
LOCATION:NÖ
CATEGORIES:Pfarre / religiöse Termine
ORGANIZER;CN="Pfarre W%C3%BCrflach":MAILTO:pfarre.wuerflach@katholischekirche.at
END:VEVENT
BEGIN:VEVENT
DTSTART;TZID=Europe/Vienna:20260912T100000
DTEND;TZID=Europe/Vienna:20260912T100000
DTSTAMP:20260422T021152
CREATED:20260120T211635Z
LAST-MODIFIED:20260120T211635Z
UID:22998410-1789207200-1789207200@www.wuerflach.at
SUMMARY:Mostheuriger - Fam. Woltron
DESCRIPTION:  \n \nGenießen Sie prämierte\, selbsterzeugte\, traditionelle\, bodenständige Schmankerl: Fleisch- und Selchwaren\, Bauernbrot\, Most\, Cider\, Säfte\, Schnäpse uvm. \nFür die Kleinen gibt es einen Kinderspielplatz zum Bewegen und Austoben.
URL:https://www.wuerflach.at/event/mostheuriger-fam-woltron-114/
LOCATION:Heurigenlokal – Fam. Woltron\, Bogengasse 106\, Würflach\, NÖ\, 2732
CATEGORIES:Heuriger / Kulinarik
END:VEVENT
BEGIN:VEVENT
DTSTART;TZID=Europe/Vienna:20260913T000000
DTEND;TZID=Europe/Vienna:20260913T000000
DTSTAMP:20260422T021152
CREATED:20260120T200738Z
LAST-MODIFIED:20260120T200738Z
UID:22998312-1789257600-1789257600@www.wuerflach.at
SUMMARY:Fußwallfahrt nach Maria Zell
DESCRIPTION:Wallfahrt – Samstag und Sonntag\nSonntag\, 13.9.2026 – 15:00 hl. Messe am Gnadenaltar \n 
URL:https://www.wuerflach.at/event/fusswallfahrt-nach-maria-zell-6/
LOCATION:NÖ
CATEGORIES:Pfarre / religiöse Termine
ORGANIZER;CN="Pfarre W%C3%BCrflach":MAILTO:pfarre.wuerflach@katholischekirche.at
END:VEVENT
BEGIN:VEVENT
DTSTART;TZID=Europe/Vienna:20260913T100000
DTEND;TZID=Europe/Vienna:20260913T100000
DTSTAMP:20260422T021152
CREATED:20260120T211713Z
LAST-MODIFIED:20260120T211713Z
UID:22998412-1789293600-1789293600@www.wuerflach.at
SUMMARY:Mostheuriger - Fam. Woltron
DESCRIPTION:  \n \nGenießen Sie prämierte\, selbsterzeugte\, traditionelle\, bodenständige Schmankerl: Fleisch- und Selchwaren\, Bauernbrot\, Most\, Cider\, Säfte\, Schnäpse uvm. \nFür die Kleinen gibt es einen Kinderspielplatz zum Bewegen und Austoben.
URL:https://www.wuerflach.at/event/mostheuriger-fam-woltron-115/
LOCATION:Heurigenlokal – Fam. Woltron\, Bogengasse 106\, Würflach\, NÖ\, 2732
CATEGORIES:Heuriger / Kulinarik
END:VEVENT
BEGIN:VEVENT
DTSTART;TZID=Europe/Vienna:20260914T000000
DTEND;TZID=Europe/Vienna:20260914T000000
DTSTAMP:20260422T021152
CREATED:20260206T043758Z
LAST-MODIFIED:20260206T043758Z
UID:22998684-1789344000-1789344000@www.wuerflach.at
SUMMARY:Herbstreise - Senioren Würflach
DESCRIPTION:Herbstreise nach Dresden\, 14.-19. September\, Würflacher Senioren
URL:https://www.wuerflach.at/event/herbstreise-senioren-wuerflach/
LOCATION:NÖ
CATEGORIES:Ausflug / Ausfahrt / Reise
ORGANIZER;CN="Senioren W%C3%BCrflach - Obmann Hans Schauer":MAILTO:schauerh@aon.at
END:VEVENT
BEGIN:VEVENT
DTSTART;VALUE=DATE:20260914
DTEND;VALUE=DATE:20260915
DTSTAMP:20260422T021152
CREATED:20251103T203904Z
LAST-MODIFIED:20251103T203904Z
UID:22997867-1789344000-1789430399@www.wuerflach.at
SUMMARY:Biotonnen
DESCRIPTION:Alle Tonnen bitte bis 6:30 Uhr vor Ihrer Liegenschaft bereitstellen!
URL:https://www.wuerflach.at/event/biotonnen-38/
LOCATION:NÖ
CATEGORIES:Biotonne
END:VEVENT
BEGIN:VEVENT
DTSTART;TZID=Europe/Vienna:20260914T100000
DTEND;TZID=Europe/Vienna:20260914T100000
DTSTAMP:20260422T021152
CREATED:20260120T211752Z
LAST-MODIFIED:20260120T211752Z
UID:22998414-1789380000-1789380000@www.wuerflach.at
SUMMARY:Mostheuriger - Fam. Woltron
DESCRIPTION:  \n \nGenießen Sie prämierte\, selbsterzeugte\, traditionelle\, bodenständige Schmankerl: Fleisch- und Selchwaren\, Bauernbrot\, Most\, Cider\, Säfte\, Schnäpse uvm. \nFür die Kleinen gibt es einen Kinderspielplatz zum Bewegen und Austoben.
URL:https://www.wuerflach.at/event/mostheuriger-fam-woltron-116/
LOCATION:Heurigenlokal – Fam. Woltron\, Bogengasse 106\, Würflach\, NÖ\, 2732
CATEGORIES:Heuriger / Kulinarik
END:VEVENT
BEGIN:VEVENT
DTSTART;TZID=Europe/Vienna:20260915T000000
DTEND;TZID=Europe/Vienna:20260915T000000
DTSTAMP:20260422T021152
CREATED:20260206T043850Z
LAST-MODIFIED:20260206T043850Z
UID:22998686-1789430400-1789430400@www.wuerflach.at
SUMMARY:Herbstreise - Senioren Würflach
DESCRIPTION:Herbstreise nach Dresden\, 14.-19. September\, Würflacher Senioren
URL:https://www.wuerflach.at/event/herbstreise-senioren-wuerflach-2/
LOCATION:NÖ
CATEGORIES:Ausflug / Ausfahrt / Reise
ORGANIZER;CN="Senioren W%C3%BCrflach - Obmann Hans Schauer":MAILTO:schauerh@aon.at
END:VEVENT
BEGIN:VEVENT
DTSTART;TZID=Europe/Vienna:20260915T100000
DTEND;TZID=Europe/Vienna:20260915T100000
DTSTAMP:20260422T021152
CREATED:20260120T211826Z
LAST-MODIFIED:20260120T211826Z
UID:22998416-1789466400-1789466400@www.wuerflach.at
SUMMARY:Mostheuriger - Fam. Woltron
DESCRIPTION:  \n \nGenießen Sie prämierte\, selbsterzeugte\, traditionelle\, bodenständige Schmankerl: Fleisch- und Selchwaren\, Bauernbrot\, Most\, Cider\, Säfte\, Schnäpse uvm. \nFür die Kleinen gibt es einen Kinderspielplatz zum Bewegen und Austoben.
URL:https://www.wuerflach.at/event/mostheuriger-fam-woltron-117/
LOCATION:Heurigenlokal – Fam. Woltron\, Bogengasse 106\, Würflach\, NÖ\, 2732
CATEGORIES:Heuriger / Kulinarik
END:VEVENT
BEGIN:VEVENT
DTSTART;TZID=Europe/Vienna:20260916T000000
DTEND;TZID=Europe/Vienna:20260916T000000
DTSTAMP:20260422T021152
CREATED:20260206T043937Z
LAST-MODIFIED:20260206T043937Z
UID:22998688-1789516800-1789516800@www.wuerflach.at
SUMMARY:Herbstreise - Senioren Würflach
DESCRIPTION:Herbstreise nach Dresden\, 14.-19. September\, Würflacher Senioren
URL:https://www.wuerflach.at/event/herbstreise-senioren-wuerflach-3/
LOCATION:NÖ
CATEGORIES:Ausflug / Ausfahrt / Reise
ORGANIZER;CN="Senioren W%C3%BCrflach - Obmann Hans Schauer":MAILTO:schauerh@aon.at
END:VEVENT
BEGIN:VEVENT
DTSTART;TZID=Europe/Vienna:20260916T100000
DTEND;TZID=Europe/Vienna:20260916T100000
DTSTAMP:20260422T021152
CREATED:20260120T211908Z
LAST-MODIFIED:20260120T211908Z
UID:22998418-1789552800-1789552800@www.wuerflach.at
SUMMARY:Mostheuriger - Fam. Woltron
DESCRIPTION:  \n \nGenießen Sie prämierte\, selbsterzeugte\, traditionelle\, bodenständige Schmankerl: Fleisch- und Selchwaren\, Bauernbrot\, Most\, Cider\, Säfte\, Schnäpse uvm. \nFür die Kleinen gibt es einen Kinderspielplatz zum Bewegen und Austoben.
URL:https://www.wuerflach.at/event/mostheuriger-fam-woltron-118/
LOCATION:Heurigenlokal – Fam. Woltron\, Bogengasse 106\, Würflach\, NÖ\, 2732
CATEGORIES:Heuriger / Kulinarik
END:VEVENT
BEGIN:VEVENT
DTSTART;TZID=Europe/Vienna:20260916T150000
DTEND;TZID=Europe/Vienna:20260916T150000
DTSTAMP:20260422T021152
CREATED:20260206T044421Z
LAST-MODIFIED:20260206T044421Z
UID:22998696-1789570800-1789570800@www.wuerflach.at
SUMMARY:Heurigenbesuch - Pensionistenverband Würflach
DESCRIPTION:Heurigenbesuch beim Woltron\, 15:00 Uhr\nPensionistenverband Würflach \n 
URL:https://www.wuerflach.at/event/heurigenbesuch-pensionistenverband-wuerflach-8/
LOCATION:NÖ
CATEGORIES:Sonstige
END:VEVENT
BEGIN:VEVENT
DTSTART;TZID=Europe/Vienna:20260917T000000
DTEND;TZID=Europe/Vienna:20260917T000000
DTSTAMP:20260422T021152
CREATED:20260206T044022Z
LAST-MODIFIED:20260206T044022Z
UID:22998690-1789603200-1789603200@www.wuerflach.at
SUMMARY:Herbstreise - Senioren Würflach
DESCRIPTION:Herbstreise nach Dresden\, 14.-19. September\, Würflacher Senioren
URL:https://www.wuerflach.at/event/herbstreise-senioren-wuerflach-4/
LOCATION:NÖ
CATEGORIES:Ausflug / Ausfahrt / Reise
ORGANIZER;CN="Senioren W%C3%BCrflach - Obmann Hans Schauer":MAILTO:schauerh@aon.at
END:VEVENT
BEGIN:VEVENT
DTSTART;TZID=Europe/Vienna:20260917T100000
DTEND;TZID=Europe/Vienna:20260917T100000
DTSTAMP:20260422T021152
CREATED:20260120T211947Z
LAST-MODIFIED:20260120T211947Z
UID:22998420-1789639200-1789639200@www.wuerflach.at
SUMMARY:Mostheuriger - Fam. Woltron
DESCRIPTION:  \n \nGenießen Sie prämierte\, selbsterzeugte\, traditionelle\, bodenständige Schmankerl: Fleisch- und Selchwaren\, Bauernbrot\, Most\, Cider\, Säfte\, Schnäpse uvm. \nFür die Kleinen gibt es einen Kinderspielplatz zum Bewegen und Austoben.
URL:https://www.wuerflach.at/event/mostheuriger-fam-woltron-119/
LOCATION:Heurigenlokal – Fam. Woltron\, Bogengasse 106\, Würflach\, NÖ\, 2732
CATEGORIES:Heuriger / Kulinarik
END:VEVENT
BEGIN:VEVENT
DTSTART;TZID=Europe/Vienna:20260918T000000
DTEND;TZID=Europe/Vienna:20260918T000000
DTSTAMP:20260422T021152
CREATED:20260206T044111Z
LAST-MODIFIED:20260206T044111Z
UID:22998692-1789689600-1789689600@www.wuerflach.at
SUMMARY:Herbstreise - Senioren Würflach
DESCRIPTION:Herbstreise nach Dresden\, 14.-19. September\, Würflacher Senioren
URL:https://www.wuerflach.at/event/herbstreise-senioren-wuerflach-5/
LOCATION:NÖ
CATEGORIES:Ausflug / Ausfahrt / Reise
ORGANIZER;CN="Senioren W%C3%BCrflach - Obmann Hans Schauer":MAILTO:schauerh@aon.at
END:VEVENT
BEGIN:VEVENT
DTSTART;TZID=Europe/Vienna:20260918T100000
DTEND;TZID=Europe/Vienna:20260918T100000
DTSTAMP:20260422T021152
CREATED:20260120T212022Z
LAST-MODIFIED:20260120T212022Z
UID:22998422-1789725600-1789725600@www.wuerflach.at
SUMMARY:Mostheuriger - Fam. Woltron
DESCRIPTION:  \n \nGenießen Sie prämierte\, selbsterzeugte\, traditionelle\, bodenständige Schmankerl: Fleisch- und Selchwaren\, Bauernbrot\, Most\, Cider\, Säfte\, Schnäpse uvm. \nFür die Kleinen gibt es einen Kinderspielplatz zum Bewegen und Austoben.
URL:https://www.wuerflach.at/event/mostheuriger-fam-woltron-120/
LOCATION:Heurigenlokal – Fam. Woltron\, Bogengasse 106\, Würflach\, NÖ\, 2732
CATEGORIES:Heuriger / Kulinarik
END:VEVENT
BEGIN:VEVENT
DTSTART;TZID=Europe/Vienna:20260918T180000
DTEND;TZID=Europe/Vienna:20260918T180000
DTSTAMP:20260422T021152
CREATED:20260206T044540Z
LAST-MODIFIED:20260310T073408Z
UID:22998698-1789754400-1789754400@www.wuerflach.at
SUMMARY:Les´n und Los´n - Lesung in der Bücherei
DESCRIPTION:18:00 Uhr Lesung in der Gemeindebücherei\nAuf Ihr Kommen freut sich das Team\nder Gemeindebücherei Würflach! \n  \n 
URL:https://www.wuerflach.at/event/lesn-und-losn-lesung-in-der-buecherei/
LOCATION:Gemeindebücherei Würflach\, Willendorfer Str. 150\, Gemeinde Würflach\, 2732\, Österreich
CATEGORIES:Lesung
ORGANIZER;CN="B%C3%BCcherei W%C3%BCrflach":MAILTO:buecherei@wuerflach.at
END:VEVENT
BEGIN:VEVENT
DTSTART;TZID=Europe/Vienna:20260919T000000
DTEND;TZID=Europe/Vienna:20260919T000000
DTSTAMP:20260422T021152
CREATED:20260206T044206Z
LAST-MODIFIED:20260206T044206Z
UID:22998694-1789776000-1789776000@www.wuerflach.at
SUMMARY:Herbstreise - Senioren Würflach
DESCRIPTION:Herbstreise nach Dresden\, 14.-19. September\, Würflacher Senioren
URL:https://www.wuerflach.at/event/herbstreise-senioren-wuerflach-6/
LOCATION:NÖ
CATEGORIES:Ausflug / Ausfahrt / Reise
ORGANIZER;CN="Senioren W%C3%BCrflach - Obmann Hans Schauer":MAILTO:schauerh@aon.at
END:VEVENT
BEGIN:VEVENT
DTSTART;TZID=Europe/Vienna:20260919T100000
DTEND;TZID=Europe/Vienna:20260919T100000
DTSTAMP:20260422T021152
CREATED:20260120T212059Z
LAST-MODIFIED:20260120T212059Z
UID:22998424-1789812000-1789812000@www.wuerflach.at
SUMMARY:Mostheuriger - Fam. Woltron
DESCRIPTION:  \n \nGenießen Sie prämierte\, selbsterzeugte\, traditionelle\, bodenständige Schmankerl: Fleisch- und Selchwaren\, Bauernbrot\, Most\, Cider\, Säfte\, Schnäpse uvm. \nFür die Kleinen gibt es einen Kinderspielplatz zum Bewegen und Austoben.
URL:https://www.wuerflach.at/event/mostheuriger-fam-woltron-121/
LOCATION:Heurigenlokal – Fam. Woltron\, Bogengasse 106\, Würflach\, NÖ\, 2732
CATEGORIES:Heuriger / Kulinarik
END:VEVENT
BEGIN:VEVENT
DTSTART;TZID=Europe/Vienna:20260920T100000
DTEND;TZID=Europe/Vienna:20260920T100000
DTSTAMP:20260422T021152
CREATED:20260120T212136Z
LAST-MODIFIED:20260120T212136Z
UID:22998426-1789898400-1789898400@www.wuerflach.at
SUMMARY:Mostheuriger - Fam. Woltron
DESCRIPTION:  \n \nGenießen Sie prämierte\, selbsterzeugte\, traditionelle\, bodenständige Schmankerl: Fleisch- und Selchwaren\, Bauernbrot\, Most\, Cider\, Säfte\, Schnäpse uvm. \nFür die Kleinen gibt es einen Kinderspielplatz zum Bewegen und Austoben.
URL:https://www.wuerflach.at/event/mostheuriger-fam-woltron-122/
LOCATION:Heurigenlokal – Fam. Woltron\, Bogengasse 106\, Würflach\, NÖ\, 2732
CATEGORIES:Heuriger / Kulinarik
END:VEVENT
BEGIN:VEVENT
DTSTART;TZID=Europe/Vienna:20260920T100000
DTEND;TZID=Europe/Vienna:20260920T100000
DTSTAMP:20260422T021152
CREATED:20260206T045229Z
LAST-MODIFIED:20260206T045428Z
UID:22998701-1789898400-1789898400@www.wuerflach.at
SUMMARY:Run the Klamm -20.9.2026
DESCRIPTION:Der Würflacher Trail – Run;  Beginn 10:00 Uhr bei der Würflacher WellnessWelt \n 
URL:https://www.wuerflach.at/event/run-the-klamm-20-9-2026/
LOCATION:NÖ
CATEGORIES:Sport / Bewegung
END:VEVENT
BEGIN:VEVENT
DTSTART;TZID=Europe/Vienna:20260924T150000
DTEND;TZID=Europe/Vienna:20260924T150000
DTSTAMP:20260422T021152
CREATED:20260206T045529Z
LAST-MODIFIED:20260206T045529Z
UID:22998705-1790262000-1790262000@www.wuerflach.at
SUMMARY:Seniorenplauscherl
DESCRIPTION:Seniorenplauscherl 15:00 Uhr –\nWürflacher Senioren \n 
URL:https://www.wuerflach.at/event/seniorenplauscherl/
LOCATION:NÖ
CATEGORIES:Sonstige
ORGANIZER;CN="Senioren W%C3%BCrflach - Obmann Hans Schauer":MAILTO:schauerh@aon.at
END:VEVENT
BEGIN:VEVENT
DTSTART;TZID=Europe/Vienna:20260926T160000
DTEND;TZID=Europe/Vienna:20260926T160000
DTSTAMP:20260422T021152
CREATED:20260206T045756Z
LAST-MODIFIED:20260310T090537Z
UID:22998707-1790438400-1790438400@www.wuerflach.at
SUMMARY:Lesung mit Peter Meissner
DESCRIPTION:Kartenreservierungen in der Bücherei (0664)2066114)\nWir freuen uns auf Ihr Kommen –\ndas Team der Gemeindebücherei Würflach \n 
URL:https://www.wuerflach.at/event/lesung-mit-peter-meissner/
LOCATION:Gasthaus Seewald\, Hettmannsdorfer Str. 30\, Würflach\, NÖ\, 2732\, Österreich
CATEGORIES:Lesung
ORGANIZER;CN="B%C3%BCcherei W%C3%BCrflach":MAILTO:buecherei@wuerflach.at
END:VEVENT
BEGIN:VEVENT
DTSTART;TZID=Europe/Vienna:20260927T103000
DTEND;TZID=Europe/Vienna:20260927T103000
DTSTAMP:20260422T021152
CREATED:20260206T045934Z
LAST-MODIFIED:20260206T045952Z
UID:22998709-1790505000-1790505000@www.wuerflach.at
SUMMARY:3. Tag der Blasmusik
DESCRIPTION:  \n \n3. Tag der Blasmusik\, 10:00 Uhr – Musikverein Hettmannsdorf-Würflach \n  \n 
URL:https://www.wuerflach.at/event/2-tag-der-blasmusik/
LOCATION:NÖ
CATEGORIES:Kulturveranstaltung
END:VEVENT
BEGIN:VEVENT
DTSTART;VALUE=DATE:20260928
DTEND;VALUE=DATE:20260929
DTSTAMP:20260422T021152
CREATED:20251103T201436Z
LAST-MODIFIED:20251103T201436Z
UID:22997813-1790553600-1790639999@www.wuerflach.at
SUMMARY:Restmüll
DESCRIPTION:Alle Restmüllsäcke (gut zugebunden) bitte bis 6:30 Uhr vor Ihrer Liegenschaft bereitstellen!
URL:https://www.wuerflach.at/event/restmuell-23/
LOCATION:NÖ
CATEGORIES:RMS Restmüllsäcke
END:VEVENT
END:VCALENDAR