BEGIN:VCALENDAR
VERSION:2.0
PRODID:-//Gemeinde Wuerflach - ECPv6.15.19//NONSGML v1.0//EN
CALSCALE:GREGORIAN
METHOD:PUBLISH
X-WR-CALNAME:Gemeinde Wuerflach
X-ORIGINAL-URL:https://www.wuerflach.at
X-WR-CALDESC:Veranstaltungen für Gemeinde Wuerflach
REFRESH-INTERVAL;VALUE=DURATION:PT1H
X-Robots-Tag:noindex
X-PUBLISHED-TTL:PT1H
BEGIN:VTIMEZONE
TZID:Europe/Vienna
BEGIN:DAYLIGHT
TZOFFSETFROM:+0100
TZOFFSETTO:+0200
TZNAME:CEST
DTSTART:20250330T010000
END:DAYLIGHT
BEGIN:STANDARD
TZOFFSETFROM:+0200
TZOFFSETTO:+0100
TZNAME:CET
DTSTART:20251026T010000
END:STANDARD
BEGIN:DAYLIGHT
TZOFFSETFROM:+0100
TZOFFSETTO:+0200
TZNAME:CEST
DTSTART:20260329T010000
END:DAYLIGHT
BEGIN:STANDARD
TZOFFSETFROM:+0200
TZOFFSETTO:+0100
TZNAME:CET
DTSTART:20261025T010000
END:STANDARD
BEGIN:DAYLIGHT
TZOFFSETFROM:+0100
TZOFFSETTO:+0200
TZNAME:CEST
DTSTART:20270328T010000
END:DAYLIGHT
BEGIN:STANDARD
TZOFFSETFROM:+0200
TZOFFSETTO:+0100
TZNAME:CET
DTSTART:20271031T010000
END:STANDARD
END:VTIMEZONE
BEGIN:VEVENT
DTSTART;TZID=Europe/Vienna:20261022T150000
DTEND;TZID=Europe/Vienna:20261022T150000
DTSTAMP:20260421T225058
CREATED:20260208T063337Z
LAST-MODIFIED:20260208T063337Z
UID:22998725-1792681200-1792681200@www.wuerflach.at
SUMMARY:Stammtisch - Senioren Würflach
DESCRIPTION:Stammtisch 15:00 Uhr\nSenioren Würflach
URL:https://www.wuerflach.at/event/stammtisch-senioren-wuerflach/
LOCATION:NÖ
CATEGORIES:Sonstige
ORGANIZER;CN="Senioren W%C3%BCrflach - Obmann Hans Schauer":MAILTO:schauerh@aon.at
END:VEVENT
END:VCALENDAR