BEGIN:VCALENDAR
VERSION:2.0
PRODID:-//Gemeinde Wuerflach - ECPv6.15.19//NONSGML v1.0//EN
CALSCALE:GREGORIAN
METHOD:PUBLISH
X-ORIGINAL-URL:https://www.wuerflach.at
X-WR-CALDESC:Veranstaltungen für Gemeinde Wuerflach
REFRESH-INTERVAL;VALUE=DURATION:PT1H
X-Robots-Tag:noindex
X-PUBLISHED-TTL:PT1H
BEGIN:VTIMEZONE
TZID:Europe/Vienna
BEGIN:DAYLIGHT
TZOFFSETFROM:+0100
TZOFFSETTO:+0200
TZNAME:CEST
DTSTART:20250330T010000
END:DAYLIGHT
BEGIN:STANDARD
TZOFFSETFROM:+0200
TZOFFSETTO:+0100
TZNAME:CET
DTSTART:20251026T010000
END:STANDARD
BEGIN:DAYLIGHT
TZOFFSETFROM:+0100
TZOFFSETTO:+0200
TZNAME:CEST
DTSTART:20260329T010000
END:DAYLIGHT
BEGIN:STANDARD
TZOFFSETFROM:+0200
TZOFFSETTO:+0100
TZNAME:CET
DTSTART:20261025T010000
END:STANDARD
BEGIN:DAYLIGHT
TZOFFSETFROM:+0100
TZOFFSETTO:+0200
TZNAME:CEST
DTSTART:20270328T010000
END:DAYLIGHT
BEGIN:STANDARD
TZOFFSETFROM:+0200
TZOFFSETTO:+0100
TZNAME:CET
DTSTART:20271031T010000
END:STANDARD
END:VTIMEZONE
BEGIN:VEVENT
DTSTART;TZID=Europe/Vienna:20261003T090000
DTEND;TZID=Europe/Vienna:20261003T130000
DTSTAMP:20260421T211546
CREATED:20260120T204425Z
LAST-MODIFIED:20260120T204425Z
UID:22998344-1791018000-1791032400@www.wuerflach.at
SUMMARY:Feuerlöscherüberprüfung
DESCRIPTION:  \n \nFEUERLÖSCHERÜBERPRÜFUNG\nSamstag\, 3.10.2026  – 9:00 – 13:00 Uhr – im FF Gerätehaus
URL:https://www.wuerflach.at/event/feuerloescherueberpruefung-3/
LOCATION:Feuerwehr-Gerätehaus\, Neunkirchner Str. 85\, Würflach\, Austria (+43)\, 2732\, Österreich
CATEGORIES:Sonstige
END:VEVENT
BEGIN:VEVENT
DTSTART;TZID=Europe/Vienna:20261003T100000
DTEND;TZID=Europe/Vienna:20261003T140000
DTSTAMP:20260421T211546
CREATED:20260120T204756Z
LAST-MODIFIED:20260120T204756Z
UID:22998346-1791021600-1791036000@www.wuerflach.at
SUMMARY:Actionday - im FF Gerätehaus
DESCRIPTION:ACTION DAY der Feuerwehrjugend für interessierte Kinder  – im Gerätehaus.\nNähere Informationen folgen. \n 
URL:https://www.wuerflach.at/event/actionday-im-ff-geraetehaus-2/
LOCATION:Feuerwehr-Gerätehaus\, Neunkirchner Str. 85\, Würflach\, Austria (+43)\, 2732\, Österreich
CATEGORIES:Sonstige
END:VEVENT
BEGIN:VEVENT
DTSTART;TZID=Europe/Vienna:20261003T160000
DTEND;TZID=Europe/Vienna:20261003T160000
DTSTAMP:20260421T211546
CREATED:20260206T050919Z
LAST-MODIFIED:20260206T050955Z
UID:22998718-1791043200-1791043200@www.wuerflach.at
SUMMARY:Sturmfest der Bürgerliste
DESCRIPTION:Sturmfest 16:00 Uhr im Akazienhof\nGemeinsam für Würflach / unabhängige Bürgerliste \n 
URL:https://www.wuerflach.at/event/sturmfest-der-buergerliste-2/
LOCATION:Akazienhof\, Neunkirchner Str. 104\, Würflach\, 2732
CATEGORIES:Heuriger / Kulinarik
ORGANIZER;CN="Gemeinsam f%C3%BCr W%C3%BCrflach (unabh%C3%A4ngige B%C3%BCrgerliste)":MAILTO:gemeinsam@wuerflach.info
END:VEVENT
END:VCALENDAR