BEGIN:VCALENDAR
VERSION:2.0
PRODID:-//Gemeinde Wuerflach - ECPv6.15.19//NONSGML v1.0//EN
CALSCALE:GREGORIAN
METHOD:PUBLISH
X-WR-CALNAME:Gemeinde Wuerflach
X-ORIGINAL-URL:https://www.wuerflach.at
X-WR-CALDESC:Veranstaltungen für Gemeinde Wuerflach
REFRESH-INTERVAL;VALUE=DURATION:PT1H
X-Robots-Tag:noindex
X-PUBLISHED-TTL:PT1H
BEGIN:VTIMEZONE
TZID:Europe/Vienna
BEGIN:DAYLIGHT
TZOFFSETFROM:+0100
TZOFFSETTO:+0200
TZNAME:CEST
DTSTART:20250330T010000
END:DAYLIGHT
BEGIN:STANDARD
TZOFFSETFROM:+0200
TZOFFSETTO:+0100
TZNAME:CET
DTSTART:20251026T010000
END:STANDARD
BEGIN:DAYLIGHT
TZOFFSETFROM:+0100
TZOFFSETTO:+0200
TZNAME:CEST
DTSTART:20260329T010000
END:DAYLIGHT
BEGIN:STANDARD
TZOFFSETFROM:+0200
TZOFFSETTO:+0100
TZNAME:CET
DTSTART:20261025T010000
END:STANDARD
BEGIN:DAYLIGHT
TZOFFSETFROM:+0100
TZOFFSETTO:+0200
TZNAME:CEST
DTSTART:20270328T010000
END:DAYLIGHT
BEGIN:STANDARD
TZOFFSETFROM:+0200
TZOFFSETTO:+0100
TZNAME:CET
DTSTART:20271031T010000
END:STANDARD
END:VTIMEZONE
BEGIN:VEVENT
DTSTART;TZID=Europe/Vienna:20260627T170000
DTEND;TZID=Europe/Vienna:20260627T170000
DTSTAMP:20260421T154533
CREATED:20260127T202429Z
LAST-MODIFIED:20260128T115540Z
UID:22998593-1782579600-1782579600@www.wuerflach.at
SUMMARY:Gartenfest - der Bürgerliste
DESCRIPTION:Gartenfest & Live Jazz mit Manfred Spies; 17:00 Uhr im Akazienhof\nGemeinsam für Würflach / unabhängige Bürgerliste
URL:https://www.wuerflach.at/event/gartenfest-der-buergerliste/
LOCATION:Festplatz – Johannesbachklamm\, Klammgasse\, Würflach\, NÖ\, 2732
CATEGORIES:Heuriger / Kulinarik
ORGANIZER;CN="Gemeinsam f%C3%BCr W%C3%BCrflach (unabh%C3%A4ngige B%C3%BCrgerliste)":MAILTO:gemeinsam@wuerflach.info
END:VEVENT
END:VCALENDAR