BEGIN:VCALENDAR
VERSION:2.0
PRODID:-//Gemeinde Wuerflach - ECPv6.15.19//NONSGML v1.0//EN
CALSCALE:GREGORIAN
METHOD:PUBLISH
X-ORIGINAL-URL:https://www.wuerflach.at
X-WR-CALDESC:Veranstaltungen für Gemeinde Wuerflach
REFRESH-INTERVAL;VALUE=DURATION:PT1H
X-Robots-Tag:noindex
X-PUBLISHED-TTL:PT1H
BEGIN:VTIMEZONE
TZID:Europe/Vienna
BEGIN:DAYLIGHT
TZOFFSETFROM:+0100
TZOFFSETTO:+0200
TZNAME:CEST
DTSTART:20250330T010000
END:DAYLIGHT
BEGIN:STANDARD
TZOFFSETFROM:+0200
TZOFFSETTO:+0100
TZNAME:CET
DTSTART:20251026T010000
END:STANDARD
BEGIN:DAYLIGHT
TZOFFSETFROM:+0100
TZOFFSETTO:+0200
TZNAME:CEST
DTSTART:20260329T010000
END:DAYLIGHT
BEGIN:STANDARD
TZOFFSETFROM:+0200
TZOFFSETTO:+0100
TZNAME:CET
DTSTART:20261025T010000
END:STANDARD
BEGIN:DAYLIGHT
TZOFFSETFROM:+0100
TZOFFSETTO:+0200
TZNAME:CEST
DTSTART:20270328T010000
END:DAYLIGHT
BEGIN:STANDARD
TZOFFSETFROM:+0200
TZOFFSETTO:+0100
TZNAME:CET
DTSTART:20271031T010000
END:STANDARD
END:VTIMEZONE
BEGIN:VEVENT
DTSTART;TZID=Europe/Vienna:20260606T100000
DTEND;TZID=Europe/Vienna:20260606T190000
DTSTAMP:20260421T154853
CREATED:20251211T112552Z
LAST-MODIFIED:20251211T112552Z
UID:22998138-1780740000-1780772400@www.wuerflach.at
SUMMARY:Begegnung der 5 Sinne
DESCRIPTION:Samstag: 10 -19:00 Uhr\nSonntag: 10 -17:00 Uhr \nKunsthandwerk in der Johannesbachklamm – eine Veranstaltung die für alle Sinne Einiges bietet. Lassen Sie sich von der eindrucksvollen Kulisse der Johannesbachklamm mit den verschiedenen Kunsthandwerk- und Naturproduktständen verzaubern. \nVeranstalter sind Fr. Katharina Resch und die Gemeinde Würflach (Kultur Span). \n  \n 
URL:https://www.wuerflach.at/event/begegnung-der-5-sinne-5/
LOCATION:Festplatz – Johannesbachklamm\, Klammgasse\, Würflach\, NÖ\, 2732
CATEGORIES:Kulturveranstaltung
ORGANIZER;CN="Gemeinde W%C3%BCrflach (Kulturspan) u. Katharina Resch":MAILTO:katharina.e.resch@gmail.com
END:VEVENT
BEGIN:VEVENT
DTSTART;TZID=Europe/Vienna:20260606T100000
DTEND;TZID=Europe/Vienna:20260606T190000
DTSTAMP:20260421T154853
CREATED:20260127T195951Z
LAST-MODIFIED:20260127T195951Z
UID:22998573-1780740000-1780772400@www.wuerflach.at
SUMMARY:Bücherflohmarkt - bei Begegnung der 5 Sinne
DESCRIPTION:Bücherflohmarkt beim Fest – Begegnung der 5 Sinne\nSamstag\, 10:00 – 19:00 Uhr\nSonntag\, 10:00 – 17:00 Uhr
URL:https://www.wuerflach.at/event/buecherflohmarkt-bei-begegnung-der-5-sinne-3/
LOCATION:Festplatz – Johannesbachklamm\, Klammgasse\, Würflach\, NÖ\, 2732
CATEGORIES:Lesung
ORGANIZER;CN="Gemeinde W%C3%BCrflach (Kulturspan) u. Katharina Resch":MAILTO:katharina.e.resch@gmail.com
END:VEVENT
BEGIN:VEVENT
DTSTART;TZID=Europe/Vienna:20260606T150000
DTEND;TZID=Europe/Vienna:20260606T150000
DTSTAMP:20260421T154853
CREATED:20260120T195013Z
LAST-MODIFIED:20260127T200353Z
UID:22998288-1780758000-1780758000@www.wuerflach.at
SUMMARY:hl. Firmung
DESCRIPTION:10:00 Uhr  – aufgrund der Kirchenrenovierung – dieses Jahr in der Kirche in St. Lorenzen
URL:https://www.wuerflach.at/event/hl-firmung-3/
LOCATION:Pfarrkirche Würflach
CATEGORIES:Pfarre / religiöse Termine
ORGANIZER;CN="Pfarre W%C3%BCrflach":MAILTO:pfarre.wuerflach@katholischekirche.at
END:VEVENT
END:VCALENDAR