BEGIN:VCALENDAR
VERSION:2.0
PRODID:-//Gemeinde Wuerflach - ECPv6.15.19//NONSGML v1.0//EN
CALSCALE:GREGORIAN
METHOD:PUBLISH
X-ORIGINAL-URL:https://www.wuerflach.at
X-WR-CALDESC:Veranstaltungen für Gemeinde Wuerflach
REFRESH-INTERVAL;VALUE=DURATION:PT1H
X-Robots-Tag:noindex
X-PUBLISHED-TTL:PT1H
BEGIN:VTIMEZONE
TZID:Europe/Vienna
BEGIN:DAYLIGHT
TZOFFSETFROM:+0100
TZOFFSETTO:+0200
TZNAME:CEST
DTSTART:20250330T010000
END:DAYLIGHT
BEGIN:STANDARD
TZOFFSETFROM:+0200
TZOFFSETTO:+0100
TZNAME:CET
DTSTART:20251026T010000
END:STANDARD
BEGIN:DAYLIGHT
TZOFFSETFROM:+0100
TZOFFSETTO:+0200
TZNAME:CEST
DTSTART:20260329T010000
END:DAYLIGHT
BEGIN:STANDARD
TZOFFSETFROM:+0200
TZOFFSETTO:+0100
TZNAME:CET
DTSTART:20261025T010000
END:STANDARD
BEGIN:DAYLIGHT
TZOFFSETFROM:+0100
TZOFFSETTO:+0200
TZNAME:CEST
DTSTART:20270328T010000
END:DAYLIGHT
BEGIN:STANDARD
TZOFFSETFROM:+0200
TZOFFSETTO:+0100
TZNAME:CET
DTSTART:20271031T010000
END:STANDARD
END:VTIMEZONE
BEGIN:VEVENT
DTSTART;TZID=Europe/Vienna:20260528T150000
DTEND;TZID=Europe/Vienna:20260528T150000
DTSTAMP:20260421T155004
CREATED:20260127T194404Z
LAST-MODIFIED:20260127T194404Z
UID:22998567-1779980400-1779980400@www.wuerflach.at
SUMMARY:Stammtisch - Senioren Würflach
DESCRIPTION:Stammtisch 15:00 Uhr\nSenioren Würflach
URL:https://www.wuerflach.at/event/stammtisch-senioren-wuerflach-16/
LOCATION:NÖ
CATEGORIES:Sonstige
ORGANIZER;CN="Senioren W%C3%BCrflach - Obmann Hans Schauer":MAILTO:schauerh@aon.at
END:VEVENT
BEGIN:VEVENT
DTSTART;TZID=Europe/Vienna:20260528T183000
DTEND;TZID=Europe/Vienna:20260528T200000
DTSTAMP:20260421T155004
CREATED:20260215T095221Z
LAST-MODIFIED:20260215T095221Z
UID:22998859-1779993000-1779998400@www.wuerflach.at
SUMMARY:Damengesundheitsturnen
DESCRIPTION:Damengesundheitsturnen mit Wirbelsäulengymnastik – Aufbautraining\, „DKB“ (dehnen\, kräftigen\, bewegen)\njeden Donnerstag von 18:30 bis 20:00 Uhr in der Würflacher Mehrzweckhalle \nEs würde uns freuen\, wenn wir Sie in einer unserer nächsten Turnstunden begrüßen könnten!\nEinfach zu einer Schnupperstunde kommen. \nNähere Informationen erhalten Sie bei Obfrau Eva Schweighofer – 0688/821 81 81. \n  \n  \n 
URL:https://www.wuerflach.at/event/damengesundheitsturnen-33/
LOCATION:Mehrzweckhalle der Volksschule\, Neunkirchner Str. 76\, Würflach\, NÖ\, 2732
CATEGORIES:Sport / Bewegung
END:VEVENT
END:VCALENDAR