BEGIN:VCALENDAR
VERSION:2.0
PRODID:-//Gemeinde Wuerflach - ECPv6.15.19//NONSGML v1.0//EN
CALSCALE:GREGORIAN
METHOD:PUBLISH
X-WR-CALNAME:Gemeinde Wuerflach
X-ORIGINAL-URL:https://www.wuerflach.at
X-WR-CALDESC:Veranstaltungen für Gemeinde Wuerflach
REFRESH-INTERVAL;VALUE=DURATION:PT1H
X-Robots-Tag:noindex
X-PUBLISHED-TTL:PT1H
BEGIN:VTIMEZONE
TZID:Europe/Vienna
BEGIN:DAYLIGHT
TZOFFSETFROM:+0100
TZOFFSETTO:+0200
TZNAME:CEST
DTSTART:20250330T010000
END:DAYLIGHT
BEGIN:STANDARD
TZOFFSETFROM:+0200
TZOFFSETTO:+0100
TZNAME:CET
DTSTART:20251026T010000
END:STANDARD
BEGIN:DAYLIGHT
TZOFFSETFROM:+0100
TZOFFSETTO:+0200
TZNAME:CEST
DTSTART:20260329T010000
END:DAYLIGHT
BEGIN:STANDARD
TZOFFSETFROM:+0200
TZOFFSETTO:+0100
TZNAME:CET
DTSTART:20261025T010000
END:STANDARD
BEGIN:DAYLIGHT
TZOFFSETFROM:+0100
TZOFFSETTO:+0200
TZNAME:CEST
DTSTART:20270328T010000
END:DAYLIGHT
BEGIN:STANDARD
TZOFFSETFROM:+0200
TZOFFSETTO:+0100
TZNAME:CET
DTSTART:20271031T010000
END:STANDARD
END:VTIMEZONE
BEGIN:VEVENT
DTSTART;TZID=Europe/Vienna:20260524T090000
DTEND;TZID=Europe/Vienna:20260524T090000
DTSTAMP:20260421T140641
CREATED:20260120T193500Z
LAST-MODIFIED:20260120T193608Z
UID:22998275-1779613200-1779613200@www.wuerflach.at
SUMMARY:FF-Fest 2026
DESCRIPTION:  \n \nFF-Fest – 9:00 Uhr Feldmesse im Feuerwehrhaus – anschließend Festakt und danach Frühschoppen mit dem Musikverein Hettmannsdorf-Würflach und den Keichhuastnbuam.
URL:https://www.wuerflach.at/event/pfingstfest-2026/
LOCATION:Pfarrkirche Würflach
CATEGORIES:Sonstige
END:VEVENT
BEGIN:VEVENT
DTSTART;TZID=Europe/Vienna:20260523T153000
DTEND;TZID=Europe/Vienna:20260523T153000
DTSTAMP:20260421T140641
CREATED:20260120T193821Z
LAST-MODIFIED:20260120T193821Z
UID:22998278-1779550200-1779550200@www.wuerflach.at
SUMMARY:FF-Fest 2026
DESCRIPTION:  \n \nFF-Fest – voraussichtlich ab 15:00 Uhr; lustiger 5-Kampf und anschließend Unterhaltung mit „Leiwand-Live“ im FF-Haus.
URL:https://www.wuerflach.at/event/ff-fest-2026/
LOCATION:Pfarrkirche Würflach
CATEGORIES:Sonstige
END:VEVENT
END:VCALENDAR