BEGIN:VCALENDAR
VERSION:2.0
PRODID:-//Gemeinde Wuerflach - ECPv6.15.19//NONSGML v1.0//EN
CALSCALE:GREGORIAN
METHOD:PUBLISH
X-WR-CALNAME:Gemeinde Wuerflach
X-ORIGINAL-URL:https://www.wuerflach.at
X-WR-CALDESC:Veranstaltungen für Gemeinde Wuerflach
REFRESH-INTERVAL;VALUE=DURATION:PT1H
X-Robots-Tag:noindex
X-PUBLISHED-TTL:PT1H
BEGIN:VTIMEZONE
TZID:Europe/Vienna
BEGIN:DAYLIGHT
TZOFFSETFROM:+0100
TZOFFSETTO:+0200
TZNAME:CEST
DTSTART:20250330T010000
END:DAYLIGHT
BEGIN:STANDARD
TZOFFSETFROM:+0200
TZOFFSETTO:+0100
TZNAME:CET
DTSTART:20251026T010000
END:STANDARD
BEGIN:DAYLIGHT
TZOFFSETFROM:+0100
TZOFFSETTO:+0200
TZNAME:CEST
DTSTART:20260329T010000
END:DAYLIGHT
BEGIN:STANDARD
TZOFFSETFROM:+0200
TZOFFSETTO:+0100
TZNAME:CET
DTSTART:20261025T010000
END:STANDARD
BEGIN:DAYLIGHT
TZOFFSETFROM:+0100
TZOFFSETTO:+0200
TZNAME:CEST
DTSTART:20270328T010000
END:DAYLIGHT
BEGIN:STANDARD
TZOFFSETFROM:+0200
TZOFFSETTO:+0100
TZNAME:CET
DTSTART:20271031T010000
END:STANDARD
END:VTIMEZONE
BEGIN:VEVENT
DTSTART;TZID=Europe/Vienna:20260516T090000
DTEND;TZID=Europe/Vienna:20260516T170000
DTSTAMP:20260421T140624
CREATED:20260421T111342Z
LAST-MODIFIED:20260421T111342Z
UID:22999297-1778922000-1778950800@www.wuerflach.at
SUMMARY:Erste Hilfe Kurs - Gesunde Gemeinde
DESCRIPTION:
URL:https://www.wuerflach.at/event/erste-hilfe-kurs-gesunde-gemeinde-2/
LOCATION:Sitzungssaal der Gemeinde (Eingang im Hinterhof)\, Willendorfer Straße 150\, Würflach\, NÖ\, 2732
CATEGORIES:Vortrag / Workshop / Kurs
END:VEVENT
BEGIN:VEVENT
DTSTART;TZID=Europe/Vienna:20260516T100000
DTEND;TZID=Europe/Vienna:20260516T100000
DTSTAMP:20260421T140624
CREATED:20260120T210417Z
LAST-MODIFIED:20260120T210436Z
UID:22998382-1778925600-1778925600@www.wuerflach.at
SUMMARY:Mostheuriger - Fam. Woltron
DESCRIPTION:  \n \nGenießen Sie prämierte\, selbsterzeugte\, traditionelle\, bodenständige Schmankerl: Fleisch- und Selchwaren\, Bauernbrot\, Most\, Cider\, Säfte\, Schnäpse uvm. \nFür die Kleinen gibt es einen Kinderspielplatz zum Bewegen und Austoben.
URL:https://www.wuerflach.at/event/mostheuriger-fam-woltron-100/
LOCATION:Heurigenlokal – Fam. Woltron\, Bogengasse 106\, Würflach\, NÖ\, 2732
CATEGORIES:Heuriger / Kulinarik
END:VEVENT
END:VCALENDAR