BEGIN:VCALENDAR
VERSION:2.0
PRODID:-//Gemeinde Wuerflach - ECPv6.15.19//NONSGML v1.0//EN
CALSCALE:GREGORIAN
METHOD:PUBLISH
X-ORIGINAL-URL:https://www.wuerflach.at
X-WR-CALDESC:Veranstaltungen für Gemeinde Wuerflach
REFRESH-INTERVAL;VALUE=DURATION:PT1H
X-Robots-Tag:noindex
X-PUBLISHED-TTL:PT1H
BEGIN:VTIMEZONE
TZID:Europe/Vienna
BEGIN:DAYLIGHT
TZOFFSETFROM:+0100
TZOFFSETTO:+0200
TZNAME:CEST
DTSTART:20250330T010000
END:DAYLIGHT
BEGIN:STANDARD
TZOFFSETFROM:+0200
TZOFFSETTO:+0100
TZNAME:CET
DTSTART:20251026T010000
END:STANDARD
BEGIN:DAYLIGHT
TZOFFSETFROM:+0100
TZOFFSETTO:+0200
TZNAME:CEST
DTSTART:20260329T010000
END:DAYLIGHT
BEGIN:STANDARD
TZOFFSETFROM:+0200
TZOFFSETTO:+0100
TZNAME:CET
DTSTART:20261025T010000
END:STANDARD
BEGIN:DAYLIGHT
TZOFFSETFROM:+0100
TZOFFSETTO:+0200
TZNAME:CEST
DTSTART:20270328T010000
END:DAYLIGHT
BEGIN:STANDARD
TZOFFSETFROM:+0200
TZOFFSETTO:+0100
TZNAME:CET
DTSTART:20271031T010000
END:STANDARD
END:VTIMEZONE
BEGIN:VEVENT
DTSTART;VALUE=DATE:20260512
DTEND;VALUE=DATE:20260513
DTSTAMP:20260421T155047
CREATED:20251103T201943Z
LAST-MODIFIED:20251103T201943Z
UID:22997825-1778544000-1778630399@www.wuerflach.at
SUMMARY:Altpapier
DESCRIPTION:Alle Tonnen bitte bis 6:30 Uhr vor Ihrer Liegenschaft bereitstellen! \n 
URL:https://www.wuerflach.at/event/altpapier-9/
LOCATION:NÖ
CATEGORIES:Altpapier
END:VEVENT
BEGIN:VEVENT
DTSTART;TZID=Europe/Vienna:20260512T100000
DTEND;TZID=Europe/Vienna:20260512T100000
DTSTAMP:20260421T155047
CREATED:20260120T210127Z
LAST-MODIFIED:20260120T210127Z
UID:22998376-1778580000-1778580000@www.wuerflach.at
SUMMARY:Mostheuriger - Fam. Woltron
DESCRIPTION:  \n \nGenießen Sie prämierte\, selbsterzeugte\, traditionelle\, bodenständige Schmankerl: Fleisch- und Selchwaren\, Bauernbrot\, Most\, Cider\, Säfte\, Schnäpse uvm. \nFür die Kleinen gibt es einen Kinderspielplatz zum Bewegen und Austoben.
URL:https://www.wuerflach.at/event/mostheuriger-fam-woltron-97/
LOCATION:Heurigenlokal – Fam. Woltron\, Bogengasse 106\, Würflach\, NÖ\, 2732
CATEGORIES:Heuriger / Kulinarik
END:VEVENT
BEGIN:VEVENT
DTSTART;TZID=Europe/Vienna:20260512T120000
DTEND;TZID=Europe/Vienna:20260512T120000
DTSTAMP:20260421T155047
CREATED:20260127T193330Z
LAST-MODIFIED:20260127T193330Z
UID:22998564-1778587200-1778587200@www.wuerflach.at
SUMMARY:Halbtagesfahrt zum grünen See
DESCRIPTION:Halbtagesfahrt zum grünen See\, 12:00 Uhr\nPensionistenverband Würflach \n 
URL:https://www.wuerflach.at/event/halbtagesfahrt-zum-gruenen-see/
LOCATION:NÖ
CATEGORIES:Ausflug / Ausfahrt / Reise
END:VEVENT
BEGIN:VEVENT
DTSTART;TZID=Europe/Vienna:20260512T140000
DTEND;TZID=Europe/Vienna:20260512T140000
DTSTAMP:20260421T155047
CREATED:20260414T120639Z
LAST-MODIFIED:20260414T120639Z
UID:22999240-1778594400-1778594400@www.wuerflach.at
SUMMARY:Wanderung - Senioren Würflach
DESCRIPTION:Wanderung\, 14:00 Uhr\nSenioren Würflach
URL:https://www.wuerflach.at/event/wanderung-senioren-wuerflach-3/
LOCATION:NÖ
CATEGORIES:Sport / Bewegung
ORGANIZER;CN="Senioren W%C3%BCrflach - Obmann Hans Schauer":MAILTO:schauerh@aon.at
END:VEVENT
BEGIN:VEVENT
DTSTART;TZID=Europe/Vienna:20260512T180000
DTEND;TZID=Europe/Vienna:20260512T180000
DTSTAMP:20260421T155047
CREATED:20260120T192805Z
LAST-MODIFIED:20260120T192805Z
UID:22998267-1778608800-1778608800@www.wuerflach.at
SUMMARY:Bittprozession 2
DESCRIPTION:Bittprozession II – 18:00 Uhr Hettmannsdorfer Kapelle\, anschl. hl. Messe \n 
URL:https://www.wuerflach.at/event/bittprozession-2-3/
LOCATION:NÖ
CATEGORIES:Pfarre / religiöse Termine
ORGANIZER;CN="Pfarre W%C3%BCrflach":MAILTO:pfarre.wuerflach@katholischekirche.at
END:VEVENT
END:VCALENDAR