BEGIN:VCALENDAR
VERSION:2.0
PRODID:-//Gemeinde Wuerflach - ECPv6.15.19//NONSGML v1.0//EN
CALSCALE:GREGORIAN
METHOD:PUBLISH
X-ORIGINAL-URL:https://www.wuerflach.at
X-WR-CALDESC:Veranstaltungen für Gemeinde Wuerflach
REFRESH-INTERVAL;VALUE=DURATION:PT1H
X-Robots-Tag:noindex
X-PUBLISHED-TTL:PT1H
BEGIN:VTIMEZONE
TZID:Europe/Vienna
BEGIN:DAYLIGHT
TZOFFSETFROM:+0100
TZOFFSETTO:+0200
TZNAME:CEST
DTSTART:20250330T010000
END:DAYLIGHT
BEGIN:STANDARD
TZOFFSETFROM:+0200
TZOFFSETTO:+0100
TZNAME:CET
DTSTART:20251026T010000
END:STANDARD
BEGIN:DAYLIGHT
TZOFFSETFROM:+0100
TZOFFSETTO:+0200
TZNAME:CEST
DTSTART:20260329T010000
END:DAYLIGHT
BEGIN:STANDARD
TZOFFSETFROM:+0200
TZOFFSETTO:+0100
TZNAME:CET
DTSTART:20261025T010000
END:STANDARD
BEGIN:DAYLIGHT
TZOFFSETFROM:+0100
TZOFFSETTO:+0200
TZNAME:CEST
DTSTART:20270328T010000
END:DAYLIGHT
BEGIN:STANDARD
TZOFFSETFROM:+0200
TZOFFSETTO:+0100
TZNAME:CET
DTSTART:20271031T010000
END:STANDARD
END:VTIMEZONE
BEGIN:VEVENT
DTSTART;TZID=Europe/Vienna:20260509T090000
DTEND;TZID=Europe/Vienna:20260509T140000
DTSTAMP:20260421T155126
CREATED:20260127T192600Z
LAST-MODIFIED:20260408T082158Z
UID:22998558-1778317200-1778335200@www.wuerflach.at
SUMMARY:Kinderflohmarkt  - unabhängige Bürgerliste
DESCRIPTION:Kinderflohmarkt\, 9:00-14:00 im Akazienhof \nGemeinsam für Würflach\nUnabhängige Bürgerliste \n 
URL:https://www.wuerflach.at/event/kinderflohmarkt-unabhaengige-buergerliste/
LOCATION:Akazienhof\, Neunkirchner Str. 104\, Würflach\, 2732
CATEGORIES:Heuriger / Kulinarik
ORGANIZER;CN="Gemeinsam f%C3%BCr W%C3%BCrflach (unabh%C3%A4ngige B%C3%BCrgerliste)":MAILTO:gemeinsam@wuerflach.info
END:VEVENT
BEGIN:VEVENT
DTSTART;TZID=Europe/Vienna:20260509T090000
DTEND;TZID=Europe/Vienna:20260509T170000
DTSTAMP:20260421T155126
CREATED:20260421T110806Z
LAST-MODIFIED:20260421T110806Z
UID:22999295-1778317200-1778346000@www.wuerflach.at
SUMMARY:Erste Hilfe Kurs - Gesunde Gemeinde
DESCRIPTION:
URL:https://www.wuerflach.at/event/erste-hilfe-kurs-gesunde-gemeinde/
LOCATION:Sitzungssaal der Gemeinde (Eingang im Hinterhof)\, Willendorfer Straße 150\, Würflach\, NÖ\, 2732
CATEGORIES:Vortrag / Workshop / Kurs
END:VEVENT
BEGIN:VEVENT
DTSTART;TZID=Europe/Vienna:20260509T100000
DTEND;TZID=Europe/Vienna:20260509T100000
DTSTAMP:20260421T155126
CREATED:20260120T205908Z
LAST-MODIFIED:20260120T205908Z
UID:22998369-1778320800-1778320800@www.wuerflach.at
SUMMARY:Mostheuriger - Fam. Woltron
DESCRIPTION:  \n \nGenießen Sie prämierte\, selbsterzeugte\, traditionelle\, bodenständige Schmankerl: Fleisch- und Selchwaren\, Bauernbrot\, Most\, Cider\, Säfte\, Schnäpse uvm. \nFür die Kleinen gibt es einen Kinderspielplatz zum Bewegen und Austoben.
URL:https://www.wuerflach.at/event/mostheuriger-fam-woltron-94/
LOCATION:Heurigenlokal – Fam. Woltron\, Bogengasse 106\, Würflach\, NÖ\, 2732
CATEGORIES:Heuriger / Kulinarik
END:VEVENT
BEGIN:VEVENT
DTSTART;TZID=Europe/Vienna:20260509T100000
DTEND;TZID=Europe/Vienna:20260509T150000
DTSTAMP:20260421T155126
CREATED:20260127T192738Z
LAST-MODIFIED:20260127T192738Z
UID:22998560-1778320800-1778338800@www.wuerflach.at
SUMMARY:Pflanzenmarkt - in der Pflanzenkuchl
DESCRIPTION:Pflanzenmarkt in der Pflanzenkuchl  10:00-15:00 Uhr\nbeim Fam. Koll in der Schulgasse 345\nDas Plakat folgt!
URL:https://www.wuerflach.at/event/pflanzenmarkt-in-der-pflanzenkuchl-6/
LOCATION:Schulgasse 345- Koll Gerhard\, Schulgasse 345\, Würflach\, 2732\, Österreich
CATEGORIES:Sonstige
END:VEVENT
BEGIN:VEVENT
DTSTART;TZID=Europe/Vienna:20260509T130000
DTEND;TZID=Europe/Vienna:20260509T130000
DTSTAMP:20260421T155126
CREATED:20260127T192909Z
LAST-MODIFIED:20260127T192909Z
UID:22998562-1778331600-1778331600@www.wuerflach.at
SUMMARY:1. Tag der Blasmusik
DESCRIPTION:  \n \n\nTag der Blasmusik\, 13:00 Uhr – Musikverein Hettmannsdorf-Würflach\n\n 
URL:https://www.wuerflach.at/event/1-tag-der-blasmusik-3/
LOCATION:NÖ
CATEGORIES:Kulturveranstaltung
END:VEVENT
END:VCALENDAR