BEGIN:VCALENDAR
VERSION:2.0
PRODID:-//Gemeinde Wuerflach - ECPv6.15.19//NONSGML v1.0//EN
CALSCALE:GREGORIAN
METHOD:PUBLISH
X-WR-CALNAME:Gemeinde Wuerflach
X-ORIGINAL-URL:https://www.wuerflach.at
X-WR-CALDESC:Veranstaltungen für Gemeinde Wuerflach
REFRESH-INTERVAL;VALUE=DURATION:PT1H
X-Robots-Tag:noindex
X-PUBLISHED-TTL:PT1H
BEGIN:VTIMEZONE
TZID:Europe/Vienna
BEGIN:DAYLIGHT
TZOFFSETFROM:+0100
TZOFFSETTO:+0200
TZNAME:CEST
DTSTART:20250330T010000
END:DAYLIGHT
BEGIN:STANDARD
TZOFFSETFROM:+0200
TZOFFSETTO:+0100
TZNAME:CET
DTSTART:20251026T010000
END:STANDARD
BEGIN:DAYLIGHT
TZOFFSETFROM:+0100
TZOFFSETTO:+0200
TZNAME:CEST
DTSTART:20260329T010000
END:DAYLIGHT
BEGIN:STANDARD
TZOFFSETFROM:+0200
TZOFFSETTO:+0100
TZNAME:CET
DTSTART:20261025T010000
END:STANDARD
BEGIN:DAYLIGHT
TZOFFSETFROM:+0100
TZOFFSETTO:+0200
TZNAME:CEST
DTSTART:20270328T010000
END:DAYLIGHT
BEGIN:STANDARD
TZOFFSETFROM:+0200
TZOFFSETTO:+0100
TZNAME:CET
DTSTART:20271031T010000
END:STANDARD
END:VTIMEZONE
BEGIN:VEVENT
DTSTART;TZID=Europe/Vienna:20260504T170000
DTEND;TZID=Europe/Vienna:20260504T193000
DTSTAMP:20260421T140625
CREATED:20260312T072041Z
LAST-MODIFIED:20260323T083112Z
UID:22999059-1777914000-1777923000@www.wuerflach.at
SUMMARY:Leben mit KI: Einsatz von KI in unserem Alltag und Beruf
DESCRIPTION:Einladung zur digitalen Sicherheitsschulung.\nLeben mit KI: Einsatz von KI in unserem Alltag und Beruf!\n \n \nKünstliche Intelligenz · Alen Velagic · kostenlos \nWird die KI menschliche Arbeitskraft in der Zukunft ersetzen? Diese und weitere Fragen werden im Workshop aufgegriffen und beantwortet. Dabei bekommen die Teilnehmenden einen Einblick in die Funktionsweise von KI\, wo sie bereits vorhanden ist und wie ChatGPT und andere Tools im Alltag und Beruf\, sei es eine E-Mail an die Vorgesetzte zu schreiben\, eine PowerPoint für das nächste Vereinstreffen zu gestalten oder ein Foto für den besten Freund rasch zu erstellen\, funktionieren. Mit einem interaktiven Charakter bietet der Workshop eine Umgebung\, sich mit einigen KI-Tools auseinanderzusetzen und neue Erfahrungen zu machen. \nAnmeldung: im Bürgerservice (02620-2410-11) oder per E-Mail: gemeinde@wuerflach.at
URL:https://www.wuerflach.at/event/digitale-sicherheitsschulung-3/
LOCATION:Sitzungssaal der Gemeinde (Eingang im Hinterhof)\, Willendorfer Straße 150\, Würflach\, NÖ\, 2732
CATEGORIES:Vortrag / Workshop / Kurs
END:VEVENT
END:VCALENDAR