BEGIN:VCALENDAR
VERSION:2.0
PRODID:-//Gemeinde Wuerflach - ECPv6.15.19//NONSGML v1.0//EN
CALSCALE:GREGORIAN
METHOD:PUBLISH
X-WR-CALNAME:Gemeinde Wuerflach
X-ORIGINAL-URL:https://www.wuerflach.at
X-WR-CALDESC:Veranstaltungen für Gemeinde Wuerflach
REFRESH-INTERVAL;VALUE=DURATION:PT1H
X-Robots-Tag:noindex
X-PUBLISHED-TTL:PT1H
BEGIN:VTIMEZONE
TZID:Europe/Vienna
BEGIN:DAYLIGHT
TZOFFSETFROM:+0100
TZOFFSETTO:+0200
TZNAME:CEST
DTSTART:20250330T010000
END:DAYLIGHT
BEGIN:STANDARD
TZOFFSETFROM:+0200
TZOFFSETTO:+0100
TZNAME:CET
DTSTART:20251026T010000
END:STANDARD
BEGIN:DAYLIGHT
TZOFFSETFROM:+0100
TZOFFSETTO:+0200
TZNAME:CEST
DTSTART:20260329T010000
END:DAYLIGHT
BEGIN:STANDARD
TZOFFSETFROM:+0200
TZOFFSETTO:+0100
TZNAME:CET
DTSTART:20261025T010000
END:STANDARD
BEGIN:DAYLIGHT
TZOFFSETFROM:+0100
TZOFFSETTO:+0200
TZNAME:CEST
DTSTART:20270328T010000
END:DAYLIGHT
BEGIN:STANDARD
TZOFFSETFROM:+0200
TZOFFSETTO:+0100
TZNAME:CET
DTSTART:20271031T010000
END:STANDARD
END:VTIMEZONE
BEGIN:VEVENT
DTSTART;TZID=Europe/Vienna:20260425T090000
DTEND;TZID=Europe/Vienna:20260425T140000
DTSTAMP:20260421T122114
CREATED:20260127T191418Z
LAST-MODIFIED:20260408T082054Z
UID:22998550-1777107600-1777125600@www.wuerflach.at
SUMMARY:Pflanzenbörse  - unabhängige Bürgerliste
DESCRIPTION:Pflanzenbörse\, 9:00-14:00 im Akazienhof \n„Wir laden Sie herzlich ein\, Ihre Gemüse- und Kräuterpflanzen\, Blumensetzlinge\, Pflanzensamen sowie Tipps und Erfahrungen auszutauschen. Entdecken Sie eine Vielzahl an Tomaten- und Paprikapflanzen\, Blumen\, selbst veredelte Obstbäume sowie zahlreiche andere Raritäten für Ihren Gemüsegarten.\nÜbrigens: Die Pflanzen sind auch gegen eine kleine freie Spende erhältlich! Für Kaffee und Kuchen ist bestens gesorgt!“ \nGemeinsam für Würflach\nUnabhängige Bürgerliste \n 
URL:https://www.wuerflach.at/event/pflanzenboerse-unabhaengige-buergerliste/
LOCATION:Akazienhof\, Neunkirchner Str. 104\, Würflach\, 2732
CATEGORIES:Heuriger / Kulinarik
ORGANIZER;CN="Gemeinsam f%C3%BCr W%C3%BCrflach (unabh%C3%A4ngige B%C3%BCrgerliste)":MAILTO:gemeinsam@wuerflach.info
END:VEVENT
END:VCALENDAR