BEGIN:VCALENDAR
VERSION:2.0
PRODID:-//Gemeinde Wuerflach - ECPv6.15.19//NONSGML v1.0//EN
CALSCALE:GREGORIAN
METHOD:PUBLISH
X-ORIGINAL-URL:https://www.wuerflach.at
X-WR-CALDESC:Veranstaltungen für Gemeinde Wuerflach
REFRESH-INTERVAL;VALUE=DURATION:PT1H
X-Robots-Tag:noindex
X-PUBLISHED-TTL:PT1H
BEGIN:VTIMEZONE
TZID:Europe/Vienna
BEGIN:DAYLIGHT
TZOFFSETFROM:+0100
TZOFFSETTO:+0200
TZNAME:CEST
DTSTART:20250330T010000
END:DAYLIGHT
BEGIN:STANDARD
TZOFFSETFROM:+0200
TZOFFSETTO:+0100
TZNAME:CET
DTSTART:20251026T010000
END:STANDARD
BEGIN:DAYLIGHT
TZOFFSETFROM:+0100
TZOFFSETTO:+0200
TZNAME:CEST
DTSTART:20260329T010000
END:DAYLIGHT
BEGIN:STANDARD
TZOFFSETFROM:+0200
TZOFFSETTO:+0100
TZNAME:CET
DTSTART:20261025T010000
END:STANDARD
BEGIN:DAYLIGHT
TZOFFSETFROM:+0100
TZOFFSETTO:+0200
TZNAME:CEST
DTSTART:20270328T010000
END:DAYLIGHT
BEGIN:STANDARD
TZOFFSETFROM:+0200
TZOFFSETTO:+0100
TZNAME:CET
DTSTART:20271031T010000
END:STANDARD
END:VTIMEZONE
BEGIN:VEVENT
DTSTART;TZID=Europe/Vienna:20260327T100000
DTEND;TZID=Europe/Vienna:20260327T100000
DTSTAMP:20260421T155044
CREATED:20260120T205542Z
LAST-MODIFIED:20260120T205542Z
UID:22998362-1774605600-1774605600@www.wuerflach.at
SUMMARY:Mostheuriger - Fam. Woltron
DESCRIPTION:  \n \nGenießen Sie prämierte\, selbsterzeugte\, traditionelle\, bodenständige Schmankerl: Fleisch- und Selchwaren\, Bauernbrot\, Most\, Cider\, Säfte\, Schnäpse uvm. \nFür die Kleinen gibt es einen Kinderspielplatz zum Bewegen und Austoben.
URL:https://www.wuerflach.at/event/mostheuriger-fam-woltron-90/
LOCATION:Heurigenlokal – Fam. Woltron\, Bogengasse 106\, Würflach\, NÖ\, 2732
CATEGORIES:Heuriger / Kulinarik
END:VEVENT
BEGIN:VEVENT
DTSTART;TZID=Europe/Vienna:20260327T130000
DTEND;TZID=Europe/Vienna:20260327T130000
DTSTAMP:20260421T155044
CREATED:20260114T065209Z
LAST-MODIFIED:20260114T065338Z
UID:22998207-1774616400-1774616400@www.wuerflach.at
SUMMARY:Blutspenden
DESCRIPTION:Blutspenden in der Mehrzweckhalle – in der Volksschule Würflach-\n13:00 – 14:30 Uhr und  15:30-19:00 Uhr  \nBitte kommen Sie\, helfen Sie und spenden Sie Blut!
URL:https://www.wuerflach.at/event/blutspenden-3/
LOCATION:Mehrzweckhalle der Volksschule\, Neunkirchner Str. 76\, Würflach\, NÖ\, 2732
CATEGORIES:Sonstige
END:VEVENT
BEGIN:VEVENT
DTSTART;TZID=Europe/Vienna:20260327T180000
DTEND;TZID=Europe/Vienna:20260327T180000
DTSTAMP:20260421T155044
CREATED:20260127T182609Z
LAST-MODIFIED:20260318T092828Z
UID:22998528-1774634400-1774634400@www.wuerflach.at
SUMMARY:Les´n und Los´n - abgesagt
DESCRIPTION:Liebe Bücherfreunde! \nDie Lesung – LES´N und LOS´N – am 27.3.2026\nist abgesagt. (Trauerfall) \nDer nächste Termin für Les´n und Los´n ist am 10.7.2026 \n  \n  \n  \n 
URL:https://www.wuerflach.at/event/lesn-und-losn-lesung-in-der-buecherei-8/
LOCATION:Gemeindebücherei Würflach\, Willendorfer Str. 150\, Gemeinde Würflach\, 2732\, Österreich
CATEGORIES:Lesung
ORGANIZER;CN="B%C3%BCcherei W%C3%BCrflach":MAILTO:buecherei@wuerflach.at
END:VEVENT
END:VCALENDAR