BEGIN:VCALENDAR
VERSION:2.0
PRODID:-//Gemeinde Wuerflach - ECPv6.15.19//NONSGML v1.0//EN
CALSCALE:GREGORIAN
METHOD:PUBLISH
X-WR-CALNAME:Gemeinde Wuerflach
X-ORIGINAL-URL:https://www.wuerflach.at
X-WR-CALDESC:Veranstaltungen für Gemeinde Wuerflach
REFRESH-INTERVAL;VALUE=DURATION:PT1H
X-Robots-Tag:noindex
X-PUBLISHED-TTL:PT1H
BEGIN:VTIMEZONE
TZID:Europe/Vienna
BEGIN:DAYLIGHT
TZOFFSETFROM:+0100
TZOFFSETTO:+0200
TZNAME:CEST
DTSTART:20250330T010000
END:DAYLIGHT
BEGIN:STANDARD
TZOFFSETFROM:+0200
TZOFFSETTO:+0100
TZNAME:CET
DTSTART:20251026T010000
END:STANDARD
BEGIN:DAYLIGHT
TZOFFSETFROM:+0100
TZOFFSETTO:+0200
TZNAME:CEST
DTSTART:20260329T010000
END:DAYLIGHT
BEGIN:STANDARD
TZOFFSETFROM:+0200
TZOFFSETTO:+0100
TZNAME:CET
DTSTART:20261025T010000
END:STANDARD
BEGIN:DAYLIGHT
TZOFFSETFROM:+0100
TZOFFSETTO:+0200
TZNAME:CEST
DTSTART:20270328T010000
END:DAYLIGHT
BEGIN:STANDARD
TZOFFSETFROM:+0200
TZOFFSETTO:+0100
TZNAME:CET
DTSTART:20271031T010000
END:STANDARD
END:VTIMEZONE
BEGIN:VEVENT
DTSTART;TZID=Europe/Vienna:20260325T100000
DTEND;TZID=Europe/Vienna:20260325T100000
DTSTAMP:20260421T154604
CREATED:20260120T205417Z
LAST-MODIFIED:20260120T205417Z
UID:22998358-1774432800-1774432800@www.wuerflach.at
SUMMARY:Mostheuriger - Fam. Woltron
DESCRIPTION:  \n \nGenießen Sie prämierte\, selbsterzeugte\, traditionelle\, bodenständige Schmankerl: Fleisch- und Selchwaren\, Bauernbrot\, Most\, Cider\, Säfte\, Schnäpse uvm. \nFür die Kleinen gibt es einen Kinderspielplatz zum Bewegen und Austoben.
URL:https://www.wuerflach.at/event/mostheuriger-fam-woltron-88/
LOCATION:Heurigenlokal – Fam. Woltron\, Bogengasse 106\, Würflach\, NÖ\, 2732
CATEGORIES:Heuriger / Kulinarik
END:VEVENT
BEGIN:VEVENT
DTSTART;TZID=Europe/Vienna:20260325T170000
DTEND;TZID=Europe/Vienna:20260325T193000
DTSTAMP:20260421T154604
CREATED:20260107T091916Z
LAST-MODIFIED:20260323T082541Z
UID:22998174-1774458000-1774467000@www.wuerflach.at
SUMMARY:Umgang mit Cyberbedrohungen und Fake News
DESCRIPTION:Einladung zur digitalen Sicherheitsschulung.\nUmgang mit Cyberbedrohungen und Fake News!\n \n 
URL:https://www.wuerflach.at/event/digitale-sicherheitsschulung-2/
LOCATION:Sitzungssaal der Gemeinde (Eingang im Hinterhof)\, Willendorfer Straße 150\, Würflach\, NÖ\, 2732
CATEGORIES:Vortrag / Workshop / Kurs
END:VEVENT
BEGIN:VEVENT
DTSTART;TZID=Europe/Vienna:20260325T180000
DTEND;TZID=Europe/Vienna:20260325T180000
DTSTAMP:20260421T154604
CREATED:20260126T201408Z
LAST-MODIFIED:20260126T201408Z
UID:22998479-1774461600-1774461600@www.wuerflach.at
SUMMARY:Nordic Walking
DESCRIPTION:
URL:https://www.wuerflach.at/event/nordic-walking-101/
LOCATION:NÖ
CATEGORIES:Sport / Bewegung
END:VEVENT
BEGIN:VEVENT
DTSTART;TZID=Europe/Vienna:20260325T193000
DTEND;TZID=Europe/Vienna:20260325T210000
DTSTAMP:20260421T154604
CREATED:20260126T202936Z
LAST-MODIFIED:20260126T202936Z
UID:22998495-1774467000-1774472400@www.wuerflach.at
SUMMARY:Männerturnen
DESCRIPTION:Männerturnen – Sport\, Bewegung\, Spiel und Spaß!\njeden Mittwoch von 19:30 bis 21:00 Uhr in der Würflacher Mehrzweckhalle \n  \n 
URL:https://www.wuerflach.at/event/maennerturnen-27/
LOCATION:Mehrzweckhalle der Volksschule\, Neunkirchner Str. 76\, Würflach\, NÖ\, 2732
CATEGORIES:Sport / Bewegung
END:VEVENT
END:VCALENDAR