BEGIN:VCALENDAR
VERSION:2.0
PRODID:-//Gemeinde Wuerflach - ECPv6.15.19//NONSGML v1.0//EN
CALSCALE:GREGORIAN
METHOD:PUBLISH
X-ORIGINAL-URL:https://www.wuerflach.at
X-WR-CALDESC:Veranstaltungen für Gemeinde Wuerflach
REFRESH-INTERVAL;VALUE=DURATION:PT1H
X-Robots-Tag:noindex
X-PUBLISHED-TTL:PT1H
BEGIN:VTIMEZONE
TZID:Europe/Vienna
BEGIN:DAYLIGHT
TZOFFSETFROM:+0100
TZOFFSETTO:+0200
TZNAME:CEST
DTSTART:20250330T010000
END:DAYLIGHT
BEGIN:STANDARD
TZOFFSETFROM:+0200
TZOFFSETTO:+0100
TZNAME:CET
DTSTART:20251026T010000
END:STANDARD
BEGIN:DAYLIGHT
TZOFFSETFROM:+0100
TZOFFSETTO:+0200
TZNAME:CEST
DTSTART:20260329T010000
END:DAYLIGHT
BEGIN:STANDARD
TZOFFSETFROM:+0200
TZOFFSETTO:+0100
TZNAME:CET
DTSTART:20261025T010000
END:STANDARD
BEGIN:DAYLIGHT
TZOFFSETFROM:+0100
TZOFFSETTO:+0200
TZNAME:CEST
DTSTART:20270328T010000
END:DAYLIGHT
BEGIN:STANDARD
TZOFFSETFROM:+0200
TZOFFSETTO:+0100
TZNAME:CET
DTSTART:20271031T010000
END:STANDARD
END:VTIMEZONE
BEGIN:VEVENT
DTSTART;TZID=Europe/Vienna:20260309T073000
DTEND;TZID=Europe/Vienna:20260309T073000
DTSTAMP:20260421T155125
CREATED:20260215T084751Z
LAST-MODIFIED:20260215T084751Z
UID:22998828-1773041400-1773041400@www.wuerflach.at
SUMMARY:Frühlingserwachen – Fa. Schauer - ab dem 2.3.2026
DESCRIPTION:Diverse Frühlings- und Osterdekowaren werden angeboten – zu den Öffnungszeiten im Fachgeschäft in der Wolfsohler Str. 15. \nMo – Fr  7:30 – 12:00 und 14:00 – 18:00\nDo Nachmittag geschlossen \n 
URL:https://www.wuerflach.at/event/fruehlingserwachen-fa-schauer-ab-dem-2-3-2026-5/
LOCATION:NÖ
CATEGORIES:Sonstige
ORGANIZER;CN="Fa. Schauer":MAILTO:hansschauer@malerei-schauer.at
END:VEVENT
BEGIN:VEVENT
DTSTART;TZID=Europe/Vienna:20260309T170000
DTEND;TZID=Europe/Vienna:20260309T193000
DTSTAMP:20260421T155125
CREATED:20260107T091114Z
LAST-MODIFIED:20260107T091713Z
UID:22998167-1773075600-1773084600@www.wuerflach.at
SUMMARY:digitale Sicherheitsschulung
DESCRIPTION:Einladung zur digitalen Sicherheitsschulung.\nOnline – aber sicher!\n \n 
URL:https://www.wuerflach.at/event/digitale-sicherheitsschulung/
LOCATION:Sitzungssaal der Gemeinde (Eingang im Hinterhof)\, Willendorfer Straße 150\, Würflach\, NÖ\, 2732
CATEGORIES:Vortrag / Workshop / Kurs
END:VEVENT
END:VCALENDAR