BEGIN:VCALENDAR
VERSION:2.0
PRODID:-//Gemeinde Wuerflach - ECPv6.15.19//NONSGML v1.0//EN
CALSCALE:GREGORIAN
METHOD:PUBLISH
X-ORIGINAL-URL:https://www.wuerflach.at
X-WR-CALDESC:Veranstaltungen für Gemeinde Wuerflach
REFRESH-INTERVAL;VALUE=DURATION:PT1H
X-Robots-Tag:noindex
X-PUBLISHED-TTL:PT1H
BEGIN:VTIMEZONE
TZID:Europe/Vienna
BEGIN:DAYLIGHT
TZOFFSETFROM:+0100
TZOFFSETTO:+0200
TZNAME:CEST
DTSTART:20250330T010000
END:DAYLIGHT
BEGIN:STANDARD
TZOFFSETFROM:+0200
TZOFFSETTO:+0100
TZNAME:CET
DTSTART:20251026T010000
END:STANDARD
BEGIN:DAYLIGHT
TZOFFSETFROM:+0100
TZOFFSETTO:+0200
TZNAME:CEST
DTSTART:20260329T010000
END:DAYLIGHT
BEGIN:STANDARD
TZOFFSETFROM:+0200
TZOFFSETTO:+0100
TZNAME:CET
DTSTART:20261025T010000
END:STANDARD
BEGIN:DAYLIGHT
TZOFFSETFROM:+0100
TZOFFSETTO:+0200
TZNAME:CEST
DTSTART:20270328T010000
END:DAYLIGHT
BEGIN:STANDARD
TZOFFSETFROM:+0200
TZOFFSETTO:+0100
TZNAME:CET
DTSTART:20271031T010000
END:STANDARD
END:VTIMEZONE
BEGIN:VEVENT
DTSTART;VALUE=DATE:20260107
DTEND;VALUE=DATE:20260108
DTSTAMP:20260421T192424
CREATED:20251103T200334Z
LAST-MODIFIED:20251103T200334Z
UID:22997789-1767744000-1767830399@www.wuerflach.at
SUMMARY:Christbaumabholung
DESCRIPTION:  \nDie Christbaumabholung erfolgt nur am Mittwoch\, 7.1.2026 und am Dienstag\, 3.2.2026\nBitte die Christbäume bis 7:00 Uhr vor der Liegenschaft bereitstellen. \n 
URL:https://www.wuerflach.at/event/christbaumabholung-3/
LOCATION:NÖ
CATEGORIES:Christbaumabholung
END:VEVENT
BEGIN:VEVENT
DTSTART;VALUE=DATE:20260107
DTEND;VALUE=DATE:20260108
DTSTAMP:20260421T192424
CREATED:20251103T200731Z
LAST-MODIFIED:20251103T200731Z
UID:22997793-1767744000-1767830399@www.wuerflach.at
SUMMARY:Windelabholung
DESCRIPTION:Die Restmüllsäcke (gut zugebunden) bitte bis 6:30 Uhr vor Ihrer Liegenschaft bereitstellen!\nBitte um An- und Abmeldung der Windelabholungen im Gemeindeamt.\nEs werden nur Säcke der Haushalte abgeholt\, welche auf der Gemeinde-Abholliste eingetragen sind!
URL:https://www.wuerflach.at/event/windelabholung-15/
LOCATION:NÖ
CATEGORIES:Windelabholung
END:VEVENT
BEGIN:VEVENT
DTSTART;TZID=Europe/Vienna:20260107T193000
DTEND;TZID=Europe/Vienna:20260107T210000
DTSTAMP:20260421T192424
CREATED:20250818T110334Z
LAST-MODIFIED:20250818T110334Z
UID:22997379-1767814200-1767819600@www.wuerflach.at
SUMMARY:Männerturnen
DESCRIPTION:Männerturnen – Sport\, Bewegung\, Spiel und Spaß!\njeden Mittwoch von 19:30 bis 21:00 Uhr in der Würflacher Mehrzweckhalle \n  \n 
URL:https://www.wuerflach.at/event/maennerturnen-16/
LOCATION:Mehrzweckhalle der Volksschule\, Neunkirchner Str. 76\, Würflach\, NÖ\, 2732
CATEGORIES:Sport / Bewegung
END:VEVENT
END:VCALENDAR