BEGIN:VCALENDAR
VERSION:2.0
PRODID:-//Gemeinde Wuerflach - ECPv6.15.19//NONSGML v1.0//EN
CALSCALE:GREGORIAN
METHOD:PUBLISH
X-ORIGINAL-URL:https://www.wuerflach.at
X-WR-CALDESC:Veranstaltungen für Gemeinde Wuerflach
REFRESH-INTERVAL;VALUE=DURATION:PT1H
X-Robots-Tag:noindex
X-PUBLISHED-TTL:PT1H
BEGIN:VTIMEZONE
TZID:Europe/Vienna
BEGIN:DAYLIGHT
TZOFFSETFROM:+0100
TZOFFSETTO:+0200
TZNAME:CEST
DTSTART:20240331T010000
END:DAYLIGHT
BEGIN:STANDARD
TZOFFSETFROM:+0200
TZOFFSETTO:+0100
TZNAME:CET
DTSTART:20241027T010000
END:STANDARD
BEGIN:DAYLIGHT
TZOFFSETFROM:+0100
TZOFFSETTO:+0200
TZNAME:CEST
DTSTART:20250330T010000
END:DAYLIGHT
BEGIN:STANDARD
TZOFFSETFROM:+0200
TZOFFSETTO:+0100
TZNAME:CET
DTSTART:20251026T010000
END:STANDARD
BEGIN:DAYLIGHT
TZOFFSETFROM:+0100
TZOFFSETTO:+0200
TZNAME:CEST
DTSTART:20260329T010000
END:DAYLIGHT
BEGIN:STANDARD
TZOFFSETFROM:+0200
TZOFFSETTO:+0100
TZNAME:CET
DTSTART:20261025T010000
END:STANDARD
END:VTIMEZONE
BEGIN:VEVENT
DTSTART;TZID=Europe/Vienna:20251220T090000
DTEND;TZID=Europe/Vienna:20251220T180000
DTSTAMP:20260421T211543
CREATED:20250129T230105Z
LAST-MODIFIED:20251110T132126Z
UID:22996083-1766221200-1766253600@www.wuerflach.at
SUMMARY:Bauern- u. Weihnachtsmarkt bei Fam. Woltron
DESCRIPTION:  \n  \n 
URL:https://www.wuerflach.at/event/bauern-u-weihnachtsmarkt-bei-fam-woltron-4/
LOCATION:Heurigenlokal – Fam. Woltron\, Bogengasse 106\, Würflach\, NÖ\, 2732
CATEGORIES:Heuriger / Kulinarik
ORGANIZER;CN="Familie Woltron":MAILTO:urlaub@bauernhof-woltron.at
END:VEVENT
BEGIN:VEVENT
DTSTART;TZID=Europe/Vienna:20251220T150000
DTEND;TZID=Europe/Vienna:20251220T150000
DTSTAMP:20260421T211543
CREATED:20250129T230334Z
LAST-MODIFIED:20250818T071549Z
UID:22996087-1766242800-1766242800@www.wuerflach.at
SUMMARY:Weihnachtsfeier - Pensionistenverband Würflach
DESCRIPTION:Weihnachtsfeier im Gasthaus Seewald\, 15:00 Uhr – Pensionistenverband Würflach \n 
URL:https://www.wuerflach.at/event/weihnachtsfeier-pensionistenverband-wuerflach-2/
LOCATION:Gasthaus Seewald\, Hettmannsdorfer Str. 30\, Würflach\, NÖ\, 2732\, Österreich
CATEGORIES:Sonstige
END:VEVENT
BEGIN:VEVENT
DTSTART;TZID=Europe/Vienna:20251220T160000
DTEND;TZID=Europe/Vienna:20251220T180000
DTSTAMP:20260421T211543
CREATED:20250129T230526Z
LAST-MODIFIED:20250218T132928Z
UID:22996089-1766246400-1766253600@www.wuerflach.at
SUMMARY:Bilderbuchkino für Kinder\, 16:00-18:00\, in der Bücherei
DESCRIPTION:
URL:https://www.wuerflach.at/event/bilderbuchkino-fuer-kinder-1600-1800-in-der-buecherei-2/
LOCATION:NÖ
CATEGORIES:Sonstige
END:VEVENT
END:VCALENDAR