BEGIN:VCALENDAR
VERSION:2.0
PRODID:-//Gemeinde Wuerflach - ECPv6.15.19//NONSGML v1.0//EN
CALSCALE:GREGORIAN
METHOD:PUBLISH
X-ORIGINAL-URL:https://www.wuerflach.at
X-WR-CALDESC:Veranstaltungen für Gemeinde Wuerflach
REFRESH-INTERVAL;VALUE=DURATION:PT1H
X-Robots-Tag:noindex
X-PUBLISHED-TTL:PT1H
BEGIN:VTIMEZONE
TZID:Europe/Vienna
BEGIN:DAYLIGHT
TZOFFSETFROM:+0100
TZOFFSETTO:+0200
TZNAME:CEST
DTSTART:20240331T010000
END:DAYLIGHT
BEGIN:STANDARD
TZOFFSETFROM:+0200
TZOFFSETTO:+0100
TZNAME:CET
DTSTART:20241027T010000
END:STANDARD
BEGIN:DAYLIGHT
TZOFFSETFROM:+0100
TZOFFSETTO:+0200
TZNAME:CEST
DTSTART:20250330T010000
END:DAYLIGHT
BEGIN:STANDARD
TZOFFSETFROM:+0200
TZOFFSETTO:+0100
TZNAME:CET
DTSTART:20251026T010000
END:STANDARD
BEGIN:DAYLIGHT
TZOFFSETFROM:+0100
TZOFFSETTO:+0200
TZNAME:CEST
DTSTART:20260329T010000
END:DAYLIGHT
BEGIN:STANDARD
TZOFFSETFROM:+0200
TZOFFSETTO:+0100
TZNAME:CET
DTSTART:20261025T010000
END:STANDARD
END:VTIMEZONE
BEGIN:VEVENT
DTSTART;VALUE=DATE:20251219
DTEND;VALUE=DATE:20251220
DTSTAMP:20260421T211538
CREATED:20241106T201847Z
LAST-MODIFIED:20241106T201847Z
UID:22995233-1766102400-1766188799@www.wuerflach.at
SUMMARY:Restmüll
DESCRIPTION:Alle Restmüllsäcke (gut zugebunden) bitte bis 6:30 Uhr vor Ihrer Liegenschaft bereitstellen!
URL:https://www.wuerflach.at/event/restmuell-13/
LOCATION:NÖ
CATEGORIES:RMS Restmüllsäcke
END:VEVENT
BEGIN:VEVENT
DTSTART;TZID=Europe/Vienna:20251219T090000
DTEND;TZID=Europe/Vienna:20251219T180000
DTSTAMP:20260421T211538
CREATED:20250129T230029Z
LAST-MODIFIED:20251110T132042Z
UID:22996081-1766134800-1766167200@www.wuerflach.at
SUMMARY:Bauern- u. Weihnachtsmarkt bei Fam. Woltron
DESCRIPTION:  \n 
URL:https://www.wuerflach.at/event/bauern-u-weihnachtsmarkt-bei-fam-woltron-3/
LOCATION:Heurigenlokal – Fam. Woltron\, Bogengasse 106\, Würflach\, NÖ\, 2732
CATEGORIES:Heuriger / Kulinarik
ORGANIZER;CN="Familie Woltron":MAILTO:urlaub@bauernhof-woltron.at
END:VEVENT
BEGIN:VEVENT
DTSTART;TZID=Europe/Vienna:20251219T180000
DTEND;TZID=Europe/Vienna:20251219T180000
DTSTAMP:20260421T211538
CREATED:20250129T230230Z
LAST-MODIFIED:20250320T081108Z
UID:22996085-1766167200-1766167200@www.wuerflach.at
SUMMARY:Les´n und Los´n - Lesung in der Bücherei
DESCRIPTION: 
URL:https://www.wuerflach.at/event/lesn-und-losn-lesung-in-der-buecherei-7/
LOCATION:Gemeindebücherei Würflach\, Willendorfer Str. 150\, Gemeinde Würflach\, 2732\, Österreich
CATEGORIES:Lesung
ORGANIZER;CN="B%C3%BCcherei W%C3%BCrflach":MAILTO:buecherei@wuerflach.at
END:VEVENT
END:VCALENDAR