BEGIN:VCALENDAR
VERSION:2.0
PRODID:-//Gemeinde Wuerflach - ECPv6.15.19//NONSGML v1.0//EN
CALSCALE:GREGORIAN
METHOD:PUBLISH
X-WR-CALNAME:Gemeinde Wuerflach
X-ORIGINAL-URL:https://www.wuerflach.at
X-WR-CALDESC:Veranstaltungen für Gemeinde Wuerflach
REFRESH-INTERVAL;VALUE=DURATION:PT1H
X-Robots-Tag:noindex
X-PUBLISHED-TTL:PT1H
BEGIN:VTIMEZONE
TZID:Europe/Vienna
BEGIN:DAYLIGHT
TZOFFSETFROM:+0100
TZOFFSETTO:+0200
TZNAME:CEST
DTSTART:20240331T010000
END:DAYLIGHT
BEGIN:STANDARD
TZOFFSETFROM:+0200
TZOFFSETTO:+0100
TZNAME:CET
DTSTART:20241027T010000
END:STANDARD
BEGIN:DAYLIGHT
TZOFFSETFROM:+0100
TZOFFSETTO:+0200
TZNAME:CEST
DTSTART:20250330T010000
END:DAYLIGHT
BEGIN:STANDARD
TZOFFSETFROM:+0200
TZOFFSETTO:+0100
TZNAME:CET
DTSTART:20251026T010000
END:STANDARD
BEGIN:DAYLIGHT
TZOFFSETFROM:+0100
TZOFFSETTO:+0200
TZNAME:CEST
DTSTART:20260329T010000
END:DAYLIGHT
BEGIN:STANDARD
TZOFFSETFROM:+0200
TZOFFSETTO:+0100
TZNAME:CET
DTSTART:20261025T010000
END:STANDARD
END:VTIMEZONE
BEGIN:VEVENT
DTSTART;TZID=Europe/Vienna:20251211T183000
DTEND;TZID=Europe/Vienna:20251211T200000
DTSTAMP:20260421T211137
CREATED:20250813T104435Z
LAST-MODIFIED:20250813T104435Z
UID:22997305-1765477800-1765483200@www.wuerflach.at
SUMMARY:Damengesundheitsturnen
DESCRIPTION:Damengesundheitsturnen mit Wirbelsäulengymnastik – Aufbautraining\, „DKB“ (dehnen\, kräftigen\, bewegen)\njeden Donnerstag von 18:30 bis 20:00 Uhr in der Würflacher Mehrzweckhalle \nEs würde uns freuen\, wenn wir Sie in einer unserer nächsten Turnstunden begrüßen könnten!\nEinfach zu einer Schnupperstunde kommen. \nNähere Informationen erhalten Sie bei Obfrau Eva Schweighofer – 0688/821 81 81. \n  \n  \n 
URL:https://www.wuerflach.at/event/damengesundheitsturnen-13/
LOCATION:Mehrzweckhalle der Volksschule\, Neunkirchner Str. 76\, Würflach\, NÖ\, 2732
CATEGORIES:Sport / Bewegung
END:VEVENT
END:VCALENDAR