BEGIN:VCALENDAR
VERSION:2.0
PRODID:-//Gemeinde Wuerflach - ECPv6.15.19//NONSGML v1.0//EN
CALSCALE:GREGORIAN
METHOD:PUBLISH
X-ORIGINAL-URL:https://www.wuerflach.at
X-WR-CALDESC:Veranstaltungen für Gemeinde Wuerflach
REFRESH-INTERVAL;VALUE=DURATION:PT1H
X-Robots-Tag:noindex
X-PUBLISHED-TTL:PT1H
BEGIN:VTIMEZONE
TZID:Europe/Vienna
BEGIN:DAYLIGHT
TZOFFSETFROM:+0100
TZOFFSETTO:+0200
TZNAME:CEST
DTSTART:20240331T010000
END:DAYLIGHT
BEGIN:STANDARD
TZOFFSETFROM:+0200
TZOFFSETTO:+0100
TZNAME:CET
DTSTART:20241027T010000
END:STANDARD
BEGIN:DAYLIGHT
TZOFFSETFROM:+0100
TZOFFSETTO:+0200
TZNAME:CEST
DTSTART:20250330T010000
END:DAYLIGHT
BEGIN:STANDARD
TZOFFSETFROM:+0200
TZOFFSETTO:+0100
TZNAME:CET
DTSTART:20251026T010000
END:STANDARD
BEGIN:DAYLIGHT
TZOFFSETFROM:+0100
TZOFFSETTO:+0200
TZNAME:CEST
DTSTART:20260329T010000
END:DAYLIGHT
BEGIN:STANDARD
TZOFFSETFROM:+0200
TZOFFSETTO:+0100
TZNAME:CET
DTSTART:20261025T010000
END:STANDARD
END:VTIMEZONE
BEGIN:VEVENT
DTSTART;VALUE=DATE:20251210
DTEND;VALUE=DATE:20251211
DTSTAMP:20260421T211540
CREATED:20241111T224657Z
LAST-MODIFIED:20241111T224705Z
UID:22995354-1765324800-1765411199@www.wuerflach.at
SUMMARY:Windelabholung
DESCRIPTION:Die Restmüllsäcke (gut zugebunden) bitte bis 6:30 Uhr vor Ihrer Liegenschaft bereitstellen!\nBitte um An- und Abmeldung der Windelabholungen im Gemeindeamt.\nEs werden nur Säcke der Haushalte abgeholt\, welche auf der Gemeinde-Abholliste eingetragen sind!
URL:https://www.wuerflach.at/event/windelabholung-14/
LOCATION:NÖ
CATEGORIES:Windelabholung
END:VEVENT
BEGIN:VEVENT
DTSTART;TZID=Europe/Vienna:20251210T193000
DTEND;TZID=Europe/Vienna:20251210T210000
DTSTAMP:20260421T211540
CREATED:20250818T110038Z
LAST-MODIFIED:20250818T110051Z
UID:22997373-1765395000-1765400400@www.wuerflach.at
SUMMARY:Männerturnen
DESCRIPTION:Männerturnen – Sport\, Bewegung\, Spiel und Spaß!\njeden Mittwoch von 19:30 bis 21:00 Uhr in der Würflacher Mehrzweckhalle \n  \n 
URL:https://www.wuerflach.at/event/maennerturnen-13/
LOCATION:Mehrzweckhalle der Volksschule\, Neunkirchner Str. 76\, Würflach\, NÖ\, 2732
CATEGORIES:Sport / Bewegung
END:VEVENT
END:VCALENDAR