BEGIN:VCALENDAR
VERSION:2.0
PRODID:-//Gemeinde Wuerflach - ECPv6.15.19//NONSGML v1.0//EN
CALSCALE:GREGORIAN
METHOD:PUBLISH
X-ORIGINAL-URL:https://www.wuerflach.at
X-WR-CALDESC:Veranstaltungen für Gemeinde Wuerflach
REFRESH-INTERVAL;VALUE=DURATION:PT1H
X-Robots-Tag:noindex
X-PUBLISHED-TTL:PT1H
BEGIN:VTIMEZONE
TZID:Europe/Vienna
BEGIN:DAYLIGHT
TZOFFSETFROM:+0100
TZOFFSETTO:+0200
TZNAME:CEST
DTSTART:20240331T010000
END:DAYLIGHT
BEGIN:STANDARD
TZOFFSETFROM:+0200
TZOFFSETTO:+0100
TZNAME:CET
DTSTART:20241027T010000
END:STANDARD
BEGIN:DAYLIGHT
TZOFFSETFROM:+0100
TZOFFSETTO:+0200
TZNAME:CEST
DTSTART:20250330T010000
END:DAYLIGHT
BEGIN:STANDARD
TZOFFSETFROM:+0200
TZOFFSETTO:+0100
TZNAME:CET
DTSTART:20251026T010000
END:STANDARD
BEGIN:DAYLIGHT
TZOFFSETFROM:+0100
TZOFFSETTO:+0200
TZNAME:CEST
DTSTART:20260329T010000
END:DAYLIGHT
BEGIN:STANDARD
TZOFFSETFROM:+0200
TZOFFSETTO:+0100
TZNAME:CET
DTSTART:20261025T010000
END:STANDARD
END:VTIMEZONE
BEGIN:VEVENT
DTSTART;TZID=Europe/Vienna:20251108T090000
DTEND;TZID=Europe/Vienna:20251108T100000
DTSTAMP:20260421T225603
CREATED:20250915T070038Z
LAST-MODIFIED:20250915T070038Z
UID:22997507-1762592400-1762596000@www.wuerflach.at
SUMMARY:Rechtsberatung
DESCRIPTION:Sehr geehrte Damen und Herren!\nKostenlose Rechtsberatung von Fr. Rechtsanwältin Dr. Daniela Schiesl-Müller im Gemeindesitzungssaal.\nEine Anmeldung ist nicht erforderlich. Bitte nehmen Sie ihre Rechtsschutz Polizzen-Nr. zum Termin mit.\nKontakt: Fr. Dr. Daniela Schiesl-Müller\nTel: 02262/641 69\, Mobil: 0664/523 51 19\nE-Mail: office@schieslaw.at / www.schieslaw.at \n  \n  \n 
URL:https://www.wuerflach.at/event/rechtsberatung-10/
LOCATION:Sitzungssaal der Gemeinde (Eingang im Hinterhof)\, Willendorfer Straße 150\, Würflach\, NÖ\, 2732
CATEGORIES:Sonstige
END:VEVENT
BEGIN:VEVENT
DTSTART;TZID=Europe/Vienna:20251108T133000
DTEND;TZID=Europe/Vienna:20251108T133000
DTSTAMP:20260421T225603
CREATED:20250129T223414Z
LAST-MODIFIED:20251103T190010Z
UID:22996052-1762608600-1762608600@www.wuerflach.at
SUMMARY:Hubertusandacht beim Jägermarterl in Hettmannsdorf
DESCRIPTION:Hubertusandacht beim Jägermarterl in Hettmannsdorf – 13:30 Uhr\nJagdgesellschaft Hettmannsdorf \n 
URL:https://www.wuerflach.at/event/hubertusandacht-beim-jaegermarterl-in-hettmannsdorf-2/
LOCATION:NÖ
CATEGORIES:Sonstige
END:VEVENT
END:VCALENDAR