BEGIN:VCALENDAR
VERSION:2.0
PRODID:-//Gemeinde Wuerflach - ECPv6.15.19//NONSGML v1.0//EN
CALSCALE:GREGORIAN
METHOD:PUBLISH
X-WR-CALNAME:Gemeinde Wuerflach
X-ORIGINAL-URL:https://www.wuerflach.at
X-WR-CALDESC:Veranstaltungen für Gemeinde Wuerflach
REFRESH-INTERVAL;VALUE=DURATION:PT1H
X-Robots-Tag:noindex
X-PUBLISHED-TTL:PT1H
BEGIN:VTIMEZONE
TZID:Europe/Vienna
BEGIN:DAYLIGHT
TZOFFSETFROM:+0100
TZOFFSETTO:+0200
TZNAME:CEST
DTSTART:20240331T010000
END:DAYLIGHT
BEGIN:STANDARD
TZOFFSETFROM:+0200
TZOFFSETTO:+0100
TZNAME:CET
DTSTART:20241027T010000
END:STANDARD
BEGIN:DAYLIGHT
TZOFFSETFROM:+0100
TZOFFSETTO:+0200
TZNAME:CEST
DTSTART:20250330T010000
END:DAYLIGHT
BEGIN:STANDARD
TZOFFSETFROM:+0200
TZOFFSETTO:+0100
TZNAME:CET
DTSTART:20251026T010000
END:STANDARD
BEGIN:DAYLIGHT
TZOFFSETFROM:+0100
TZOFFSETTO:+0200
TZNAME:CEST
DTSTART:20260329T010000
END:DAYLIGHT
BEGIN:STANDARD
TZOFFSETFROM:+0200
TZOFFSETTO:+0100
TZNAME:CET
DTSTART:20261025T010000
END:STANDARD
END:VTIMEZONE
BEGIN:VEVENT
DTSTART;TZID=Europe/Vienna:20250914T100000
DTEND;TZID=Europe/Vienna:20250914T100000
DTSTAMP:20260422T024747
CREATED:20241027T201539Z
LAST-MODIFIED:20241027T201539Z
UID:22995133-1757844000-1757844000@www.wuerflach.at
SUMMARY:Mostheuriger - Fam. Woltron
DESCRIPTION:  \n \nGenießen Sie prämierte\, selbsterzeugte\, traditionelle\, bodenständige Schmankerl: Fleisch- und Selchwaren\, Bauernbrot\, Most\, Cider\, Säfte\, Schnäpse uvm. \nFür die Kleinen gibt es einen Kinderspielplatz zum Bewegen und Austoben.
URL:https://www.wuerflach.at/event/mostheuriger-fam-woltron-75/
LOCATION:Heurigenlokal – Fam. Woltron\, Bogengasse 106\, Würflach\, NÖ\, 2732
CATEGORIES:Heuriger / Kulinarik
END:VEVENT
BEGIN:VEVENT
DTSTART;TZID=Europe/Vienna:20250914T110000
DTEND;TZID=Europe/Vienna:20250914T110000
DTSTAMP:20260422T024747
CREATED:20250129T215324Z
LAST-MODIFIED:20250807T154141Z
UID:22996013-1757847600-1757847600@www.wuerflach.at
SUMMARY:Frühschoppen bei der Klammwirtin
DESCRIPTION:Frühschoppen bei der Klammwirtin\,11:00 Uhr\,  mit „young\, strong & healthy“
URL:https://www.wuerflach.at/event/fruehschoppen-bei-der-klammwirtin-9/
LOCATION:Klammwirtin Würflach\, Klammgasse 383\, Würflach\, NÖ\, 2732
CATEGORIES:Fest / Ball / Musikveranstaltung
ORGANIZER;CN="Klammwirtin":MAILTO:info@klammwirtin.com
END:VEVENT
END:VCALENDAR