BEGIN:VCALENDAR
VERSION:2.0
PRODID:-//Gemeinde Wuerflach - ECPv6.15.19//NONSGML v1.0//EN
CALSCALE:GREGORIAN
METHOD:PUBLISH
X-ORIGINAL-URL:https://www.wuerflach.at
X-WR-CALDESC:Veranstaltungen für Gemeinde Wuerflach
REFRESH-INTERVAL;VALUE=DURATION:PT1H
X-Robots-Tag:noindex
X-PUBLISHED-TTL:PT1H
BEGIN:VTIMEZONE
TZID:Europe/Vienna
BEGIN:DAYLIGHT
TZOFFSETFROM:+0100
TZOFFSETTO:+0200
TZNAME:CEST
DTSTART:20240331T010000
END:DAYLIGHT
BEGIN:STANDARD
TZOFFSETFROM:+0200
TZOFFSETTO:+0100
TZNAME:CET
DTSTART:20241027T010000
END:STANDARD
BEGIN:DAYLIGHT
TZOFFSETFROM:+0100
TZOFFSETTO:+0200
TZNAME:CEST
DTSTART:20250330T010000
END:DAYLIGHT
BEGIN:STANDARD
TZOFFSETFROM:+0200
TZOFFSETTO:+0100
TZNAME:CET
DTSTART:20251026T010000
END:STANDARD
BEGIN:DAYLIGHT
TZOFFSETFROM:+0100
TZOFFSETTO:+0200
TZNAME:CEST
DTSTART:20260329T010000
END:DAYLIGHT
BEGIN:STANDARD
TZOFFSETFROM:+0200
TZOFFSETTO:+0100
TZNAME:CET
DTSTART:20261025T010000
END:STANDARD
END:VTIMEZONE
BEGIN:VEVENT
DTSTART;TZID=Europe/Vienna:20250318T130000
DTEND;TZID=Europe/Vienna:20250318T213000
DTSTAMP:20260422T140809
CREATED:20250221T063232Z
LAST-MODIFIED:20250221T063232Z
UID:22996236-1742302800-1742333400@www.wuerflach.at
SUMMARY:WWW - Männersache
DESCRIPTION:
URL:https://www.wuerflach.at/event/www-maennersache/
LOCATION:WellnessWelt Würflach\, Badgasse 110\, Würflach\, NÖ\, 2732
CATEGORIES:Sport / Bewegung
ORGANIZER;CN="W%C3%BCrflacher WellnessWelt":MAILTO:wellnesswelt@wuerflach.at
END:VEVENT
END:VCALENDAR