BEGIN:VCALENDAR
VERSION:2.0
PRODID:-//Gemeinde Wuerflach - ECPv6.15.19//NONSGML v1.0//EN
CALSCALE:GREGORIAN
METHOD:PUBLISH
X-ORIGINAL-URL:https://www.wuerflach.at
X-WR-CALDESC:Veranstaltungen für Gemeinde Wuerflach
REFRESH-INTERVAL;VALUE=DURATION:PT1H
X-Robots-Tag:noindex
X-PUBLISHED-TTL:PT1H
BEGIN:VTIMEZONE
TZID:Europe/Vienna
BEGIN:DAYLIGHT
TZOFFSETFROM:+0100
TZOFFSETTO:+0200
TZNAME:CEST
DTSTART:20240331T010000
END:DAYLIGHT
BEGIN:STANDARD
TZOFFSETFROM:+0200
TZOFFSETTO:+0100
TZNAME:CET
DTSTART:20241027T010000
END:STANDARD
BEGIN:DAYLIGHT
TZOFFSETFROM:+0100
TZOFFSETTO:+0200
TZNAME:CEST
DTSTART:20250330T010000
END:DAYLIGHT
BEGIN:STANDARD
TZOFFSETFROM:+0200
TZOFFSETTO:+0100
TZNAME:CET
DTSTART:20251026T010000
END:STANDARD
BEGIN:DAYLIGHT
TZOFFSETFROM:+0100
TZOFFSETTO:+0200
TZNAME:CEST
DTSTART:20260329T010000
END:DAYLIGHT
BEGIN:STANDARD
TZOFFSETFROM:+0200
TZOFFSETTO:+0100
TZNAME:CET
DTSTART:20261025T010000
END:STANDARD
END:VTIMEZONE
BEGIN:VEVENT
DTSTART;VALUE=DATE:20250116
DTEND;VALUE=DATE:20250117
DTSTAMP:20260422T174907
CREATED:20250106T161309Z
LAST-MODIFIED:20250106T161309Z
UID:22995590-1736985600-1737071999@www.wuerflach.at
SUMMARY:Grüne Tonnen Abholung Zone A und Zone B
DESCRIPTION:Wenn Sie ihre leere GRÜNE TONNE zurückgeben wollen –\ndiese bitte in der Früh vor ihre Liegenschaft stellen.\nSie werden im Laufe des Tages abgeholt.\nSollte es witterungsbedingt zu einer Verzögerung kommen\, bitte die Grüne Tonne auch länger stehen lassen. \n  \n 
URL:https://www.wuerflach.at/event/gruene-tonnen-abholung-zone-a-und-zone-b/
LOCATION:NÖ
CATEGORIES:Grüne Tonne
END:VEVENT
END:VCALENDAR